BEGIN:VCALENDAR
VERSION:2.0
PRODID:-//HAMBURG CITY WEBGUIDE - ECPv6.15.20//NONSGML v1.0//EN
CALSCALE:GREGORIAN
METHOD:PUBLISH
X-ORIGINAL-URL:https://www.hamburg-city-webguide.de
X-WR-CALDESC:Veranstaltungen für HAMBURG CITY WEBGUIDE
REFRESH-INTERVAL;VALUE=DURATION:PT1H
X-Robots-Tag:noindex
X-PUBLISHED-TTL:PT1H
BEGIN:VTIMEZONE
TZID:Europe/Helsinki
BEGIN:DAYLIGHT
TZOFFSETFROM:+0200
TZOFFSETTO:+0300
TZNAME:EEST
DTSTART:20240331T010000
END:DAYLIGHT
BEGIN:STANDARD
TZOFFSETFROM:+0300
TZOFFSETTO:+0200
TZNAME:EET
DTSTART:20241027T010000
END:STANDARD
BEGIN:DAYLIGHT
TZOFFSETFROM:+0200
TZOFFSETTO:+0300
TZNAME:EEST
DTSTART:20250330T010000
END:DAYLIGHT
BEGIN:STANDARD
TZOFFSETFROM:+0300
TZOFFSETTO:+0200
TZNAME:EET
DTSTART:20251026T010000
END:STANDARD
BEGIN:DAYLIGHT
TZOFFSETFROM:+0200
TZOFFSETTO:+0300
TZNAME:EEST
DTSTART:20260329T010000
END:DAYLIGHT
BEGIN:STANDARD
TZOFFSETFROM:+0300
TZOFFSETTO:+0200
TZNAME:EET
DTSTART:20261025T010000
END:STANDARD
BEGIN:DAYLIGHT
TZOFFSETFROM:+0200
TZOFFSETTO:+0300
TZNAME:EEST
DTSTART:20270328T010000
END:DAYLIGHT
BEGIN:STANDARD
TZOFFSETFROM:+0300
TZOFFSETTO:+0200
TZNAME:EET
DTSTART:20271031T010000
END:STANDARD
END:VTIMEZONE
BEGIN:VEVENT
DTSTART;TZID=Europe/Helsinki:20251015T000000
DTEND;TZID=Europe/Helsinki:20260707T235959
DTSTAMP:20260420T025151
CREATED:20251016T050203Z
LAST-MODIFIED:20251016T050624Z
UID:52113-1760486400-1783468799@www.hamburg-city-webguide.de
SUMMARY:Blutiger Boden. Die Tatorte des NSU
DESCRIPTION:Fotos von Regina Schmeken\n\n\n\n\n\nIm Jahr 2026 jährt sich der Mord am Hamburger Lebensmittelhändler Süleyman Taşköprü durch die rechtsradikale Terrorgruppe NSU zum 26. Mal. Die Künstlerin Regina Schmeken zeigt im Rahmen der Ausstellung Blutiger Boden. Die Tatorte des NSU in einer Fotoserie über die Tatorte in beeindruckender Weise\, wie rechtsextremer Terror in die Normalität einbrechen kann. \n\n\n\n\n\n\n\nDer NSU ermordete zwischen 200ß und 2007 10 Menschen in acht deutschen Städten. Die Opfer waren neun Männer türkischer und griechischer Abstammung und eine Polizistin. Zudem ist sie für sie zwei Sprengstoffanschläge in Nürnberg und Köln verantwortlich. \n\n\n\nDie Ausstellung fokussiert sich auf die Perspektive der Opfer. In einem interaktiven Erinnerungsraum können Besucher Informationen zu den Hintergründen der Mordserie abrufen. \n\n\n\n\nBericht\n\n\n\n\n\n\n\n\n\n\n\nRelated Images:
URL:https://www.hamburg-city-webguide.de/event/blutiger-boden-die-tatorte-des-nsu/
LOCATION:Altonaer Museum\, Museumstraße 23\, Hamburg\, 22765
CATEGORIES:Alle Events,Ausstellungen,Info
ATTACH;FMTTYPE=image/webp:https://www.hamburg-city-webguide.de/wp-content/uploads/2025/10/NSU-Ausstellung_002__c_beate_eckert-kraft-scaled.webp
END:VEVENT
END:VCALENDAR