BEGIN:VCALENDAR
VERSION:2.0
PRODID:-//HAMBURG CITY WEBGUIDE - ECPv6.15.20//NONSGML v1.0//EN
CALSCALE:GREGORIAN
METHOD:PUBLISH
X-ORIGINAL-URL:https://www.hamburg-city-webguide.de
X-WR-CALDESC:Veranstaltungen für HAMBURG CITY WEBGUIDE
REFRESH-INTERVAL;VALUE=DURATION:PT1H
X-Robots-Tag:noindex
X-PUBLISHED-TTL:PT1H
BEGIN:VTIMEZONE
TZID:Europe/Helsinki
BEGIN:DAYLIGHT
TZOFFSETFROM:+0200
TZOFFSETTO:+0300
TZNAME:EEST
DTSTART:20220327T010000
END:DAYLIGHT
BEGIN:STANDARD
TZOFFSETFROM:+0300
TZOFFSETTO:+0200
TZNAME:EET
DTSTART:20221030T010000
END:STANDARD
BEGIN:DAYLIGHT
TZOFFSETFROM:+0200
TZOFFSETTO:+0300
TZNAME:EEST
DTSTART:20230326T010000
END:DAYLIGHT
BEGIN:STANDARD
TZOFFSETFROM:+0300
TZOFFSETTO:+0200
TZNAME:EET
DTSTART:20231029T010000
END:STANDARD
BEGIN:DAYLIGHT
TZOFFSETFROM:+0200
TZOFFSETTO:+0300
TZNAME:EEST
DTSTART:20240331T010000
END:DAYLIGHT
BEGIN:STANDARD
TZOFFSETFROM:+0300
TZOFFSETTO:+0200
TZNAME:EET
DTSTART:20241027T010000
END:STANDARD
END:VTIMEZONE
BEGIN:VEVENT
DTSTART;TZID=Europe/Helsinki:20230903T133000
DTEND;TZID=Europe/Helsinki:20230903T133000
DTSTAMP:20260422T001525
CREATED:20230902T080203Z
LAST-MODIFIED:20230902T080343Z
UID:46270-1693747800-1693747800@www.hamburg-city-webguide.de
SUMMARY:Kicken mit Herz
DESCRIPTION:Benefizspiel für herzkranke Kinder\n\n\n\n\n\nDas Fest für die ganze Familie Kicken mit Herz geht in diesem Jahr in die 15. Runde. Dabei treten die Hamburg Allstars gegen die Placebo Kickers zu einem Benefizspiel für herzkranke Kinder im Stadion an der Hoheluft gegeneinander an. Neben Fußball gibt es auch eine Tombola. \n\n\n\n\n\n\n\n Unter den Spielern\n\n\n\nMit Felix Magath\, Ewald Lienen\, Barnes Mädel\, Ivan Klasnic\, Elton\,  Fabian Boll oder Ingo Zamperoni sindauch in diesem Jahr wieder einige „Raketen“ zu sehen. \n\n\n\n\nTickets\n\n\n\nProgramm\n\n\n\n\n\n\n\n\n\n\n\nRelated Images:
URL:https://www.hamburg-city-webguide.de/event/kicken-mit-herz/
CATEGORIES:Alle Events,Feste,Fußball
END:VEVENT
END:VCALENDAR