BEGIN:VCALENDAR
VERSION:2.0
PRODID:-//HAMBURG CITY WEBGUIDE - ECPv6.15.20//NONSGML v1.0//EN
CALSCALE:GREGORIAN
METHOD:PUBLISH
X-WR-CALNAME:HAMBURG CITY WEBGUIDE
X-ORIGINAL-URL:https://www.hamburg-city-webguide.de
X-WR-CALDESC:Veranstaltungen für HAMBURG CITY WEBGUIDE
REFRESH-INTERVAL;VALUE=DURATION:PT1H
X-Robots-Tag:noindex
X-PUBLISHED-TTL:PT1H
BEGIN:VTIMEZONE
TZID:Europe/Helsinki
BEGIN:DAYLIGHT
TZOFFSETFROM:+0200
TZOFFSETTO:+0300
TZNAME:EEST
DTSTART:20180325T010000
END:DAYLIGHT
BEGIN:STANDARD
TZOFFSETFROM:+0300
TZOFFSETTO:+0200
TZNAME:EET
DTSTART:20181028T010000
END:STANDARD
BEGIN:DAYLIGHT
TZOFFSETFROM:+0200
TZOFFSETTO:+0300
TZNAME:EEST
DTSTART:20190331T010000
END:DAYLIGHT
BEGIN:STANDARD
TZOFFSETFROM:+0300
TZOFFSETTO:+0200
TZNAME:EET
DTSTART:20191027T010000
END:STANDARD
BEGIN:DAYLIGHT
TZOFFSETFROM:+0200
TZOFFSETTO:+0300
TZNAME:EEST
DTSTART:20200329T010000
END:DAYLIGHT
BEGIN:STANDARD
TZOFFSETFROM:+0300
TZOFFSETTO:+0200
TZNAME:EET
DTSTART:20201025T010000
END:STANDARD
END:VTIMEZONE
BEGIN:VEVENT
DTSTART;TZID=Europe/Helsinki:20190109T193000
DTEND;TZID=Europe/Helsinki:20190113T193000
DTSTAMP:20260425T185442
CREATED:20150106T134850Z
LAST-MODIFIED:20181014T124414Z
UID:9437-1547062200-1547407800@www.hamburg-city-webguide.de
SUMMARY:TAO - Drum Heart
DESCRIPTION:DRUM TAO  ist ein Klangerlebnis\, das weltweit bereits 7 Mio Zuschauer in den Bann gezogen hat. TAO lässt die Besucher mit der neuen Show DRUM HEART den Rhythmus japanischer Kampfkunst spüren. \n \nTAO geht zurück auf die jahrhundertealte Wadaiko-Kunst und verbindet diese mit populären Elementen. Die Verbindung von Tradition und Moderne wirkt wie eine kleinReise durch Raum und Zeit. Die kraftvolle Performance verbindetden mystischen Sound der Taiko-Trommeln mit athletischen Tanzeinlagen. \nTickets \nRelated Images:
URL:https://www.hamburg-city-webguide.de/event/tao-drum-heart/
CATEGORIES:Alle Events,Shows,Tanz
ORGANIZER;CN="Collien Konzert & Theater GmbH":MAILTO:info@collien.com
END:VEVENT
END:VCALENDAR