BEGIN:VCALENDAR
VERSION:2.0
PRODID:-//HAMBURG CITY WEBGUIDE - ECPv6.15.20//NONSGML v1.0//EN
CALSCALE:GREGORIAN
METHOD:PUBLISH
X-WR-CALNAME:HAMBURG CITY WEBGUIDE
X-ORIGINAL-URL:https://www.hamburg-city-webguide.de
X-WR-CALDESC:Veranstaltungen für HAMBURG CITY WEBGUIDE
REFRESH-INTERVAL;VALUE=DURATION:PT1H
X-Robots-Tag:noindex
X-PUBLISHED-TTL:PT1H
BEGIN:VTIMEZONE
TZID:Europe/Helsinki
BEGIN:DAYLIGHT
TZOFFSETFROM:+0200
TZOFFSETTO:+0300
TZNAME:EEST
DTSTART:20210328T010000
END:DAYLIGHT
BEGIN:STANDARD
TZOFFSETFROM:+0300
TZOFFSETTO:+0200
TZNAME:EET
DTSTART:20211031T010000
END:STANDARD
BEGIN:DAYLIGHT
TZOFFSETFROM:+0200
TZOFFSETTO:+0300
TZNAME:EEST
DTSTART:20220327T010000
END:DAYLIGHT
BEGIN:STANDARD
TZOFFSETFROM:+0300
TZOFFSETTO:+0200
TZNAME:EET
DTSTART:20221030T010000
END:STANDARD
BEGIN:DAYLIGHT
TZOFFSETFROM:+0200
TZOFFSETTO:+0300
TZNAME:EEST
DTSTART:20230326T010000
END:DAYLIGHT
BEGIN:STANDARD
TZOFFSETFROM:+0300
TZOFFSETTO:+0200
TZNAME:EET
DTSTART:20231029T010000
END:STANDARD
END:VTIMEZONE
BEGIN:VEVENT
DTSTART;TZID=Europe/Helsinki:20221029T230000
DTEND;TZID=Europe/Helsinki:20221029T230000
DTSTAMP:20260420T125901
CREATED:20180110T233828Z
LAST-MODIFIED:20221026T163035Z
UID:25891-1667084400-1667084400@www.hamburg-city-webguide.de
SUMMARY:MOUSSE T AT THE MOJO
DESCRIPTION:Der Grammy-nominierte Produzent MOUSSE T ist immer noch einer der gefragtesten Songwriter. Mit einem stilsicheren Mix aus feinstem Soul\, Funk & House ist er seit mehr als 20 Jahren fester Bestandteil der nationalen\, als auch internationalen Musikszene. \n \nMit seinem exklusiven VINYL SPECIAL lockt er wieder tanzwütige Seelen auf das Parkett. \nRelated Images:
URL:https://www.hamburg-city-webguide.de/event/mousse-t-at-the-mojo/
LOCATION:mojo club\, Reeperbahn 1\, Hamburg\, 20359
CATEGORIES:Alle Events,Party
END:VEVENT
END:VCALENDAR