BEGIN:VCALENDAR
VERSION:2.0
PRODID:-//HAMBURG CITY WEBGUIDE - ECPv6.15.20//NONSGML v1.0//EN
CALSCALE:GREGORIAN
METHOD:PUBLISH
X-WR-CALNAME:HAMBURG CITY WEBGUIDE
X-ORIGINAL-URL:https://www.hamburg-city-webguide.de
X-WR-CALDESC:Veranstaltungen für HAMBURG CITY WEBGUIDE
REFRESH-INTERVAL;VALUE=DURATION:PT1H
X-Robots-Tag:noindex
X-PUBLISHED-TTL:PT1H
BEGIN:VTIMEZONE
TZID:Europe/Helsinki
BEGIN:DAYLIGHT
TZOFFSETFROM:+0200
TZOFFSETTO:+0300
TZNAME:EEST
DTSTART:20250330T010000
END:DAYLIGHT
BEGIN:STANDARD
TZOFFSETFROM:+0300
TZOFFSETTO:+0200
TZNAME:EET
DTSTART:20251026T010000
END:STANDARD
BEGIN:DAYLIGHT
TZOFFSETFROM:+0200
TZOFFSETTO:+0300
TZNAME:EEST
DTSTART:20260329T010000
END:DAYLIGHT
BEGIN:STANDARD
TZOFFSETFROM:+0300
TZOFFSETTO:+0200
TZNAME:EET
DTSTART:20261025T010000
END:STANDARD
BEGIN:DAYLIGHT
TZOFFSETFROM:+0200
TZOFFSETTO:+0300
TZNAME:EEST
DTSTART:20270328T010000
END:DAYLIGHT
BEGIN:STANDARD
TZOFFSETFROM:+0300
TZOFFSETTO:+0200
TZNAME:EET
DTSTART:20271031T010000
END:STANDARD
END:VTIMEZONE
BEGIN:VEVENT
DTSTART;TZID=Europe/Helsinki:20260710T000000
DTEND;TZID=Europe/Helsinki:20260711T235959
DTSTAMP:20260423T021109
CREATED:20260102T153704Z
LAST-MODIFIED:20260325T091023Z
UID:52349-1783641600-1783814399@www.hamburg-city-webguide.de
SUMMARY:ELBJAZZ Festival 2026
DESCRIPTION:Zum 13. Mal verwandelt sich der Hafen im Rahmen des ELBJAZZ Festivals zu einem Umschlagplatz für internationalen Jazz. Rund 50 Konzerte mit bekannten Künstlern und Newcomern auf diversen Bühnen vom Schiffsbauch bis zum Werftgelände von Blohm+Voss zeigen die unterschiedlichen Spielarten des Jazz. Es sind auch wieder Reservierungen für die Konzerte in der Elbhilharmonie möglich.  \n\n\n\n\n\n\n\nFREITAG 10. Juli \n\n\n\nJAMIE CULLUM | JOSS STONE | GREENTEA PENG  LIZZ WRIGHT | DON WEST | GOGO PENGUIN | NDR BIGBAND & JOHN BEASLEY | HERBERT & MOMOKO | DAOUD | IN CAHOOTS feat. INGRID LAUBROCK \n\n\n\nSONNABEND 11. Juli \n\n\n\nTOM JONES | CHILLY GONZALES | SNARKY PUPPY | GOGO PENGUIN | JOSE JAMES feat. CHINA MOSES | CHRISTONE „KINGFISH“ INGRAM | NUBYA GARCIA | THE BAD PLUS |  DOMINIQUE FILS AIME | JOWEE OMCIL \n\n\n\n\nTickets\n\n\n\n\n\n\n\n\n\n\n\nRelated Images:
URL:https://www.hamburg-city-webguide.de/event/elbjazz-festival-2026/
LOCATION:Blohm + Voss\, Hermann-Blohm-Strasse 3 \, Hamburg\, 20457 
CATEGORIES:Alle Events,Festivals,Soul/Funk/Jazz
ATTACH;FMTTYPE=image/jpeg:https://www.hamburg-city-webguide.de/wp-content/uploads/2019/06/Jamie-Cullum_001.jpg
ORGANIZER;CN="ELBJAZZ GmbH":MAILTO:ahoi@elbjazz.de
END:VEVENT
END:VCALENDAR