BEGIN:VCALENDAR
VERSION:2.0
PRODID:-//HAMBURG CITY WEBGUIDE - ECPv6.15.20//NONSGML v1.0//EN
CALSCALE:GREGORIAN
METHOD:PUBLISH
X-ORIGINAL-URL:https://www.hamburg-city-webguide.de
X-WR-CALDESC:Veranstaltungen für HAMBURG CITY WEBGUIDE
REFRESH-INTERVAL;VALUE=DURATION:PT1H
X-Robots-Tag:noindex
X-PUBLISHED-TTL:PT1H
BEGIN:VTIMEZONE
TZID:Europe/Helsinki
BEGIN:DAYLIGHT
TZOFFSETFROM:+0200
TZOFFSETTO:+0300
TZNAME:EEST
DTSTART:20240331T010000
END:DAYLIGHT
BEGIN:STANDARD
TZOFFSETFROM:+0300
TZOFFSETTO:+0200
TZNAME:EET
DTSTART:20241027T010000
END:STANDARD
BEGIN:DAYLIGHT
TZOFFSETFROM:+0200
TZOFFSETTO:+0300
TZNAME:EEST
DTSTART:20250330T010000
END:DAYLIGHT
BEGIN:STANDARD
TZOFFSETFROM:+0300
TZOFFSETTO:+0200
TZNAME:EET
DTSTART:20251026T010000
END:STANDARD
BEGIN:DAYLIGHT
TZOFFSETFROM:+0200
TZOFFSETTO:+0300
TZNAME:EEST
DTSTART:20260329T010000
END:DAYLIGHT
BEGIN:STANDARD
TZOFFSETFROM:+0300
TZOFFSETTO:+0200
TZNAME:EET
DTSTART:20261025T010000
END:STANDARD
END:VTIMEZONE
BEGIN:VEVENT
DTSTART;TZID=Europe/Helsinki:20250718T200000
DTEND;TZID=Europe/Helsinki:20250718T200000
DTSTAMP:20260420T063920
CREATED:20230418T180616Z
LAST-MODIFIED:20250502T151144Z
UID:45235-1752868800-1752868800@www.hamburg-city-webguide.de
SUMMARY:Mother's Finest
DESCRIPTION:Metal Funk Legenden in der Fabrik\n\n\n\n\n\nMit ihrer Mischung aus Metal und Funk und den charismatischen Sängern Glenn Murdock und Joyce Kennedy haben Mother’s Finest Geschichte geschrieben. Ihr Auftritt im Rockpalast 1978 war wegweisend für viele Musiker-Generationen. Seitdem sind fast 45 Jahre vergangen und Hits wie Baby Love und Mickey’s Monkey sind so lebendig wie je zuvor. \n\n\n\n\n\n\n\nMit den Lead Sängern Glenn Murdock und Joyce Kennedy\, Gary »Moses Mo« Moore und John Hayes an der Gitarre sowie Bassist Jerry »Wyzard« Seay am Bass und Dion Murdock an den Drums treten sie in der Originalbesetzung an. \n\n\n\n\nTickets\n\n\n\nBericht\n\n\n\n\n\n\n\n\n\n\n\nRelated Images:
URL:https://www.hamburg-city-webguide.de/event/mothers-finest-2/
LOCATION:Markthalle\, Klosterwall 11\, Hamburg\, 20095
CATEGORIES:Alle Events,Rock/Pop,Soul/Funk/Jazz
ATTACH;FMTTYPE=image/jpeg:https://www.hamburg-city-webguide.de/wp-content/uploads/2023/04/mothers-finest.jpg
END:VEVENT
END:VCALENDAR