BEGIN:VCALENDAR
VERSION:2.0
PRODID:-//HAMBURG CITY WEBGUIDE - ECPv6.15.20//NONSGML v1.0//EN
CALSCALE:GREGORIAN
METHOD:PUBLISH
X-ORIGINAL-URL:https://www.hamburg-city-webguide.de
X-WR-CALDESC:Veranstaltungen für HAMBURG CITY WEBGUIDE
REFRESH-INTERVAL;VALUE=DURATION:PT1H
X-Robots-Tag:noindex
X-PUBLISHED-TTL:PT1H
BEGIN:VTIMEZONE
TZID:Europe/Helsinki
BEGIN:DAYLIGHT
TZOFFSETFROM:+0200
TZOFFSETTO:+0300
TZNAME:EEST
DTSTART:20130331T010000
END:DAYLIGHT
BEGIN:STANDARD
TZOFFSETFROM:+0300
TZOFFSETTO:+0200
TZNAME:EET
DTSTART:20131027T010000
END:STANDARD
BEGIN:DAYLIGHT
TZOFFSETFROM:+0200
TZOFFSETTO:+0300
TZNAME:EEST
DTSTART:20140330T010000
END:DAYLIGHT
BEGIN:STANDARD
TZOFFSETFROM:+0300
TZOFFSETTO:+0200
TZNAME:EET
DTSTART:20141026T010000
END:STANDARD
BEGIN:DAYLIGHT
TZOFFSETFROM:+0200
TZOFFSETTO:+0300
TZNAME:EEST
DTSTART:20150329T010000
END:DAYLIGHT
BEGIN:STANDARD
TZOFFSETFROM:+0300
TZOFFSETTO:+0200
TZNAME:EET
DTSTART:20151025T010000
END:STANDARD
BEGIN:DAYLIGHT
TZOFFSETFROM:+0200
TZOFFSETTO:+0300
TZNAME:EEST
DTSTART:20160327T010000
END:DAYLIGHT
BEGIN:STANDARD
TZOFFSETFROM:+0300
TZOFFSETTO:+0200
TZNAME:EET
DTSTART:20161030T010000
END:STANDARD
END:VTIMEZONE
BEGIN:VEVENT
DTSTART;TZID=Europe/Helsinki:20150916T200000
DTEND;TZID=Europe/Helsinki:20150916T200000
DTSTAMP:20260420T133809
CREATED:20150901T042801Z
LAST-MODIFIED:20150901T043329Z
UID:13430-1442433600-1442433600@www.hamburg-city-webguide.de
SUMMARY:elbjazz tracks 424 - Get the Blessing
DESCRIPTION:Im Rahmen der elbjazz tracks 424 präsentiert Get the Blesing ihr neues Album „Astronautilus“. Das britische Quartett besteht mit Jim Barr  am Bass und Clive Deamer an den Drums zur Hälfte aus Portishead-Musikern\, was bereits stilistisch auf  Jazz mit Punk-Attitüde schließen lässt. \n \nTickets \nRelated Images:
URL:https://www.hamburg-city-webguide.de/event/elbjazz-tracks-424-get-the-blessing/
LOCATION:Oberhafen Halle 424\,  Stockmeyerstr. 43 \, Hamburg\, 20457 
CATEGORIES:Alle Events,Konzerte
ATTACH;FMTTYPE=image/jpeg:https://www.hamburg-city-webguide.de/wp-content/uploads/2015/09/get-the-belssing-e1441081952926.jpg
ORGANIZER;CN="ELBJAZZ GmbH":MAILTO:ahoi@elbjazz.de
END:VEVENT
BEGIN:VEVENT
DTSTART;TZID=Europe/Helsinki:20150515T090000
DTEND;TZID=Europe/Helsinki:20150515T180000
DTSTAMP:20260420T133809
CREATED:20150409T092449Z
LAST-MODIFIED:20150409T092825Z
UID:11052-1431680400-1431712800@www.hamburg-city-webguide.de
SUMMARY:Aktionstag Faszination Schiff
DESCRIPTION:Am Aktionstag Faszination Schiff können Kinder und Jugendliche Touren und Workshops rund um den Hamburger Hafen besuche. Für Jugendliche gibt es auch die Möglichkeit\, sich über Ausbildungsmöglichkeiten und die Arbeit der Firmen im Hafen zu informieren. \n \nTickets \nVorbericht \nRelated Images:
URL:https://www.hamburg-city-webguide.de/event/aktionstag-faszination-schiff/
LOCATION:Deutsches Hafenmuseum\, Australiastraße 50B\, Hamburg\, 20457
CATEGORIES:Alle Events,Info,Touren,Workshops
ATTACH;FMTTYPE=image/jpeg:https://www.hamburg-city-webguide.de/wp-content/uploads/ngg_featured/20141121_153836.jpg
ORGANIZER;CN="Hamburgische Gesellschaft f%C3%BCr Wirtschaftsf%C3%B6rderung mbH":MAILTO:heike.blume@hwf-hamburg.de
END:VEVENT
BEGIN:VEVENT
DTSTART;TZID=Europe/Helsinki:20141123T080000
DTEND;TZID=Europe/Helsinki:20141123T170000
DTSTAMP:20260420T133809
CREATED:20141023T205435Z
LAST-MODIFIED:20141023T210151Z
UID:8934-1416729600-1416762000@www.hamburg-city-webguide.de
SUMMARY:Das Wunder von Bern - Weltpremiere
DESCRIPTION:Die Weltpremiere des neuen Musicals Das Wunder von Bern im neuen Stage Theater an der Elbe \, das eine bewegende Familiengeschichte vor dem Hintergrund der Fußball Weltmeisterschaft 1954 erzählt.. Die Geschichte basiert auf  dem gleichnamigen Film von Sönke Wortmann. \n \nTickets \nRelated Images:
URL:https://www.hamburg-city-webguide.de/event/das-wunder-von-bern-weltpremiere/
LOCATION:Stage Theater an der Elbe\, Rohrweg 13\, Hamburg\, 20457
CATEGORIES:Alle Events,Musicals
ATTACH;FMTTYPE=image/jpeg:https://www.hamburg-city-webguide.de/wp-content/uploads/2014/10/P1050800.jpg
END:VEVENT
BEGIN:VEVENT
DTSTART;TZID=Europe/Helsinki:20140912T200000
DTEND;TZID=Europe/Helsinki:20140912T200000
DTSTAMP:20260420T133809
CREATED:20140911T033434Z
LAST-MODIFIED:20140913T160010Z
UID:7700-1410552000-1410552000@www.hamburg-city-webguide.de
SUMMARY:Andrea Sawatzki: Von Erholung war nie die Rede
DESCRIPTION:Andrea Sawatzki berichtet in ihrem neuen Roman  „Von Erholung war nie die Rede“ davon\, dass ein Urlaub\, selbst wenn er kostenlos ist\, nicht immer Entspannung und Erholung bietet. Das Event findet im Rahmen des Harbour Front Festivals statt. \nTickets \n  \nRelated Images:
URL:https://www.hamburg-city-webguide.de/event/7700/
LOCATION:Gruner+Jahr Pressehaus am Baumwall Am\, Baumwall 11\, Hamburg\, 20459
CATEGORIES:Alle Events,Literatur
ATTACH;FMTTYPE=image/png:https://www.hamburg-city-webguide.de/wp-content/uploads/2014/08/harbour_front_logo_2014.png
END:VEVENT
BEGIN:VEVENT
DTSTART;TZID=Europe/Helsinki:20140719T080000
DTEND;TZID=Europe/Helsinki:20140719T170000
DTSTAMP:20260420T133809
CREATED:20140710T111434Z
LAST-MODIFIED:20140812T183255Z
UID:6533-1405756800-1405789200@www.hamburg-city-webguide.de
SUMMARY:Jubiläum Qeen Mary 2
DESCRIPTION:Am 19. Juli 2004 war die Queen Mary 2 das erste Mal in Hamburg. Seitdem erlebt der Hafen einen einzigartigen Boom der Kreuzfahtschiffe. \nZur Feier des Tages wird die Queen Mary 2 ab 8 Uhr in den Hafen einlaufen. Bei der Einfahrt soll sie mit einem Fahnenmeer begrüsst werden. \n \nDas Jubilå um soll anschließend mit einem großen Fest gefeierrt werden. \nRelated Images:
URL:https://www.hamburg-city-webguide.de/event/jubilaum-qeen-mary-2/
CATEGORIES:Alle Events,Feste
ATTACH;FMTTYPE=image/jpeg:https://www.hamburg-city-webguide.de/wp-content/uploads/2014/06/queen_mary2.jpg
END:VEVENT
END:VCALENDAR