BEGIN:VCALENDAR
VERSION:2.0
PRODID:-//HAMBURG CITY WEBGUIDE - ECPv6.15.20//NONSGML v1.0//EN
CALSCALE:GREGORIAN
METHOD:PUBLISH
X-ORIGINAL-URL:https://www.hamburg-city-webguide.de
X-WR-CALDESC:Veranstaltungen für HAMBURG CITY WEBGUIDE
REFRESH-INTERVAL;VALUE=DURATION:PT1H
X-Robots-Tag:noindex
X-PUBLISHED-TTL:PT1H
BEGIN:VTIMEZONE
TZID:Europe/Helsinki
BEGIN:DAYLIGHT
TZOFFSETFROM:+0200
TZOFFSETTO:+0300
TZNAME:EEST
DTSTART:20240331T010000
END:DAYLIGHT
BEGIN:STANDARD
TZOFFSETFROM:+0300
TZOFFSETTO:+0200
TZNAME:EET
DTSTART:20241027T010000
END:STANDARD
BEGIN:DAYLIGHT
TZOFFSETFROM:+0200
TZOFFSETTO:+0300
TZNAME:EEST
DTSTART:20250330T010000
END:DAYLIGHT
BEGIN:STANDARD
TZOFFSETFROM:+0300
TZOFFSETTO:+0200
TZNAME:EET
DTSTART:20251026T010000
END:STANDARD
BEGIN:DAYLIGHT
TZOFFSETFROM:+0200
TZOFFSETTO:+0300
TZNAME:EEST
DTSTART:20260329T010000
END:DAYLIGHT
BEGIN:STANDARD
TZOFFSETFROM:+0300
TZOFFSETTO:+0200
TZNAME:EET
DTSTART:20261025T010000
END:STANDARD
END:VTIMEZONE
BEGIN:VEVENT
DTSTART;TZID=Europe/Helsinki:20250924T200000
DTEND;TZID=Europe/Helsinki:20250924T200000
DTSTAMP:20260420T005713
CREATED:20250923T090048Z
LAST-MODIFIED:20251222T015809Z
UID:51909-1758744000-1758744000@www.hamburg-city-webguide.de
SUMMARY:Hamburg Towers - Bamberg Baskets
DESCRIPTION:BBL Pokal 1. Runde \n\n\n\n\n\n\n\n\nTickets\n\n\n\n\n \n\n\n\n\n\n\n\n\n\n\nRelated Images:
URL:https://www.hamburg-city-webguide.de/event/hamburg-towers-bamberg-baskets/
LOCATION:Inselpark Arena\, Kurt-Emmerich-Platz 10\, Hamburg\, 21109
CATEGORIES:Alle Events,Basketball
END:VEVENT
BEGIN:VEVENT
DTSTART;TZID=Europe/Helsinki:20250928T150000
DTEND;TZID=Europe/Helsinki:20250928T150000
DTSTAMP:20260420T005713
CREATED:20240305T225250Z
LAST-MODIFIED:20250923T090329Z
UID:47659-1759071600-1759071600@www.hamburg-city-webguide.de
SUMMARY:Hamburg Towers - MBC
DESCRIPTION:Basketball-Bundesliga 1. Spieltag \n\n\n\n\n\n\n\n\nTickets\n\n\n\n\n\n\n\n\n\n\n\nRelated Images:
URL:https://www.hamburg-city-webguide.de/event/hamburg-towers-mbc/
LOCATION:Inselpark Arena\, Kurt-Emmerich-Platz 10\, Hamburg\, 21109
CATEGORIES:Alle Events,Basketball
END:VEVENT
BEGIN:VEVENT
DTSTART;TZID=Europe/Helsinki:20250930T193000
DTEND;TZID=Europe/Helsinki:20250930T193000
DTSTAMP:20260420T005713
CREATED:20240914T093941Z
LAST-MODIFIED:20251222T020011Z
UID:49577-1759260600-1759260600@www.hamburg-city-webguide.de
SUMMARY:Hamburg Towers - Hapoel Jerusalem
DESCRIPTION:Basketball-EuroCup 1. Spieltag \n\n\n\n\n\n\n\n\nTickets\n\n\n\n\n\n\n\n\n\n\n\nRelated Images:
URL:https://www.hamburg-city-webguide.de/event/hamburg-towers-u-bt-cluj/
LOCATION:Inselpark Arena\, Kurt-Emmerich-Platz 10\, Hamburg\, 21109
CATEGORIES:Alle Events,Basketball
END:VEVENT
END:VCALENDAR