BEGIN:VCALENDAR
VERSION:2.0
PRODID:-//HAMBURG CITY WEBGUIDE - ECPv6.15.20//NONSGML v1.0//EN
CALSCALE:GREGORIAN
METHOD:PUBLISH
X-WR-CALNAME:HAMBURG CITY WEBGUIDE
X-ORIGINAL-URL:https://www.hamburg-city-webguide.de
X-WR-CALDESC:Veranstaltungen für HAMBURG CITY WEBGUIDE
REFRESH-INTERVAL;VALUE=DURATION:PT1H
X-Robots-Tag:noindex
X-PUBLISHED-TTL:PT1H
BEGIN:VTIMEZONE
TZID:Europe/Helsinki
BEGIN:DAYLIGHT
TZOFFSETFROM:+0200
TZOFFSETTO:+0300
TZNAME:EEST
DTSTART:20240331T010000
END:DAYLIGHT
BEGIN:STANDARD
TZOFFSETFROM:+0300
TZOFFSETTO:+0200
TZNAME:EET
DTSTART:20241027T010000
END:STANDARD
BEGIN:DAYLIGHT
TZOFFSETFROM:+0200
TZOFFSETTO:+0300
TZNAME:EEST
DTSTART:20250330T010000
END:DAYLIGHT
BEGIN:STANDARD
TZOFFSETFROM:+0300
TZOFFSETTO:+0200
TZNAME:EET
DTSTART:20251026T010000
END:STANDARD
BEGIN:DAYLIGHT
TZOFFSETFROM:+0200
TZOFFSETTO:+0300
TZNAME:EEST
DTSTART:20260329T010000
END:DAYLIGHT
BEGIN:STANDARD
TZOFFSETFROM:+0300
TZOFFSETTO:+0200
TZNAME:EET
DTSTART:20261025T010000
END:STANDARD
END:VTIMEZONE
BEGIN:VEVENT
DTSTART;TZID=Europe/Helsinki:20251012T180000
DTEND;TZID=Europe/Helsinki:20251012T180000
DTSTAMP:20260419T233415
CREATED:20220925T125316Z
LAST-MODIFIED:20251222T021200Z
UID:43519-1760292000-1760292000@www.hamburg-city-webguide.de
SUMMARY:Hamburg Towers - Baskets Bonn
DESCRIPTION:BBL Basketball-Bundesliga 4. Spieltag \n\n\n\n\n\n\n\n\nTickets\n\n\n\n\n \n\n\n\n\n\n\n\n\n\n\nRelated Images:
URL:https://www.hamburg-city-webguide.de/event/hamburg-towers-baskets-bonn/
LOCATION:Inselpark Arena\, Kurt-Emmerich-Platz 10\, Hamburg\, 21109
CATEGORIES:Alle Events,Basketball
END:VEVENT
BEGIN:VEVENT
DTSTART;TZID=Europe/Helsinki:20251014T193000
DTEND;TZID=Europe/Helsinki:20251014T193000
DTSTAMP:20260419T233415
CREATED:20250923T091333Z
LAST-MODIFIED:20251222T015745Z
UID:51914-1760470200-1760470200@www.hamburg-city-webguide.de
SUMMARY:Hamburg Towers -Bahcesehir Istanbul
DESCRIPTION:Basketball EuroCup 3. Spieltag \n\n\n\n\n\n\n\n\nTickets\n\n\n\n\n\n\n\n\n\n\n\nRelated Images:
URL:https://www.hamburg-city-webguide.de/event/hamburg-towers-bahcesehir-istanbul/
LOCATION:Inselpark Arena\, Kurt-Emmerich-Platz 10\, Hamburg\, 21109
CATEGORIES:Alle Events,Basketball
END:VEVENT
BEGIN:VEVENT
DTSTART;TZID=Europe/Helsinki:20251028T193000
DTEND;TZID=Europe/Helsinki:20251028T193000
DTSTAMP:20260419T233415
CREATED:20250923T091933Z
LAST-MODIFIED:20251222T015716Z
UID:51916-1761679800-1761679800@www.hamburg-city-webguide.de
SUMMARY:Hamburg Towers - BT Cluj
DESCRIPTION:Basketball EuroCup 5. Spieltag \n\n\n\n\n\n\n\n\nTickets\n\n\n\n\n \n\n\n\n\n\n\n\n\n\n\nRelated Images:
URL:https://www.hamburg-city-webguide.de/event/hamburg-towers-bt-cluj/
LOCATION:Inselpark Arena\, Kurt-Emmerich-Platz 10\, Hamburg\, 21109
CATEGORIES:Alle Events,Basketball
END:VEVENT
END:VCALENDAR