BEGIN:VCALENDAR
VERSION:2.0
PRODID:-//HAMBURG CITY WEBGUIDE - ECPv6.15.20//NONSGML v1.0//EN
CALSCALE:GREGORIAN
METHOD:PUBLISH
X-ORIGINAL-URL:https://www.hamburg-city-webguide.de
X-WR-CALDESC:Veranstaltungen für HAMBURG CITY WEBGUIDE
REFRESH-INTERVAL;VALUE=DURATION:PT1H
X-Robots-Tag:noindex
X-PUBLISHED-TTL:PT1H
BEGIN:VTIMEZONE
TZID:Europe/Helsinki
BEGIN:DAYLIGHT
TZOFFSETFROM:+0200
TZOFFSETTO:+0300
TZNAME:EEST
DTSTART:20240331T010000
END:DAYLIGHT
BEGIN:STANDARD
TZOFFSETFROM:+0300
TZOFFSETTO:+0200
TZNAME:EET
DTSTART:20241027T010000
END:STANDARD
BEGIN:DAYLIGHT
TZOFFSETFROM:+0200
TZOFFSETTO:+0300
TZNAME:EEST
DTSTART:20250330T010000
END:DAYLIGHT
BEGIN:STANDARD
TZOFFSETFROM:+0300
TZOFFSETTO:+0200
TZNAME:EET
DTSTART:20251026T010000
END:STANDARD
BEGIN:DAYLIGHT
TZOFFSETFROM:+0200
TZOFFSETTO:+0300
TZNAME:EEST
DTSTART:20260329T010000
END:DAYLIGHT
BEGIN:STANDARD
TZOFFSETFROM:+0300
TZOFFSETTO:+0200
TZNAME:EET
DTSTART:20261025T010000
END:STANDARD
END:VTIMEZONE
BEGIN:VEVENT
DTSTART;TZID=Europe/Helsinki:20251214T180000
DTEND;TZID=Europe/Helsinki:20251214T180000
DTSTAMP:20260419T203544
CREATED:20230327T001704Z
LAST-MODIFIED:20251222T021032Z
UID:44950-1765735200-1765735200@www.hamburg-city-webguide.de
SUMMARY:Hamburg Towers - ALBA Berlin
DESCRIPTION:Basketball-Bundesliga 10. Spieltag \n\n\n\n\n\n\n\n\nTickets\n\n\n\n\n\n\n\n\n\n\n\nRelated Images:
URL:https://www.hamburg-city-webguide.de/event/hamburg-towers-alba-berlin-2/
LOCATION:Barclays Arena\, Hellgrundweg 44\, Hamburg\, 22525
CATEGORIES:Alle Events,Basketball
END:VEVENT
BEGIN:VEVENT
DTSTART;TZID=Europe/Helsinki:20251217T193000
DTEND;TZID=Europe/Helsinki:20251217T193000
DTSTAMP:20260419T203544
CREATED:20250923T093659Z
LAST-MODIFIED:20251222T015636Z
UID:51924-1765999800-1765999800@www.hamburg-city-webguide.de
SUMMARY:Hamburg Towers - Aris Thessaloniki
DESCRIPTION:Basketball EuroCup 11. Spieltag \n\n\n\n\n\n\n\n\nTickets\n\n\n\n\n \n\n\n\n\n\n\n\n\n\n\nRelated Images:
URL:https://www.hamburg-city-webguide.de/event/hamburg-towers-aris-thessaloniki/
LOCATION:Inselpark Arena\, Kurt-Emmerich-Platz 10\, Hamburg\, 21109
CATEGORIES:Alle Events,Basketball
END:VEVENT
BEGIN:VEVENT
DTSTART;TZID=Europe/Helsinki:20251227T183000
DTEND;TZID=Europe/Helsinki:20251227T183000
DTSTAMP:20260419T203544
CREATED:20231024T041345Z
LAST-MODIFIED:20251222T020140Z
UID:46806-1766860200-1766860200@www.hamburg-city-webguide.de
SUMMARY:Hamburg Towers - Baskets Oldenburg
DESCRIPTION:Basketball-Bundesliga 4. Spieltag \n\n\n\n\n\n\n\n\nTickets\n\n\n\n\n\n\n\n\n\n\n\nRelated Images:
URL:https://www.hamburg-city-webguide.de/event/hamburg-towers-baskets-oldenburg/
LOCATION:Inselpark Arena\, Kurt-Emmerich-Platz 10\, Hamburg\, 21109
CATEGORIES:Alle Events,Basketball
END:VEVENT
END:VCALENDAR