BEGIN:VCALENDAR
VERSION:2.0
PRODID:-//HAMBURG CITY WEBGUIDE - ECPv6.15.20//NONSGML v1.0//EN
CALSCALE:GREGORIAN
METHOD:PUBLISH
X-WR-CALNAME:HAMBURG CITY WEBGUIDE
X-ORIGINAL-URL:https://www.hamburg-city-webguide.de
X-WR-CALDESC:Veranstaltungen für HAMBURG CITY WEBGUIDE
REFRESH-INTERVAL;VALUE=DURATION:PT1H
X-Robots-Tag:noindex
X-PUBLISHED-TTL:PT1H
BEGIN:VTIMEZONE
TZID:Europe/Helsinki
BEGIN:DAYLIGHT
TZOFFSETFROM:+0200
TZOFFSETTO:+0300
TZNAME:EEST
DTSTART:20250330T010000
END:DAYLIGHT
BEGIN:STANDARD
TZOFFSETFROM:+0300
TZOFFSETTO:+0200
TZNAME:EET
DTSTART:20251026T010000
END:STANDARD
BEGIN:DAYLIGHT
TZOFFSETFROM:+0200
TZOFFSETTO:+0300
TZNAME:EEST
DTSTART:20260329T010000
END:DAYLIGHT
BEGIN:STANDARD
TZOFFSETFROM:+0300
TZOFFSETTO:+0200
TZNAME:EET
DTSTART:20261025T010000
END:STANDARD
BEGIN:DAYLIGHT
TZOFFSETFROM:+0200
TZOFFSETTO:+0300
TZNAME:EEST
DTSTART:20270328T010000
END:DAYLIGHT
BEGIN:STANDARD
TZOFFSETFROM:+0300
TZOFFSETTO:+0200
TZNAME:EET
DTSTART:20271031T010000
END:STANDARD
END:VTIMEZONE
BEGIN:VEVENT
DTSTART;TZID=Europe/Helsinki:20260118T150000
DTEND;TZID=Europe/Helsinki:20260118T150000
DTSTAMP:20260419T191836
CREATED:20230919T034309Z
LAST-MODIFIED:20260115T110406Z
UID:46440-1768748400-1768748400@www.hamburg-city-webguide.de
SUMMARY:Hamburg Towers - Ratiopharm Ulm
DESCRIPTION:Basketball-Bundesliga 16. Spieltag \n\n\n\n\n\n\n\n\nTickets\n\n\n\n\n\n\n\n\n\n\n\nRelated Images:
URL:https://www.hamburg-city-webguide.de/event/hamburg-towers-ratiopharm-ulm/
LOCATION:Inselpark Arena\, Kurt-Emmerich-Platz 10\, Hamburg\, 21109
CATEGORIES:Alle Events,Basketball
END:VEVENT
BEGIN:VEVENT
DTSTART;TZID=Europe/Helsinki:20260128T193000
DTEND;TZID=Europe/Helsinki:20260128T193000
DTSTAMP:20260419T191836
CREATED:20220925T123426Z
LAST-MODIFIED:20260115T114416Z
UID:43504-1769628600-1769628600@www.hamburg-city-webguide.de
SUMMARY:Hamburg Towers - Slask Wroclaw
DESCRIPTION:Basketball EuroCup 16. Spieltag \n\n\n\n\n\n\n\n\nTickets\n\n\n\n\n\n\n\n\n\n\n\nRelated Images:
URL:https://www.hamburg-city-webguide.de/event/hamburg-towers-slask-wroclaw/
LOCATION:Inselpark Arena\, Kurt-Emmerich-Platz 10\, Hamburg\, 21109
CATEGORIES:Alle Events,Basketball
END:VEVENT
BEGIN:VEVENT
DTSTART;TZID=Europe/Helsinki:20260131T200000
DTEND;TZID=Europe/Helsinki:20260131T200000
DTSTAMP:20260419T191836
CREATED:20250506T080728Z
LAST-MODIFIED:20260115T110807Z
UID:51008-1769889600-1769889600@www.hamburg-city-webguide.de
SUMMARY:Hamburg Towers - Niners Chemnitz
DESCRIPTION:Basketball-Bundesliga 18. Spieltag \n\n\n\n\n\n\n\n\nTickets\n\n\n\n\n\n\n\n\n\n\n\nRelated Images:
URL:https://www.hamburg-city-webguide.de/event/hamburg-towers-niners-chemnitz/
LOCATION:Inselpark Arena\, Kurt-Emmerich-Platz 10\, Hamburg\, 21109
CATEGORIES:Alle Events,Basketball
END:VEVENT
END:VCALENDAR