BEGIN:VCALENDAR
VERSION:2.0
PRODID:-//HAMBURG CITY WEBGUIDE - ECPv6.15.20//NONSGML v1.0//EN
CALSCALE:GREGORIAN
METHOD:PUBLISH
X-WR-CALNAME:HAMBURG CITY WEBGUIDE
X-ORIGINAL-URL:https://www.hamburg-city-webguide.de
X-WR-CALDESC:Veranstaltungen für HAMBURG CITY WEBGUIDE
REFRESH-INTERVAL;VALUE=DURATION:PT1H
X-Robots-Tag:noindex
X-PUBLISHED-TTL:PT1H
BEGIN:VTIMEZONE
TZID:Europe/Helsinki
BEGIN:DAYLIGHT
TZOFFSETFROM:+0200
TZOFFSETTO:+0300
TZNAME:EEST
DTSTART:20250330T010000
END:DAYLIGHT
BEGIN:STANDARD
TZOFFSETFROM:+0300
TZOFFSETTO:+0200
TZNAME:EET
DTSTART:20251026T010000
END:STANDARD
BEGIN:DAYLIGHT
TZOFFSETFROM:+0200
TZOFFSETTO:+0300
TZNAME:EEST
DTSTART:20260329T010000
END:DAYLIGHT
BEGIN:STANDARD
TZOFFSETFROM:+0300
TZOFFSETTO:+0200
TZNAME:EET
DTSTART:20261025T010000
END:STANDARD
BEGIN:DAYLIGHT
TZOFFSETFROM:+0200
TZOFFSETTO:+0300
TZNAME:EEST
DTSTART:20270328T010000
END:DAYLIGHT
BEGIN:STANDARD
TZOFFSETFROM:+0300
TZOFFSETTO:+0200
TZNAME:EET
DTSTART:20271031T010000
END:STANDARD
END:VTIMEZONE
BEGIN:VEVENT
DTSTART;TZID=Europe/Helsinki:20260313T200000
DTEND;TZID=Europe/Helsinki:20260313T200000
DTSTAMP:20260419T161702
CREATED:20250305T165137Z
LAST-MODIFIED:20260115T111208Z
UID:50728-1773432000-1773432000@www.hamburg-city-webguide.de
SUMMARY:Hamburg Towers - Academics Heidelberg
DESCRIPTION:Basketball-Bundesliga 24. Spieltag \n\n\n\n\n\n\n\n\nTickets\n\n\n\n\n\n\n\n\n\n\n\nRelated Images:
URL:https://www.hamburg-city-webguide.de/event/hamburg-towers-academics-heidelberg-2/
LOCATION:Inselpark Arena\, Kurt-Emmerich-Platz 10\, Hamburg\, 21109
CATEGORIES:Alle Events,Basketball
END:VEVENT
BEGIN:VEVENT
DTSTART;TZID=Europe/Helsinki:20260329T150000
DTEND;TZID=Europe/Helsinki:20260329T150000
DTSTAMP:20260419T161702
CREATED:20240305T224817Z
LAST-MODIFIED:20260115T111711Z
UID:47657-1774796400-1774796400@www.hamburg-city-webguide.de
SUMMARY:Hamburg Towers - Bayern München
DESCRIPTION:Basketball-Bundesliga 22. Spieltag \n\n\n\n\n\n\n\n\nTickets\n\n\n\n\n\n\n\n\n\n\n\nRelated Images:
URL:https://www.hamburg-city-webguide.de/event/hamburg-towers-bayern-muenchen/
LOCATION:Barclays Arena\, Hellgrundweg 44\, Hamburg\, 22525
CATEGORIES:Alle Events,Basketball
END:VEVENT
END:VCALENDAR