BEGIN:VCALENDAR
VERSION:2.0
PRODID:-//HAMBURG CITY WEBGUIDE - ECPv6.15.20//NONSGML v1.0//EN
CALSCALE:GREGORIAN
METHOD:PUBLISH
X-ORIGINAL-URL:https://www.hamburg-city-webguide.de
X-WR-CALDESC:Veranstaltungen für HAMBURG CITY WEBGUIDE
REFRESH-INTERVAL;VALUE=DURATION:PT1H
X-Robots-Tag:noindex
X-PUBLISHED-TTL:PT1H
BEGIN:VTIMEZONE
TZID:Europe/Helsinki
BEGIN:DAYLIGHT
TZOFFSETFROM:+0200
TZOFFSETTO:+0300
TZNAME:EEST
DTSTART:20150329T010000
END:DAYLIGHT
BEGIN:STANDARD
TZOFFSETFROM:+0300
TZOFFSETTO:+0200
TZNAME:EET
DTSTART:20151025T010000
END:STANDARD
BEGIN:DAYLIGHT
TZOFFSETFROM:+0200
TZOFFSETTO:+0300
TZNAME:EEST
DTSTART:20160327T010000
END:DAYLIGHT
BEGIN:STANDARD
TZOFFSETFROM:+0300
TZOFFSETTO:+0200
TZNAME:EET
DTSTART:20161030T010000
END:STANDARD
BEGIN:DAYLIGHT
TZOFFSETFROM:+0200
TZOFFSETTO:+0300
TZNAME:EEST
DTSTART:20170326T010000
END:DAYLIGHT
BEGIN:STANDARD
TZOFFSETFROM:+0300
TZOFFSETTO:+0200
TZNAME:EET
DTSTART:20171029T010000
END:STANDARD
END:VTIMEZONE
BEGIN:VEVENT
DTSTART;TZID=Europe/Helsinki:20161103T200000
DTEND;TZID=Europe/Helsinki:20161103T200000
DTSTAMP:20260426T054909
CREATED:20161028T032911Z
LAST-MODIFIED:20161028T032911Z
UID:19050-1478203200-1478203200@www.hamburg-city-webguide.de
SUMMARY:Jacob Karlzon
DESCRIPTION:In der Musik von Jacob Karlzon fließen alle nur denkbaren Einflüsse aus der Musik\, dem Leben und der Kunst zusammen. Im Oktober veröffentlicht der  schwedische Pianist Jacob Karlzon sein gemeinsam mit dem seinem Produzenten Lars Nilsson sein neues Album Now\, mit dem er erneut musikalische Neuland betritt. \n \n„Dass meine Musik einen Sinn ergibt\, ist mir wichtiger\, als Regeln zu befolgen“\, so der Visionär. \nTickets \nRelated Images:
URL:https://www.hamburg-city-webguide.de/event/jacob-karlzon/
CATEGORIES:Alle Events,Soul/Funk/Jazz
ATTACH;FMTTYPE=image/jpeg:https://www.hamburg-city-webguide.de/wp-content/uploads/2015/06/IMG_7151-e1434901697708.jpg
ORGANIZER;CN="Karsten Jahnke":MAILTO:info@kj.de
END:VEVENT
BEGIN:VEVENT
DTSTART;TZID=Europe/Helsinki:20161107T210000
DTEND;TZID=Europe/Helsinki:20161107T210000
DTSTAMP:20260426T054909
CREATED:20161028T041622Z
LAST-MODIFIED:20161028T041622Z
UID:19062-1478552400-1478552400@www.hamburg-city-webguide.de
SUMMARY:Mick Jenkins
DESCRIPTION:Chicago stammender Rapper Mick Jenkins machte im Jahr 2013 mit seinem ersten Mixtape Trees and Truths\, das von Acid Jazz Beats und beeindruckenden Lyrics geprägt ist\, auf sich aufmerksam. Wenig später veröffentlichte er zusammen mit Chance The Rapper und Vic Mensa die Hit Single Crossroads\nMit seinem zweiten Mixtape The Water[s] brachte dem Rapper auch internationale Bewunderung. \n \nInzwischen ist er und unter anderem Mitglied der Hip-Hop Gruppe Free Nation. \nTickets \n  \nRelated Images:
URL:https://www.hamburg-city-webguide.de/event/mick-jenkins-2/
LOCATION:Übel & Gefährlich\, Feldstraße 66\, Hamburg\, 20359
CATEGORIES:Alle Events,Dance/HipHop/RnB
ORGANIZER;CN="Karsten Jahnke":MAILTO:info@kj.de
END:VEVENT
BEGIN:VEVENT
DTSTART;TZID=Europe/Helsinki:20161108T190000
DTEND;TZID=Europe/Helsinki:20161108T190000
DTSTAMP:20260426T054909
CREATED:20151223T160522Z
LAST-MODIFIED:20161107T051915Z
UID:15094-1478631600-1478631600@www.hamburg-city-webguide.de
SUMMARY:MusikImPuls - Hundemusik im Chilehaus
DESCRIPTION:In Kooperation mit dem Instituto Cervantes laden die Symphoniker Hamburg zu einem MusikImPuls-Konzert mit zweisprachiger\, szenischer Lesung in den berühmten Bug des Chilehauses ein. In der „spitzesten“ Bibliothek Hamburgs präsentieren sie im Rahmen der Initiative MusikImPuls ein Wandelkonzert mit Musik und Text aus und über Spanien. \n \nDie Reihe MusikImpuls macht klassische Musik für alle Hamburger erfahrbar. So kann jeder – ob geplant oder zufällig – überwältigende Musik erleben\, gespielt von erstklassigen Interpreten. Die Konzerte finden anverschiedenen Orten der Stadt statt und sind offen für alle. \nRelated Images:
URL:https://www.hamburg-city-webguide.de/event/hamburger-symphoniker-am-verkaufsoffenen-sonntag/
LOCATION:Chilehaus\, Eingang B\, Fischertwiete 1\, Hamburg\, 20095 
CATEGORIES:Alle Events,Klassik
END:VEVENT
BEGIN:VEVENT
DTSTART;VALUE=DATE:20161111
DTEND;VALUE=DATE:20161112
DTSTAMP:20260426T054909
CREATED:20161028T040246Z
LAST-MODIFIED:20161028T040351Z
UID:19059-1478822400-1478908799@www.hamburg-city-webguide.de
SUMMARY:Terrace Martin & The Polly Seeds
DESCRIPTION:Der Producer\, Saxophonist und Keyboarder Terrace Martin bekam für seine Arbeit an To Pimp A Butterfly bereits einen Gammy. Aktuell ist der Martin\, der nach eigener Aussage sich ohne das  das legendäre A Tribe Called Quest Album Midnight Marauders wahrscheinlich nie angefangen hätte\, sich für Jazz zu interessieren Produzent des neuen Albums von Herbie Hancock. \n \nIm Rahmen des ÜBERJAZZ Festivals tritt er gemeinsam mit den Polly Seeds nun auf Kampnagel auf. \nFestival-Tickets \nRelated Images:
URL:https://www.hamburg-city-webguide.de/event/terrace-martin-the-polly-seeds/
CATEGORIES:Alle Events,Soul/Funk/Jazz
ATTACH;FMTTYPE=image/jpeg:https://www.hamburg-city-webguide.de/wp-content/uploads/2016/10/Terrace-Martin.jpg
ORGANIZER;CN="Karsten Jahnke":MAILTO:info@kj.de
END:VEVENT
BEGIN:VEVENT
DTSTART;TZID=Europe/Helsinki:20161114T200000
DTEND;TZID=Europe/Helsinki:20161114T200000
DTSTAMP:20260426T054909
CREATED:20121106T201850Z
LAST-MODIFIED:20240714T071134Z
UID:454-1479153600-1479153600@www.hamburg-city-webguide.de
SUMMARY:Till Brönner
DESCRIPTION:Der Trompeter Till Brönner gehört seit Jahren zu den populärsten Jazzmusikern. Anlässlich des diejährigen International Jazz Day ist er kürzlich vor Präsident Obama im Weißen Haus aufgetreten.  Nun kommt der Jazz Trumpet Gentleman mit seinem neuen Album The Good Life  in die Laeiszhalle.\n\n\n\nTickets\n\n\n\nRelated Images:
URL:https://www.hamburg-city-webguide.de/event/till-bronner/
LOCATION:Laeiszhalle – Großer Saal\, Johannes-Brahms-Platz\, Hamburg\, 20355
CATEGORIES:Alle Events,Soul/Funk/Jazz
ATTACH;FMTTYPE=image/jpeg:https://www.hamburg-city-webguide.de/wp-content/uploads/2014/12/Till-Brönner.jpg
END:VEVENT
BEGIN:VEVENT
DTSTART;TZID=Europe/Helsinki:20161117T193000
DTEND;TZID=Europe/Helsinki:20161120T223000
DTSTAMP:20260426T054909
CREATED:20161117T032402Z
LAST-MODIFIED:20161117T032822Z
UID:19422-1479411000-1479681000@www.hamburg-city-webguide.de
SUMMARY:Greatest Hits Vol. IV
DESCRIPTION:Im vierten Jahr in Folge findest auf kampnagel das Festival »Greatest Hits« findet statt. In diesem Jahr ist es der Komponistenfreundschaft zwischen den herausragenden Vertreter der US-amerikanischen Musik des 20. Jahrhunderts John Cage und Morton Feldman gewidmet. \n \nNeben dem Ensemble Intercontemporain stehen bis Sonntag\, dem 20. November auch die Bang On A Can All Stars aus New York City\, Anna Meredith und Autechre aus Großbritannien\, das Calder Quartet aus Los Angeles sowie das Ensemble Musikfabrikauf dem Programm. \nBeim Eröffnungskonzert am 17. November um 19:30 präsentiert das Ensemble intercontemporain:\nJean-Christophe Vervoitte\, Horn\nClément Saunier\, Trompete\nDirigent Matthias Pintscher\nMatthias Pintscher: Sonic Eclipse\nPierre Boulez: Sur Incises \nDas komplette Programm \nRelated Images:
URL:https://www.hamburg-city-webguide.de/event/greatest-hits-vol-iv/
CATEGORIES:Alle Events,Festivals,Klassik
END:VEVENT
BEGIN:VEVENT
DTSTART;TZID=Europe/Helsinki:20161119T200000
DTEND;TZID=Europe/Helsinki:20161119T200000
DTSTAMP:20260426T054909
CREATED:20160815T034725Z
LAST-MODIFIED:20161028T031931Z
UID:18027-1479585600-1479585600@www.hamburg-city-webguide.de
SUMMARY:Xavier Naidoo
DESCRIPTION:Auf seiner Tounee mit Stationen in Oberhausen\, Köln\, Hamburg\, Leipzig\, Berlin\, Frankfurt\, Mannheim und München verbindet Xavier Naidoo Vergangenheit\, Gegenwart und Zukunft. Die Alben Nicht von dieser Welt und Nicht von dieser Welt 2 stehen im Mittelpunkt der Konzertreihe. \n \nTickets \nRelated Images:
URL:https://www.hamburg-city-webguide.de/event/xavier-naidoo-2/
LOCATION:Barclays Arena\, Hellgrundweg 44\, Hamburg\, 22525
CATEGORIES:Alle Events,Rock/Pop
ATTACH;FMTTYPE=image/jpeg:https://www.hamburg-city-webguide.de/wp-content/uploads/2013/04/xavier_naidoo.jpg
ORGANIZER;CN="Karsten Jahnke":MAILTO:info@kj.de
END:VEVENT
BEGIN:VEVENT
DTSTART;TZID=Europe/Helsinki:20161125T183000
DTEND;TZID=Europe/Helsinki:20161125T183000
DTSTAMP:20260426T054909
CREATED:20161122T074211Z
LAST-MODIFIED:20161122T074211Z
UID:19504-1480098600-1480098600@www.hamburg-city-webguide.de
SUMMARY:Steffen Schleiermacher - Akkord in Rot und Blau
DESCRIPTION:Im Rahmen der spartenübergreifenden Reihe Soirée & Salon ist am gibt Im Rahmen der Reihe Soirée & Salon gibt der Pianist Steffen Schleiermacher ein Konzert im 50er-Jahre Saal der Hamburger Kunsthalle. Der Saal steht ganz im Zeichen der Kunst um 1950 mit hochkarätigen Werken unter anderem von Ernst Wilhelm Nay\, von dem auch das titelgebende Gemälde Akkord in Rot und Blau stammt. \n \nSchleiermacher\, einer der weltweit führenden Interpreten für zeitgenössische Musik\, spielt speziell für diesen Saal ausgewählte Klavierkompositionen aus den 1950er Jahren. Darunter sind Werke von Paul Dessau\, Karlheinz Stockhausen\, Morton Feldmann und György Ligeti. \nRelated Images:
URL:https://www.hamburg-city-webguide.de/event/steffen-schleiermacher-akkord-in-rot-und-blau/
LOCATION:Kunsthalle Hamburg\, Glockengießerwall\, Hamburg\, 20095
CATEGORIES:Alle Events,Ausstellungen,Klassik
END:VEVENT
BEGIN:VEVENT
DTSTART;TZID=Europe/Helsinki:20161125T200000
DTEND;TZID=Europe/Helsinki:20161125T200000
DTSTAMP:20260426T054909
CREATED:20161122T004239Z
LAST-MODIFIED:20161122T004610Z
UID:19499-1480104000-1480104000@www.hamburg-city-webguide.de
SUMMARY:Imany
DESCRIPTION:Im Frühjahr eroberte ihr Song Don’t Be So Shy in der Remix-Version der zwei DJs Filatov & Karas europaweit die Single-Charts. Etwas später veröffentlichte die in Paris lebende Sängerin Imany ihr neues Album The Wrong Kind Of War. \n \nIm November kommt die charismatische Sängerin für drei Konzerte nach Köln\, Hamburg und Berlin. \nTickets \nRelated Images:
URL:https://www.hamburg-city-webguide.de/event/irmany/
CATEGORIES:Alle Events,Singer/Songwriter
ORGANIZER;CN="Karsten Jahnke":MAILTO:info@kj.de
END:VEVENT
BEGIN:VEVENT
DTSTART;TZID=Europe/Helsinki:20161125T200000
DTEND;TZID=Europe/Helsinki:20161125T200000
DTSTAMP:20260426T054909
CREATED:20161122T081747Z
LAST-MODIFIED:20161122T084354Z
UID:19508-1480104000-1480104000@www.hamburg-city-webguide.de
SUMMARY:Hanna Leess
DESCRIPTION:Die Multiinstrumentalistin Hanna Leess aus dem Nordosten der Vereinigten Staaten wandelt mit ihren Songs aus dem Debütalbum Dirty Mouth Sweet Heart zwischen Empfindsamkeit und Weisheit. \n \nMit ihrer eindringlichen Stimme vermittelt ihre Kunst absolute Ehrlichkeit. Ihre Songs entstehen ohne vorgefassten Plan\, eher intuitiv. \nTickets \nRelated Images:
URL:https://www.hamburg-city-webguide.de/event/hanna-leess/
LOCATION:Jazz Cafe im mojo\, Reeperbahn 1\, Hamburg\, 20359
CATEGORIES:Alle Events,Singer/Songwriter
END:VEVENT
BEGIN:VEVENT
DTSTART;TZID=Europe/Helsinki:20161126T230000
DTEND;TZID=Europe/Helsinki:20161126T230000
DTSTAMP:20260426T054909
CREATED:20161122T082434Z
LAST-MODIFIED:20161122T084206Z
UID:19510-1480201200-1480201200@www.hamburg-city-webguide.de
SUMMARY:Assoto Sounds Return VI
DESCRIPTION:Mit Assoto Sounds – Ari alias Reef alias ForTheKidz und Ole alias Clap To This alias Music Is Okäi steht wieder eine lange Nacht voller Soul\, Beats und einem einzigartigen Vibe im mojo club bevor. \n \nWie bei einem Familientreffen weiß man\, was kommt – alle kommen zahlreich und früh und bleiben lang\, der Tanzwille ist ungebrochen. \nRelated Images:
URL:https://www.hamburg-city-webguide.de/event/assoto-sounds-return-vi/
LOCATION:mojo club\, Reeperbahn 1\, Hamburg\, 20359
CATEGORIES:Alle Events,Party
END:VEVENT
BEGIN:VEVENT
DTSTART;TZID=Europe/Helsinki:20161127T193000
DTEND;TZID=Europe/Helsinki:20161127T193000
DTSTAMP:20260426T054909
CREATED:20161122T083915Z
LAST-MODIFIED:20161122T083915Z
UID:19515-1480275000-1480275000@www.hamburg-city-webguide.de
SUMMARY:Joe Purdy
DESCRIPTION:Ein Mann\, eine Gitarre und ein guter Song – viele Songs aus der Feder von Joe Purdy sind uns aus seine ergreifenden Songs untermalten bereits Szenen der TV-Serien wie „Lost“\, „Grey’s Anatomy“ oder „Dr. House“ und dem US-Filmdrama „Die Bienenhüterin“ bekannt. \n \nPurdy steht in der Tradition der Pionieren der Folkbewegung Pete Seeger\, Woody Guthrie und Bob Dylan. Seit 2001 hat er  ein dutzend Alben veröffentlicht und mehr als eine Million Downloads verkauft. Nun kommt der Mann aus Arkansas ins Mojo Jazz Café. \nTickets \nRelated Images:
URL:https://www.hamburg-city-webguide.de/event/joe-purdy/
LOCATION:mojo club\, Reeperbahn 1\, Hamburg\, 20359
CATEGORIES:Alle Events,Singer/Songwriter
END:VEVENT
END:VCALENDAR