BEGIN:VCALENDAR
VERSION:2.0
PRODID:-//HAMBURG CITY WEBGUIDE - ECPv6.15.20//NONSGML v1.0//EN
CALSCALE:GREGORIAN
METHOD:PUBLISH
X-WR-CALNAME:HAMBURG CITY WEBGUIDE
X-ORIGINAL-URL:https://www.hamburg-city-webguide.de
X-WR-CALDESC:Veranstaltungen für HAMBURG CITY WEBGUIDE
REFRESH-INTERVAL;VALUE=DURATION:PT1H
X-Robots-Tag:noindex
X-PUBLISHED-TTL:PT1H
BEGIN:VTIMEZONE
TZID:Europe/Helsinki
BEGIN:DAYLIGHT
TZOFFSETFROM:+0200
TZOFFSETTO:+0300
TZNAME:EEST
DTSTART:20150329T010000
END:DAYLIGHT
BEGIN:STANDARD
TZOFFSETFROM:+0300
TZOFFSETTO:+0200
TZNAME:EET
DTSTART:20151025T010000
END:STANDARD
BEGIN:DAYLIGHT
TZOFFSETFROM:+0200
TZOFFSETTO:+0300
TZNAME:EEST
DTSTART:20160327T010000
END:DAYLIGHT
BEGIN:STANDARD
TZOFFSETFROM:+0300
TZOFFSETTO:+0200
TZNAME:EET
DTSTART:20161030T010000
END:STANDARD
BEGIN:DAYLIGHT
TZOFFSETFROM:+0200
TZOFFSETTO:+0300
TZNAME:EEST
DTSTART:20170326T010000
END:DAYLIGHT
BEGIN:STANDARD
TZOFFSETFROM:+0300
TZOFFSETTO:+0200
TZNAME:EET
DTSTART:20171029T010000
END:STANDARD
END:VTIMEZONE
BEGIN:VEVENT
DTSTART;TZID=Europe/Helsinki:20161202T190000
DTEND;TZID=Europe/Helsinki:20161202T190000
DTSTAMP:20260426T054642
CREATED:20161122T085049Z
LAST-MODIFIED:20161122T085049Z
UID:19518-1480705200-1480705200@www.hamburg-city-webguide.de
SUMMARY:Dame
DESCRIPTION:Sein Zocker-Song pave low wurde auf dem weltführenden Videokanal über 24 Millionen mal angeklickt. Zu den Shows von Dame pilgerten 10 000 Fans. \nAuf dem brandneuen Album „Strassenmusikant“  blickt der jetzt in den Charts präsente Sänger auf seine Laufbahn zurück. \nTickets \nÜber 10.000 Fans pilgerten zu den Shows jenes Mannes\, der am \nRelated Images:
URL:https://www.hamburg-city-webguide.de/event/dame/
LOCATION:mojo club\, Reeperbahn 1\, Hamburg\, 20359
CATEGORIES:Alle Events,Rock/Pop,Singer/Songwriter
END:VEVENT
BEGIN:VEVENT
DTSTART;TZID=Europe/Helsinki:20161202T200000
DTEND;TZID=Europe/Helsinki:20161202T200000
DTSTAMP:20260426T054642
CREATED:20161122T003553Z
LAST-MODIFIED:20161122T003640Z
UID:19496-1480708800-1480708800@www.hamburg-city-webguide.de
SUMMARY:Vivie Ann
DESCRIPTION:Die Sängerin und Songwriterin Vivie Ann realisierte iht Debütalbum über Crowdfunding\, um Kompromisse bezüglich ihrer künstlerischen Freiheiten zu vermeiden. \n \n„Es war mir sehr wichtig\, die Songs zu produzieren\, wie es ihnen gut tut und nicht\, wie es ein Radiopromoter oder der A&R eines Labels aus kommerziellen Gründen tun würde“\, sagt sie. Es dauerte nicht lange\, bis sie und ihre ihren Mitmusiker\, die nötige Summe für die Aufnahmen zusammenhatte. In der St. Katharinenkirche stellt sie ihre englischsprachigen Songs vor. \nTickets \nRelated Images:
URL:https://www.hamburg-city-webguide.de/event/vivie-ann/
LOCATION:Hauptkirch St. Katharinen\, Katharinenkirchhof 1 \, Hamburg\, 20457
CATEGORIES:Alle Events,Singer/Songwriter
ATTACH;FMTTYPE=image/jpeg:https://www.hamburg-city-webguide.de/wp-content/uploads/2016/11/Vivie-Ann.jpg
ORGANIZER;CN="Karsten Jahnke":MAILTO:info@kj.de
END:VEVENT
BEGIN:VEVENT
DTSTART;TZID=Europe/Helsinki:20161203T180000
DTEND;TZID=Europe/Helsinki:20161203T180000
DTSTAMP:20260426T054642
CREATED:20161108T034359Z
LAST-MODIFIED:20161108T034901Z
UID:19261-1480788000-1480788000@www.hamburg-city-webguide.de
SUMMARY:Hamburg Sounds Benefizkonzert
DESCRIPTION:Mit der diesjährigen Spezialausgabe der Hamburg Sounds widmet sich der NDR mit einer Benefizaktion schwerstkranken und sterbenden Menschen. Alle Künstler widmen verzichten zugunsten der den norddeutschen Einrichtungen des Deutschen Hospiz- und Palliativverbands auf ihre Gage. \n \nMit dabei sind: Marquess\, Alexander Knappe\, Caroline Kiesewetter\, Benne\, Miu\, Emma Longard\, Liza&Kay und Magnus Landsberg. \nTickets sind ab 20 Euro im NDR Ticketshop erhältlich. \n  \n  \nRelated Images:
URL:https://www.hamburg-city-webguide.de/event/hamburg-sounds-benefizkonzert/
LOCATION:Rolf-Liebermann-Studio\, Oberstraße 120\, Hamburg\, 20149
CATEGORIES:Alle Events,Rock/Pop,Singer/Songwriter,Soul/Funk/Jazz
ATTACH;FMTTYPE=image/jpeg:https://www.hamburg-city-webguide.de/wp-content/uploads/2016/11/Marquess-tritt-im-Rahmen-der-NDR-Benefizaktion-auf-_-Verwendung-honorarfrei-cStarwatch.jpg
END:VEVENT
BEGIN:VEVENT
DTSTART;TZID=Europe/Helsinki:20161203T190000
DTEND;TZID=Europe/Helsinki:20161203T190000
DTSTAMP:20260426T054642
CREATED:20161124T012720Z
LAST-MODIFIED:20161124T012720Z
UID:19528-1480791600-1480791600@www.hamburg-city-webguide.de
SUMMARY:Mic Donet
DESCRIPTION:Passend zur Vorweihnachtszeit kommt Mic Donet mit seinem Gitarristen zu einem seiner Hautnah-Konzerte in gemütlicher Wohnzimmeratmosphäre im mojo club vorbei. \n \nDer Ausnahmesänger stand schon mit Größen wie Santana oder Erykah Badu auf der Bühne\, liebt aber besonders die intimen Konzerte vor kleinem Publikum. \nTickets \nRelated Images:
URL:https://www.hamburg-city-webguide.de/event/mic-donet/
LOCATION:mojo club\, Reeperbahn 1\, Hamburg\, 20359
CATEGORIES:Alle Events,Singer/Songwriter
END:VEVENT
BEGIN:VEVENT
DTSTART;TZID=Europe/Helsinki:20161207T190000
DTEND;TZID=Europe/Helsinki:20161207T190000
DTSTAMP:20260426T054642
CREATED:20161124T014118Z
LAST-MODIFIED:20161124T014118Z
UID:19532-1481137200-1481137200@www.hamburg-city-webguide.de
SUMMARY:Darius Zander
DESCRIPTION:Als Vorgruppe von Pur und bei seinem ersten großen TV Auftritt bei „the voice of germany“ konnte Darius Zander bereits ein großes Publikum für sich gewinnen. Im Dezember kommt für vier exklusive Clubkonzerte mit eigenen Songs und modernem\, eingängigem Pop nach Berlin\, Hamburg\, München und Köln. \n \nTickets \nRelated Images:
URL:https://www.hamburg-city-webguide.de/event/darius-zander/
LOCATION:mojo club\, Reeperbahn 1\, Hamburg\, 20359
CATEGORIES:Alle Events,Rock/Pop
END:VEVENT
END:VCALENDAR