BEGIN:VCALENDAR
VERSION:2.0
PRODID:-//HAMBURG CITY WEBGUIDE - ECPv6.15.20//NONSGML v1.0//EN
CALSCALE:GREGORIAN
METHOD:PUBLISH
X-ORIGINAL-URL:https://www.hamburg-city-webguide.de
X-WR-CALDESC:Veranstaltungen für HAMBURG CITY WEBGUIDE
REFRESH-INTERVAL;VALUE=DURATION:PT1H
X-Robots-Tag:noindex
X-PUBLISHED-TTL:PT1H
BEGIN:VTIMEZONE
TZID:Europe/Helsinki
BEGIN:DAYLIGHT
TZOFFSETFROM:+0200
TZOFFSETTO:+0300
TZNAME:EEST
DTSTART:20160327T010000
END:DAYLIGHT
BEGIN:STANDARD
TZOFFSETFROM:+0300
TZOFFSETTO:+0200
TZNAME:EET
DTSTART:20161030T010000
END:STANDARD
BEGIN:DAYLIGHT
TZOFFSETFROM:+0200
TZOFFSETTO:+0300
TZNAME:EEST
DTSTART:20170326T010000
END:DAYLIGHT
BEGIN:STANDARD
TZOFFSETFROM:+0300
TZOFFSETTO:+0200
TZNAME:EET
DTSTART:20171029T010000
END:STANDARD
BEGIN:DAYLIGHT
TZOFFSETFROM:+0200
TZOFFSETTO:+0300
TZNAME:EEST
DTSTART:20180325T010000
END:DAYLIGHT
BEGIN:STANDARD
TZOFFSETFROM:+0300
TZOFFSETTO:+0200
TZNAME:EET
DTSTART:20181028T010000
END:STANDARD
END:VTIMEZONE
BEGIN:VEVENT
DTSTART;TZID=Europe/Helsinki:20170109T130000
DTEND;TZID=Europe/Helsinki:20170109T130000
DTSTAMP:20260426T043013
CREATED:20170109T030520Z
LAST-MODIFIED:20170109T031229Z
UID:20206-1483966800-1483966800@www.hamburg-city-webguide.de
SUMMARY:MusikImpuls - Klassik gegen den Winterblues
DESCRIPTION:Im Rahmen der MusikImpuls Konzerte vertreiben die Hamburger Symphoniker den Winterblues. Konzertmeister Adrian Iliescu wird im Hanse-Viertel von einem neuartigen Soundlounge-Poster begleitet\, dessen Animation auf die Musik reagiert. \n \nDie Reihe MusikImpuls macht klassische Musik für alle Hamburger erfahrbar. So kann jeder – ob geplant oder zufällig – überwältigende Musik erleben\, gespielt von erstklassigen Interpreten. Die Konzerte finden anverschiedenen Orten der Stadt statt und sind offen für alle. \nRelated Images:
URL:https://www.hamburg-city-webguide.de/event/musikimpuls-klassik-gegen-den-winterblues-2/
LOCATION:Hanse Viertel\, Große Bleichen 30\,\, Hamburg\, 20354
CATEGORIES:Alle Events,Klassik
END:VEVENT
BEGIN:VEVENT
DTSTART;TZID=Europe/Helsinki:20170112T200000
DTEND;TZID=Europe/Helsinki:20170112T200000
DTSTAMP:20260426T043013
CREATED:20161213T091618Z
LAST-MODIFIED:20161213T091618Z
UID:19801-1484251200-1484251200@www.hamburg-city-webguide.de
SUMMARY:The Harlem Gospel Singers Show: Goodbye Tour!
DESCRIPTION:Queen Esther Marrow und ihre Harlem Gospel Singer sind seit nahezu einem Vierteljahrhundert auf den Bühnen unterwegs. Mit ihrer musikalischen Botschaft von Aufbruch\, Hoffnung und Lebensfreude begeistern sie rund um den Globus das Publikum. Nun gehen sie mit Highlights ihrer internationalen Karriere mit ihrer Goodbye Tour!  \n \nTickets \nRelated Images:
URL:https://www.hamburg-city-webguide.de/event/the-harlem-gospel-singers-show-goodbye-tour/
LOCATION:Laeiszhalle – Großer Saal\, Johannes-Brahms-Platz\, Hamburg\, 20355
CATEGORIES:Alle Events,Soul/Funk/Jazz
END:VEVENT
BEGIN:VEVENT
DTSTART;TZID=Europe/Helsinki:20170113T193000
DTEND;TZID=Europe/Helsinki:20170113T193000
DTSTAMP:20260426T043013
CREATED:20140216T031504Z
LAST-MODIFIED:20161121T235507Z
UID:4893-1484335800-1484335800@www.hamburg-city-webguide.de
SUMMARY:The Bar at Buena Vista
DESCRIPTION:Die Grandfathers of Cuban Music entführen die Besucher wieder mit viel karibischem Flair in das Havanna dervierziger und fünfziger Jahre. \n \nBekannt geworden durch die Zusammenarbeit mit Ray Cooder und den Film Buena Vista Social Club sind sie nun lebende legenden\, die die Tradition des Son in unvergleichbarer Lebendigkeit in die heutige Zeit transportieren. Eine Mischung aus Tanz\, Konzert und kubanischer Lebensfreude bildet die Grundlage für eine mitreißende Show. \nTickets The Bar at Buena Vista \nRelated Images:
URL:https://www.hamburg-city-webguide.de/event/the-bar-at-buena-vista/
LOCATION:Kampnagel [K6]\, Jarrestraße 20\, Hamburg\, 22303
CATEGORIES:Alle Events,Konzerte,Shows
END:VEVENT
BEGIN:VEVENT
DTSTART;TZID=Europe/Helsinki:20170114T143000
DTEND;TZID=Europe/Helsinki:20170114T143000
DTSTAMP:20260426T043013
CREATED:20161121T233427Z
LAST-MODIFIED:20161121T235428Z
UID:19483-1484404200-1484404200@www.hamburg-city-webguide.de
SUMMARY:The Bar at Buena Vista
DESCRIPTION:Die Grandfathers of Cuban Music entführen die Besucher wieder mit viel karibischem Flair in das Havanna dervierziger und fünfziger Jahre. \n \nBekannt geworden durch die Zusammenarbeit mit Ray Cooder und den Film Buena Vista Social Club sind sie nun lebende legenden\, die die Tradition des Son in unvergleichbarer Lebendigkeit in die heutige Zeit transportieren. Eine Mischung aus Tanz\, Konzert und kubanischer Lebensfreude bildet die Grundlage für eine mitreißende Show. \nTickets The Bar at Buena Vista \nRelated Images:
URL:https://www.hamburg-city-webguide.de/event/the-bar-at-buena-vista-2/
LOCATION:Kampnagel [K6]\, Jarrestraße 20\, Hamburg\, 22303
CATEGORIES:Alle Events,Konzerte,Shows
ORGANIZER;CN="Collien Konzert & Theater GmbH":MAILTO:info@collien.com
END:VEVENT
BEGIN:VEVENT
DTSTART;TZID=Europe/Helsinki:20170114T193000
DTEND;TZID=Europe/Helsinki:20170114T193000
DTSTAMP:20260426T043013
CREATED:20161121T233722Z
LAST-MODIFIED:20161121T235416Z
UID:19485-1484422200-1484422200@www.hamburg-city-webguide.de
SUMMARY:The Bar at Buena Vista
DESCRIPTION:Die Grandfathers of Cuban Music entführen die Besucher wieder mit viel karibischem Flair in das Havanna dervierziger und fünfziger Jahre. \n \nBekannt geworden durch die Zusammenarbeit mit Ray Cooder und den Film Buena Vista Social Club sind sie nun lebende legenden\, die die Tradition des Son in unvergleichbarer Lebendigkeit in die heutige Zeit transportieren. Eine Mischung aus Tanz\, Konzert und kubanischer Lebensfreude bildet die Grundlage für eine mitreißende Show. \nTickets The Bar at Buena Vista \nRelated Images:
URL:https://www.hamburg-city-webguide.de/event/the-bar-at-buena-vista-3/
LOCATION:Kampnagel [K6]\, Jarrestraße 20\, Hamburg\, 22303
CATEGORIES:Alle Events,Konzerte,Shows
ORGANIZER;CN="Collien Konzert & Theater GmbH":MAILTO:info@collien.com
END:VEVENT
BEGIN:VEVENT
DTSTART;TZID=Europe/Helsinki:20170129T160000
DTEND;TZID=Europe/Helsinki:20170129T170000
DTSTAMP:20260426T043013
CREATED:20170109T030935Z
LAST-MODIFIED:20170109T031203Z
UID:20209-1485705600-1485709200@www.hamburg-city-webguide.de
SUMMARY:MusikImpuls - Klassik gegen den Winterblues
DESCRIPTION:Im Rahmen der MusikImpuls Konzerte vertreiben die Hamburger Symphoniker den Winterblues. Im Rahmen des ersten verkaufsoffenen Sonntags des Jahres lädt das City Management zu „Winterklänge“ ein. Hier wird die Rotunde des Hanse-Viertels zur Leinwand für eine Konzertprojektion \n \nDie Reihe MusikImpuls macht klassische Musik für alle Hamburger erfahrbar. So kann jeder – ob geplant oder zufällig – überwältigende Musik erleben\, gespielt von erstklassigen Interpreten. Die Konzerte finden anverschiedenen Orten der Stadt statt und sind offen für \nRelated Images:
URL:https://www.hamburg-city-webguide.de/event/musikimpuls-klassik-gegen-den-winterblues/
LOCATION:Hanse Viertel\, Große Bleichen 30\,\, Hamburg\, 20354
CATEGORIES:Alle Events,Klassik
END:VEVENT
END:VCALENDAR