BEGIN:VCALENDAR
VERSION:2.0
PRODID:-//HAMBURG CITY WEBGUIDE - ECPv6.15.20//NONSGML v1.0//EN
CALSCALE:GREGORIAN
METHOD:PUBLISH
X-WR-CALNAME:HAMBURG CITY WEBGUIDE
X-ORIGINAL-URL:https://www.hamburg-city-webguide.de
X-WR-CALDESC:Veranstaltungen für HAMBURG CITY WEBGUIDE
REFRESH-INTERVAL;VALUE=DURATION:PT1H
X-Robots-Tag:noindex
X-PUBLISHED-TTL:PT1H
BEGIN:VTIMEZONE
TZID:Europe/Helsinki
BEGIN:DAYLIGHT
TZOFFSETFROM:+0200
TZOFFSETTO:+0300
TZNAME:EEST
DTSTART:20160327T010000
END:DAYLIGHT
BEGIN:STANDARD
TZOFFSETFROM:+0300
TZOFFSETTO:+0200
TZNAME:EET
DTSTART:20161030T010000
END:STANDARD
BEGIN:DAYLIGHT
TZOFFSETFROM:+0200
TZOFFSETTO:+0300
TZNAME:EEST
DTSTART:20170326T010000
END:DAYLIGHT
BEGIN:STANDARD
TZOFFSETFROM:+0300
TZOFFSETTO:+0200
TZNAME:EET
DTSTART:20171029T010000
END:STANDARD
BEGIN:DAYLIGHT
TZOFFSETFROM:+0200
TZOFFSETTO:+0300
TZNAME:EEST
DTSTART:20180325T010000
END:DAYLIGHT
BEGIN:STANDARD
TZOFFSETFROM:+0300
TZOFFSETTO:+0200
TZNAME:EET
DTSTART:20181028T010000
END:STANDARD
END:VTIMEZONE
BEGIN:VEVENT
DTSTART;TZID=Europe/Helsinki:20170302T210000
DTEND;TZID=Europe/Helsinki:20170302T210000
DTSTAMP:20260426T002300
CREATED:20160104T044025Z
LAST-MODIFIED:20170101T214855Z
UID:15568-1488488400-1488488400@www.hamburg-city-webguide.de
SUMMARY:Che Sudaka
DESCRIPTION:Mit ihrer Mischung aus Cumbia\, Ska und Punk wurden die zwei argentinischen Brüder Leo und Kachafaz und ihre beiden kolumbianischen Mitstreiter Cheko und Jota mit der Formation Che Sudaka zum Flaggschiff der Mestizo-Musik. Bei der Musik mit aussagestarken und sozial-kritischen Texten gibt es eine Party-Garantie. \n \nTickets \nRelated Images:
URL:https://www.hamburg-city-webguide.de/event/che-sudaka/
LOCATION:Fabrik Hamburg\, Barnerstraße 36\, Hamburg\, 22765
CATEGORIES:Alle Events,Rock/Pop
ATTACH;FMTTYPE=image/jpeg:https://www.hamburg-city-webguide.de/wp-content/uploads/2016/01/Che-Sudaka.jpg
END:VEVENT
BEGIN:VEVENT
DTSTART;TZID=Europe/Helsinki:20170303T210000
DTEND;TZID=Europe/Helsinki:20170303T230000
DTSTAMP:20260426T002300
CREATED:20140216T035158Z
LAST-MODIFIED:20170101T214705Z
UID:4896-1488574800-1488582000@www.hamburg-city-webguide.de
SUMMARY:Danube's Banks
DESCRIPTION:Rauer\, unkonventioneller Gypsy-Swing mit Elementen von  Klezmer\, Ska und ld-Time-Swing aus Hamburg mit Danube’s Banks. Die Band tritt auf im Stile einer Starßenband und erzählt Gechichten aus dem Leben\, so bleibt die Ursprünglichkeit dieser Musik erhalten. Den Besucher erwartet eine große Party im Stile der Musik der Zigeuner entlang der Donau gemischt mit den jazzigen Elementen eines Django Reinhard. \n \nBenjamin Dau – Lead Guitar\nKing Scarynet – Clarinet\, Percussion\, Vocals\nJan Fare – Saxophone\nTimo Zett – Rhythm Guitar\, Vocals\, Artwork\nZoltan – Bass\, Vocals\nLonnie Crash – Drums\, Percussion \nTickets \nRelated Images:
URL:https://www.hamburg-city-webguide.de/event/danubes-banks/
LOCATION:Fabrik Hamburg\, Barnerstraße 36\, Hamburg\, 22765
CATEGORIES:Alle Events,Soul/Funk/Jazz
END:VEVENT
BEGIN:VEVENT
DTSTART;TZID=Europe/Helsinki:20170325T150000
DTEND;TZID=Europe/Helsinki:20170325T150000
DTSTAMP:20260426T002300
CREATED:20170131T052802Z
LAST-MODIFIED:20170131T052802Z
UID:20710-1490454000-1490454000@www.hamburg-city-webguide.de
SUMMARY:Sinatra & Friends
DESCRIPTION:Frank Sinatra gilt als eine der bedeutendsten Persönlichkeiten des Showbusiness. Songs wie „My Way“ über „That´s Amore“ oder „Mr. Bojangles“ sind inzwischen Entertainment-Klassiker. In Las Vegas traf er sich regelmäßig mit seinen Freunden Dean Martin und Sammy Davis Jr zu einer legendären Show. Mit Sinatra & Friends bringen George Daniel Long und Mark Adams als Frank\, Sammy und Dean die Klassiker wieder auf die Bühne zurück. \n \nTickets \nRelated Images:
URL:https://www.hamburg-city-webguide.de/event/sinatra-friends-2/
LOCATION:Mehr! Theater am Großmarkt\, Banksstraße 28\, Hamburg\, 20097
CATEGORIES:Alle Events,Konzerte,Shows
ORGANIZER;CN="Collien Konzert & Theater GmbH":MAILTO:info@collien.com
END:VEVENT
BEGIN:VEVENT
DTSTART;TZID=Europe/Helsinki:20170325T200000
DTEND;TZID=Europe/Helsinki:20170325T200000
DTSTAMP:20260426T002300
CREATED:20170131T053000Z
LAST-MODIFIED:20170131T053000Z
UID:20712-1490472000-1490472000@www.hamburg-city-webguide.de
SUMMARY:Sinatra & Friends
DESCRIPTION:Frank Sinatra gilt als eine der bedeutendsten Persönlichkeiten des Showbusiness. Songs wie „My Way“ über „That´s Amore“ oder „Mr. Bojangles“ sind inzwischen Entertainment-Klassiker. In Las Vegas traf er sich regelmäßig mit seinen Freunden Dean Martin und Sammy Davis Jr zu einer legendären Show. Mit Sinatra & Friends bringen George Daniel Long und Mark Adams als Frank\, Sammy und Dean die Klassiker wieder auf die Bühne zurück. \n \nTickets \nRelated Images:
URL:https://www.hamburg-city-webguide.de/event/sinatra-friends-3/
LOCATION:Mehr! Theater am Großmarkt\, Banksstraße 28\, Hamburg\, 20097
CATEGORIES:Alle Events,Konzerte,Shows
ORGANIZER;CN="Collien Konzert & Theater GmbH":MAILTO:info@collien.com
END:VEVENT
BEGIN:VEVENT
DTSTART;TZID=Europe/Helsinki:20170325T200000
DTEND;TZID=Europe/Helsinki:20170325T200000
DTSTAMP:20260426T002300
CREATED:20170323T120157Z
LAST-MODIFIED:20170323T120157Z
UID:21276-1490472000-1490472000@www.hamburg-city-webguide.de
SUMMARY:DANIEL PUENTE ENCINCA & BAND
DESCRIPTION:Der chilenische Sänger\, Gitarrist und Komponist DANIEL PUENTE lädt zu einem Musikfeuerwerk aus Boogaloo Blues\, 60s Latin Soul\, Rock\, Son Cubano und südamerikanische Rhythmen. „Wer dazu nicht tanzt muss tot sein!“ schreibt das Musikmagazin Rockaxis dazu. \n \nWährend sein akuelles Album Chocolate con Ají einen kosmopolitischen Genre Mix bietet\, besticht sein Latin-Blues-Album Disparo (Schuss) durch experimentelle Ansätze mit minimalistischer Instrumentierung. \nTickets \n  \nRelated Images:
URL:https://www.hamburg-city-webguide.de/event/daniel-puente-encinca-band/
LOCATION:Jazz Cafe im mojo\, Reeperbahn 1\, Hamburg\, 20359
CATEGORIES:Alle Events,Latin/Reggae
END:VEVENT
BEGIN:VEVENT
DTSTART;TZID=Europe/Helsinki:20170325T210000
DTEND;TZID=Europe/Helsinki:20170325T210000
DTSTAMP:20260426T002300
CREATED:20170323T123512Z
LAST-MODIFIED:20170323T123623Z
UID:21278-1490475600-1490475600@www.hamburg-city-webguide.de
SUMMARY:MACHINEDRUM
DESCRIPTION:Nach seiner ersten Veröffentlichung 1999 hatte der aus North Carolina stammende Travis Stewart alias MACHINEDRUM bereits Kollaborationen mit Acts wie Sepalcure\, Dream Continuum oder JETS. Mit dem  Londoner Label NINJA TUNE produzierte er sein aktuelles Album Human Energy\, mit dem er derzeit durch die USA und Europa tourt. \n \nÜber das neue Album sagt er selbst: “it reflects a period of great change in my life. I moved across the country to a new city\, I proposed to the girl of my dreams\, I moved into a new house\, bought a brand new computer and set off to write a new album.” Das Konzert im Mojo Club wird von einer beeindruckenden Lichtshow unterstützt. \nTickets \nIm Anschluss: Aftershow ab 23:00 Uhr | AK € 10 \nRelated Images:
URL:https://www.hamburg-city-webguide.de/event/machinedrum/
LOCATION:mojo club\, Reeperbahn 1\, Hamburg\, 20359
CATEGORIES:Alle Events,Dance/HipHop/RnB
END:VEVENT
BEGIN:VEVENT
DTSTART;TZID=Europe/Helsinki:20170327T190000
DTEND;TZID=Europe/Helsinki:20170327T200000
DTSTAMP:20260426T002300
CREATED:20150514T114229Z
LAST-MODIFIED:20170323T124421Z
UID:11633-1490641200-1490644800@www.hamburg-city-webguide.de
SUMMARY:Rhiannon Giddens
DESCRIPTION:Die Singer/ Songwriterin\, Multiinstrumentalistin Rhiannon Giddens  aus North Carolina ist auch Gründungsmitglied der Grammy-ausgezeichneten Carolina Chocolate Drops. Nach ihrem ersten Auftritt in der Hansestadt in 2015 besucht sie das Hamburger Publikum erneutim  Mojo Club. \n \nTickets \nRelated Images:
URL:https://www.hamburg-city-webguide.de/event/rhiannon-giddens/
LOCATION:mojo club\, Reeperbahn 1\, Hamburg\, 20359
CATEGORIES:Alle Events,Singer/Songwriter
ATTACH;FMTTYPE=image/jpeg:https://www.hamburg-city-webguide.de/wp-content/uploads/2015/05/Rhiannon-Giddens.jpg
ORGANIZER;CN="Karsten Jahnke":MAILTO:info@kj.de
END:VEVENT
BEGIN:VEVENT
DTSTART;TZID=Europe/Helsinki:20170331T190000
DTEND;TZID=Europe/Helsinki:20170331T190000
DTSTAMP:20260426T002300
CREATED:20170323T125425Z
LAST-MODIFIED:20170323T125425Z
UID:21284-1490986800-1490986800@www.hamburg-city-webguide.de
SUMMARY:Estikay
DESCRIPTION:  \nMit seinem im Januar erschienenen Debutalbum auf entspannt ist der Hamburger Musiker ESTIKAY  der Mann der Stunde. Mit seiner unbeschwert-augenzwinkernden Musik nahm ihn SIDO bei seinem eigenen Label goldzweig unter Vertrag. Das Album besteht einerseits aus selbsteingespieltem Schlagzeug und Bässen\, aber gleichzeitig auch souligen Samples und verbindet neben den klassischen Beatkompositionen der neunziger Jahre melodiöse und experimentelle Elemente zu einem eigenen Style. \n \nTickets \nRelated Images:
URL:https://www.hamburg-city-webguide.de/event/estikay/
LOCATION:mojo club\, Reeperbahn 1\, Hamburg\, 20359
CATEGORIES:Alle Events,Dance/HipHop/RnB
END:VEVENT
END:VCALENDAR