BEGIN:VCALENDAR
VERSION:2.0
PRODID:-//HAMBURG CITY WEBGUIDE - ECPv6.15.20//NONSGML v1.0//EN
CALSCALE:GREGORIAN
METHOD:PUBLISH
X-ORIGINAL-URL:https://www.hamburg-city-webguide.de
X-WR-CALDESC:Veranstaltungen für HAMBURG CITY WEBGUIDE
REFRESH-INTERVAL;VALUE=DURATION:PT1H
X-Robots-Tag:noindex
X-PUBLISHED-TTL:PT1H
BEGIN:VTIMEZONE
TZID:Europe/Helsinki
BEGIN:DAYLIGHT
TZOFFSETFROM:+0200
TZOFFSETTO:+0300
TZNAME:EEST
DTSTART:20160327T010000
END:DAYLIGHT
BEGIN:STANDARD
TZOFFSETFROM:+0300
TZOFFSETTO:+0200
TZNAME:EET
DTSTART:20161030T010000
END:STANDARD
BEGIN:DAYLIGHT
TZOFFSETFROM:+0200
TZOFFSETTO:+0300
TZNAME:EEST
DTSTART:20170326T010000
END:DAYLIGHT
BEGIN:STANDARD
TZOFFSETFROM:+0300
TZOFFSETTO:+0200
TZNAME:EET
DTSTART:20171029T010000
END:STANDARD
BEGIN:DAYLIGHT
TZOFFSETFROM:+0200
TZOFFSETTO:+0300
TZNAME:EEST
DTSTART:20180325T010000
END:DAYLIGHT
BEGIN:STANDARD
TZOFFSETFROM:+0300
TZOFFSETTO:+0200
TZNAME:EET
DTSTART:20181028T010000
END:STANDARD
END:VTIMEZONE
BEGIN:VEVENT
DTSTART;TZID=Europe/Helsinki:20170602T180000
DTEND;TZID=Europe/Helsinki:20170603T235500
DTSTAMP:20260425T230650
CREATED:20141026T051614Z
LAST-MODIFIED:20171214T080451Z
UID:8950-1496426400-1496534100@www.hamburg-city-webguide.de
SUMMARY:ELBJAZZ Festival 2017
DESCRIPTION:Zum siebten Mal verwandelt sich der Hafen zu einem Umschlagplatz für internationalen Jazz. Rund 50 Konzerte mit bekannten Künstlern und Newcomern auf diversen Bühnen von Schiffsbauch bis zum Werftgeländevon Blohm & Voss zeigen die unterschiedlichen Spielarten des Jazz. \n \nBereits zugesagte Künstler: \nJan Garbarek\, Joshua Redman Trio\, Hildegard Lernt Fliegen\, NDR Bigband\, Beady Belle & Bugge Wesseltoft\, Dhafer Youssef\, Akua Naru\, Nighthawks\, Anna Lena Schnabel\, Benjamin Schaefer\, MIU\, Erik Truffaz\, Nina Attal\, Accordion Night\nTickets \nBericht zum ELBJAZZ 2014 \nRelated Images:
URL:https://www.hamburg-city-webguide.de/event/6-elbjazz-festival/
CATEGORIES:Alle Events,Festivals,Konzerte
ATTACH;FMTTYPE=image/jpeg:https://www.hamburg-city-webguide.de/wp-content/uploads/2015/12/Elbjazz.jpg
END:VEVENT
END:VCALENDAR