BEGIN:VCALENDAR
VERSION:2.0
PRODID:-//HAMBURG CITY WEBGUIDE - ECPv6.15.20//NONSGML v1.0//EN
CALSCALE:GREGORIAN
METHOD:PUBLISH
X-ORIGINAL-URL:https://www.hamburg-city-webguide.de
X-WR-CALDESC:Veranstaltungen für HAMBURG CITY WEBGUIDE
REFRESH-INTERVAL;VALUE=DURATION:PT1H
X-Robots-Tag:noindex
X-PUBLISHED-TTL:PT1H
BEGIN:VTIMEZONE
TZID:Europe/Helsinki
BEGIN:DAYLIGHT
TZOFFSETFROM:+0200
TZOFFSETTO:+0300
TZNAME:EEST
DTSTART:20160327T010000
END:DAYLIGHT
BEGIN:STANDARD
TZOFFSETFROM:+0300
TZOFFSETTO:+0200
TZNAME:EET
DTSTART:20161030T010000
END:STANDARD
BEGIN:DAYLIGHT
TZOFFSETFROM:+0200
TZOFFSETTO:+0300
TZNAME:EEST
DTSTART:20170326T010000
END:DAYLIGHT
BEGIN:STANDARD
TZOFFSETFROM:+0300
TZOFFSETTO:+0200
TZNAME:EET
DTSTART:20171029T010000
END:STANDARD
BEGIN:DAYLIGHT
TZOFFSETFROM:+0200
TZOFFSETTO:+0300
TZNAME:EEST
DTSTART:20180325T010000
END:DAYLIGHT
BEGIN:STANDARD
TZOFFSETFROM:+0300
TZOFFSETTO:+0200
TZNAME:EET
DTSTART:20181028T010000
END:STANDARD
END:VTIMEZONE
BEGIN:VEVENT
DTSTART;TZID=Europe/Helsinki:20171205T200000
DTEND;TZID=Europe/Helsinki:20171205T200000
DTSTAMP:20260425T030931
CREATED:20171026T132733Z
LAST-MODIFIED:20171026T132733Z
UID:24718-1512504000-1512504000@www.hamburg-city-webguide.de
SUMMARY:Elton John
DESCRIPTION:Über Elton John muss man nicht viel sagen. Mit seinem Greatest Hits- Programm nimmt er seine Fans regelmäßig mit auf eine Reise in die Vergangenheit. Aber das britische Pop-Idol belässt es nicht dabei. Auch auf seinen vier Deutschland-Konzerten\, auf denen er neben Köln\, Mannheim und Berlin endlich auch wieder Hamburg besucht\, präsentiert er auch Songs seines aktuellen Top-Ten-Albums Wonderful Crazy Night. \n \nTickets \nRelated Images:
URL:https://www.hamburg-city-webguide.de/event/elton-john/
LOCATION:Barclays Arena\, Hellgrundweg 44\, Hamburg\, 22525
CATEGORIES:Alle Events,Rock/Pop,Singer/Songwriter
ATTACH;FMTTYPE=image/jpeg:https://www.hamburg-city-webguide.de/wp-content/uploads/2017/10/Elton-John.jpg
ORGANIZER;CN="Karsten Jahnke":MAILTO:info@kj.de
END:VEVENT
END:VCALENDAR