BEGIN:VCALENDAR
VERSION:2.0
PRODID:-//HAMBURG CITY WEBGUIDE - ECPv6.15.20//NONSGML v1.0//EN
CALSCALE:GREGORIAN
METHOD:PUBLISH
X-WR-CALNAME:HAMBURG CITY WEBGUIDE
X-ORIGINAL-URL:https://www.hamburg-city-webguide.de
X-WR-CALDESC:Veranstaltungen für HAMBURG CITY WEBGUIDE
REFRESH-INTERVAL;VALUE=DURATION:PT1H
X-Robots-Tag:noindex
X-PUBLISHED-TTL:PT1H
BEGIN:VTIMEZONE
TZID:Europe/Helsinki
BEGIN:DAYLIGHT
TZOFFSETFROM:+0200
TZOFFSETTO:+0300
TZNAME:EEST
DTSTART:20170326T010000
END:DAYLIGHT
BEGIN:STANDARD
TZOFFSETFROM:+0300
TZOFFSETTO:+0200
TZNAME:EET
DTSTART:20171029T010000
END:STANDARD
BEGIN:DAYLIGHT
TZOFFSETFROM:+0200
TZOFFSETTO:+0300
TZNAME:EEST
DTSTART:20180325T010000
END:DAYLIGHT
BEGIN:STANDARD
TZOFFSETFROM:+0300
TZOFFSETTO:+0200
TZNAME:EET
DTSTART:20181028T010000
END:STANDARD
BEGIN:DAYLIGHT
TZOFFSETFROM:+0200
TZOFFSETTO:+0300
TZNAME:EEST
DTSTART:20190331T010000
END:DAYLIGHT
BEGIN:STANDARD
TZOFFSETFROM:+0300
TZOFFSETTO:+0200
TZNAME:EET
DTSTART:20191027T010000
END:STANDARD
END:VTIMEZONE
BEGIN:VEVENT
DTSTART;TZID=Europe/Helsinki:20180312T193000
DTEND;TZID=Europe/Helsinki:20180312T193000
DTSTAMP:20260424T230242
CREATED:20180202T101218Z
LAST-MODIFIED:20180202T101306Z
UID:10167-1520883000-1520883000@www.hamburg-city-webguide.de
SUMMARY:Kevin Hays & Lionel Loueke
DESCRIPTION:Der aus Benin stammenden Gitarrist Lionel Loueke lässt viele Einflüsse der Musik seiner westafrikanischen Heimat in sein Gitarrenspiel einfließen\, ohne aber in den Bereich „Weltmusik“ abzudriften. Der ECHO Jazz-Preisträger spielte bereits mit Wayne Shorter\, Herbie Hancock und Angelique Kidjo. Zusammen mit dem Jazz-Pianisten Kevin Hays treffen sich zwei der rennomiertesten Jazz-Musiker auf der Bühne und lassen etwas komplett Eigenes entstehen. \n \nTickets \n  \nRelated Images:
URL:https://www.hamburg-city-webguide.de/event/kevin-hays-lionel-loueke/
LOCATION:Elbphilharmonie Kleiner Saal\, Platz der Deutschen Einheit 1\, Hamburg\,  20457 
CATEGORIES:Alle Events,Soul/Funk/Jazz
ATTACH;FMTTYPE=image/jpeg:https://www.hamburg-city-webguide.de/wp-content/uploads/2018/02/Lionel-Loueke_0001.jpg
ORGANIZER;CN="Karsten Jahnke":MAILTO:info@kj.de
END:VEVENT
BEGIN:VEVENT
DTSTART;TZID=Europe/Helsinki:20180321T200000
DTEND;TZID=Europe/Helsinki:20180321T200000
DTSTAMP:20260424T230242
CREATED:20180202T085035Z
LAST-MODIFIED:20180202T085035Z
UID:26367-1521662400-1521662400@www.hamburg-city-webguide.de
SUMMARY:Gilberto Gil\, Gal Costa und Nando Reis
DESCRIPTION:Das brasilianische All-Star Trio bringt mit Gilberto Gil\, Gal Costa und Nando Reis drei der wichtigsten Vertreter der zeitgenössischen Música Popular Brasileira (MPB) auf die Bühne. \n \nDie drei Asse aus Bahia und Sao Pauli zählen seit Jahrzehnten zu den Schwergewichten der der brasilianischen Musik. Dabei verknüpfen sie die Wurzeln des Bossa Nova mit modernen populären Elementen. \nTickets \nRelated Images:
URL:https://www.hamburg-city-webguide.de/event/gilberto-gil-gal-costa-und-nando-reis/
LOCATION:Elbphilharmonie Großer Saal\, Platz der Deutschen Einheit 1\, Hamburg\, 20457
CATEGORIES:Alle Events,Latin/Reggae
ORGANIZER;CN="Karsten Jahnke":MAILTO:info@kj.de
END:VEVENT
END:VCALENDAR