BEGIN:VCALENDAR
VERSION:2.0
PRODID:-//HAMBURG CITY WEBGUIDE - ECPv6.15.20//NONSGML v1.0//EN
CALSCALE:GREGORIAN
METHOD:PUBLISH
X-ORIGINAL-URL:https://www.hamburg-city-webguide.de
X-WR-CALDESC:Veranstaltungen für HAMBURG CITY WEBGUIDE
REFRESH-INTERVAL;VALUE=DURATION:PT1H
X-Robots-Tag:noindex
X-PUBLISHED-TTL:PT1H
BEGIN:VTIMEZONE
TZID:Europe/Helsinki
BEGIN:DAYLIGHT
TZOFFSETFROM:+0200
TZOFFSETTO:+0300
TZNAME:EEST
DTSTART:20170326T010000
END:DAYLIGHT
BEGIN:STANDARD
TZOFFSETFROM:+0300
TZOFFSETTO:+0200
TZNAME:EET
DTSTART:20171029T010000
END:STANDARD
BEGIN:DAYLIGHT
TZOFFSETFROM:+0200
TZOFFSETTO:+0300
TZNAME:EEST
DTSTART:20180325T010000
END:DAYLIGHT
BEGIN:STANDARD
TZOFFSETFROM:+0300
TZOFFSETTO:+0200
TZNAME:EET
DTSTART:20181028T010000
END:STANDARD
BEGIN:DAYLIGHT
TZOFFSETFROM:+0200
TZOFFSETTO:+0300
TZNAME:EEST
DTSTART:20190331T010000
END:DAYLIGHT
BEGIN:STANDARD
TZOFFSETFROM:+0300
TZOFFSETTO:+0200
TZNAME:EET
DTSTART:20191027T010000
END:STANDARD
END:VTIMEZONE
BEGIN:VEVENT
DTSTART;TZID=Europe/Helsinki:20180405T193000
DTEND;TZID=Europe/Helsinki:20180405T193000
DTSTAMP:20260424T214533
CREATED:20160930T040851Z
LAST-MODIFIED:20180202T095442Z
UID:18650-1522956600-1522956600@www.hamburg-city-webguide.de
SUMMARY:Felix Jaehn
DESCRIPTION:Nach seinem Erfolg mit mit seinem Remix von Omis Reggae-Song Cheerleader im Jahr 2015 ist Felix Jaehn inzwischen zum weltweit beachteten Superstar des Tropical- und Deep-House aufgestiegen. Mit Chaka Khan-Hits Ain’t Nobody (Loves Me Better) konnte er nahtlos an seinen Erfolg anknüpfen. \n \nAllein für diese beiden Singles wurden Felix Jaehn weltweit 60 Platin-Auszeichnungen verliehen. Sein aktueller Song\, Bonfire (feat. ALMA)\, hat sich zu dem großen Sommerhit des Jahres 2016 entwickelt. Im Frühjahr geht er auf die I Live Tour 2018. \nTickets \nFelix Jaehn feiert House-Party in der Elbphilharmonie \nRelated Images:
URL:https://www.hamburg-city-webguide.de/event/felix-jaehn/
LOCATION:Mehr! Theater am Großmarkt\, Banksstraße 28\, Hamburg\, 20097
CATEGORIES:Alle Events,Dance/HipHop/RnB
ATTACH;FMTTYPE=image/jpeg:https://www.hamburg-city-webguide.de/wp-content/uploads/2016/10/Felix-Jaehn02.jpg
ORGANIZER;CN="Karsten Jahnke":MAILTO:info@kj.de
END:VEVENT
BEGIN:VEVENT
DTSTART;TZID=Europe/Helsinki:20180426T200000
DTEND;TZID=Europe/Helsinki:20180426T200000
DTSTAMP:20260424T214533
CREATED:20151209T013429Z
LAST-MODIFIED:20180202T092231Z
UID:14851-1524772800-1524772800@www.hamburg-city-webguide.de
SUMMARY:Anastacia
DESCRIPTION:Ihre prägnante Soulstimmeist Anastacias Markenzeichen. Sie ist gleichzeitig Ausdruck der ihr innewohnenden Kraft\, das Schicksal anzunehmen und immer wieder neu in Erscheinung zu treten. Nach der großartigen Resonanz auf ihre Resurrection-Welttour präsentiert die Sängerin zusammen mit ihrer großartigen Band alle Chartbreaker und ihre neue Single ›Take This Chance‹ auch dem deutschen Publikum.. \n \nTickets \nRelated Images:
URL:https://www.hamburg-city-webguide.de/event/14851/
LOCATION:Laeiszhalle – Großer Saal\, Johannes-Brahms-Platz\, Hamburg\, 20355
CATEGORIES:Alle Events,Rock/Pop
ATTACH;FMTTYPE=image/jpeg:https://www.hamburg-city-webguide.de/wp-content/uploads/2015/12/Anastacia.jpg
ORGANIZER;CN="Karsten Jahnke":MAILTO:info@kj.de
END:VEVENT
END:VCALENDAR