BEGIN:VCALENDAR
VERSION:2.0
PRODID:-//HAMBURG CITY WEBGUIDE - ECPv6.15.20//NONSGML v1.0//EN
CALSCALE:GREGORIAN
METHOD:PUBLISH
X-WR-CALNAME:HAMBURG CITY WEBGUIDE
X-ORIGINAL-URL:https://www.hamburg-city-webguide.de
X-WR-CALDESC:Veranstaltungen für HAMBURG CITY WEBGUIDE
REFRESH-INTERVAL;VALUE=DURATION:PT1H
X-Robots-Tag:noindex
X-PUBLISHED-TTL:PT1H
BEGIN:VTIMEZONE
TZID:Europe/Helsinki
BEGIN:DAYLIGHT
TZOFFSETFROM:+0200
TZOFFSETTO:+0300
TZNAME:EEST
DTSTART:20170326T010000
END:DAYLIGHT
BEGIN:STANDARD
TZOFFSETFROM:+0300
TZOFFSETTO:+0200
TZNAME:EET
DTSTART:20171029T010000
END:STANDARD
BEGIN:DAYLIGHT
TZOFFSETFROM:+0200
TZOFFSETTO:+0300
TZNAME:EEST
DTSTART:20180325T010000
END:DAYLIGHT
BEGIN:STANDARD
TZOFFSETFROM:+0300
TZOFFSETTO:+0200
TZNAME:EET
DTSTART:20181028T010000
END:STANDARD
BEGIN:DAYLIGHT
TZOFFSETFROM:+0200
TZOFFSETTO:+0300
TZNAME:EEST
DTSTART:20190331T010000
END:DAYLIGHT
BEGIN:STANDARD
TZOFFSETFROM:+0300
TZOFFSETTO:+0200
TZNAME:EET
DTSTART:20191027T010000
END:STANDARD
END:VTIMEZONE
BEGIN:VEVENT
DTSTART;VALUE=DATE:20180601
DTEND;VALUE=DATE:20180603
DTSTAMP:20260424T191207
CREATED:20171214T081535Z
LAST-MODIFIED:20180415T095032Z
UID:25466-1527811200-1527983999@www.hamburg-city-webguide.de
SUMMARY:ELBJAZZ Festival 2018
DESCRIPTION:Zum achten Mal verwandelt sich der Hafen zu einem Umschlagplatz für internationalen Jazz. Rund 50 Konzerte mit bekannten Künstlern und Newcomern auf diversen Bühnen von Schiffsbauch bis zum Werftgeländevon Blohm & Voss zeigen die unterschiedlichen Spielarten des Jazz. \n \nBereits bestätigte Künstler\nCHINA MOSES\, MARIUS NESET\, THEO CROKER\, OMER KLEIN\, WEB WEB\, DJANGO BATES\, EVA KLESSE QUARTETT\, CMQ BIG BAND\, TRIO VON CHAMPIONS\, ANDROMEDA MEGA EXPRESS\, CHASSOL\, TONY ALLAN\, NNEKA\, NILS LANDGREN FUNK UNIT\, GOGO PENGUIN\, MATT ANDERSEN\, NDR BIGBAND feat. ALON& JOCA\, KAT FRANKIE SPECIAL ACOUSTIC PERFORMANCE\, MAMMAL HANDS; ECHOES OF SWING\, KAMASI WASHINGTON\, NILS WÜLKER\,NIGHTHAWKS\, KINGA GLYK\, THE COOKERS\, MARCUS KING\, CHARLES PASI\, DOUG CARN\, HWINZ SAUER UND JASPER VAN’T HOF\, JOCO\, PABLO HELD TRIO\, EMIL BRANDQUIST TRIO\, STEINMETZ & STICKAN FEAT. SIMIN TANDER\, PHIL SIEMERS\, NUH(U)SSEL ORCHESTRA\, FABIA MANTWIL QUINTETT\, BAMM\, DANIEL HIRTH TRIO FEAT. FRANK DELLE\, SIENA JAZZ FEAT. DAVID GRABOWSKI QUARTETT\, KABALOON\, MAGNUM COLTRANE PRICE\, LAURA PERRUDIN\, BOTTICELLI BABY\, DAN GOTTSHALL\, ESTONIAN VOICES\, ESTRADA ORCHESTRA\, MONKEY PILOT\, HFMT BIG BAND\, EUROPEAN JAZZ LABORATORY. \nAls erster Artist in Residence tritt der vielseitige Pianist Michael Wollny in mehreren Formarionen au:MICHAEL WOLLNY TRIO\, MICHAEL WOLLNY & FRIENDS MICHAEL WOLLNY & KONSTANTIN GROPPER. \nFür das Konzert ist eine Reservierung nötig. \nTickets gibt es online oder über die Hotline 040 – 413 22 60 (Montag bis Freitag 9.00 bis 18.30 Uhr) sowie an allen bekannten Vorverkaufsstellen. \nNils Wülker präsentiert neues Album auf ELBJAZZ Festival \nJoshua Redman begeistert auf ELBJAZZ Festival \nNew Orleans trifft Hamburg &#8211; 6. ELBJAZZ Festival im Hafen \n  \n  \nRelated Images:
URL:https://www.hamburg-city-webguide.de/event/elbjazz-festival-2018/
CATEGORIES:Alle Events,Dance/HipHop/RnB,Festivals,Soul/Funk/Jazz
ATTACH;FMTTYPE=image/jpeg:https://www.hamburg-city-webguide.de/wp-content/uploads/2017/12/Elbjazz-Festival.jpg
ORGANIZER;CN="ELBJAZZ GmbH":MAILTO:ahoi@elbjazz.de
END:VEVENT
BEGIN:VEVENT
DTSTART;TZID=Europe/Helsinki:20180601T230000
DTEND;TZID=Europe/Helsinki:20180601T230000
DTSTAMP:20260424T191207
CREATED:20171214T075754Z
LAST-MODIFIED:20171214T075754Z
UID:25461-1527894000-1527894000@www.hamburg-city-webguide.de
SUMMARY:Michael Wollny & Konstantin Gropper
DESCRIPTION:Als erster „Artist in Residence“ in der Geschichte des ELBJAZZ kommt Michael Wollny in verschiedenen Bestzungen zu mehreren Konzerten in die Elbphilharmonie. Die Bschlägt der Pianist\, wenn er Zusammen mit Konstantin Gropper\, dem Sänger von Get Well Soon\,  schlägt er zu später Stunde mit dem Projekt „Nachtgesang“ eine Brücke zwischen Jazz und Pop. \n \nFür das Konzert ist eine Reservierung nötig. \nTickets gibt es online oder über die Hotline 040 – 413 22 60 (Montag bis Freitag 9.00 bis 18.30 Uhr) sowie an allen bekannten Vorverkaufsstellen. \nRelated Images:
URL:https://www.hamburg-city-webguide.de/event/michael-wollny-konstantin-gropper/
LOCATION:Elbphilharmonie Großer Saal\, Platz der Deutschen Einheit 1\, Hamburg\, 20457
CATEGORIES:Alle Events,Rock/Pop,Soul/Funk/Jazz
ATTACH;FMTTYPE=image/jpeg:https://www.hamburg-city-webguide.de/wp-content/uploads/2017/12/Michael-Wollny-1.jpg
END:VEVENT
BEGIN:VEVENT
DTSTART;TZID=Europe/Helsinki:20180602T170000
DTEND;TZID=Europe/Helsinki:20180602T170000
DTSTAMP:20260424T191207
CREATED:20171214T072950Z
LAST-MODIFIED:20171214T074110Z
UID:25450-1527958800-1527958800@www.hamburg-city-webguide.de
SUMMARY:Marius Neset
DESCRIPTION:Der norwegische Saxofonist und frisch gebackene ECHO Jazz Preisträger Marius Neset wird beim ELBJAZZ Festival 2018 eines der begehrten Konzerte in der Elbphilharmonie bestreiten. \n \nFür das Konzert ist eine Reservierung nötig. \nTickets gibt es online oder über die Hotline 040 – 413 22 60 (Montag bis Freitag 9.00 bis 18.30 Uhr) sowie an allen bekannten Vorverkaufsstellen  \nMarius Neset im Oberhafen \nDoldinger erhält ECHO JAZZ für sein Lebenswerk \nRelated Images:
URL:https://www.hamburg-city-webguide.de/event/marius-neset/
LOCATION:Elbphilharmonie Großer Saal\, Platz der Deutschen Einheit 1\, Hamburg\, 20457
CATEGORIES:Alle Events,Soul/Funk/Jazz
ATTACH;FMTTYPE=image/jpeg:https://www.hamburg-city-webguide.de/wp-content/uploads/2015/03/IMG_2870.jpg
ORGANIZER;CN="ELBJAZZ GmbH":MAILTO:ahoi@elbjazz.de
END:VEVENT
BEGIN:VEVENT
DTSTART;TZID=Europe/Helsinki:20180602T230000
DTEND;TZID=Europe/Helsinki:20180602T230000
DTSTAMP:20260424T191207
CREATED:20171214T074304Z
LAST-MODIFIED:20190306T073532Z
UID:25455-1527980400-1527980400@www.hamburg-city-webguide.de
SUMMARY:Michael Wollny & Friends
DESCRIPTION:Die Zeitschrift Jazzwise brachte es in der Ausgabe November 2017 auf den Punkt: „The brightest and most charismatic stars of their generation in European jazz“. Gemeint war das Quartett Michael Wollny & Friends\, hinter dem sich neben Michael Wollny auch die in der Jazz-Szene hinreichend bekannten Andreas Schaerer\, Vincent Peirani und Emile Parisien verbergen. \n \nTickets gibt es online oder über die Hotline 040 – 413 22 60 (Montag bis Freitag 9.00 bis 18.30 Uhr) sowie an allen bekannten Vorverkaufsstellen. \nRelated Images:
URL:https://www.hamburg-city-webguide.de/event/michael-wollny-friends/
LOCATION:Elbphilharmonie Großer Saal\, Platz der Deutschen Einheit 1\, Hamburg\, 20457
CATEGORIES:Alle Events,Soul/Funk/Jazz
ATTACH;FMTTYPE=image/jpeg:https://www.hamburg-city-webguide.de/wp-content/uploads/2017/12/Michael-Wollny-1.jpg
ORGANIZER;CN="ELBJAZZ GmbH":MAILTO:ahoi@elbjazz.de
END:VEVENT
END:VCALENDAR