BEGIN:VCALENDAR
VERSION:2.0
PRODID:-//HAMBURG CITY WEBGUIDE - ECPv6.15.20//NONSGML v1.0//EN
CALSCALE:GREGORIAN
METHOD:PUBLISH
X-ORIGINAL-URL:https://www.hamburg-city-webguide.de
X-WR-CALDESC:Veranstaltungen für HAMBURG CITY WEBGUIDE
REFRESH-INTERVAL;VALUE=DURATION:PT1H
X-Robots-Tag:noindex
X-PUBLISHED-TTL:PT1H
BEGIN:VTIMEZONE
TZID:Europe/Helsinki
BEGIN:DAYLIGHT
TZOFFSETFROM:+0200
TZOFFSETTO:+0300
TZNAME:EEST
DTSTART:20170326T010000
END:DAYLIGHT
BEGIN:STANDARD
TZOFFSETFROM:+0300
TZOFFSETTO:+0200
TZNAME:EET
DTSTART:20171029T010000
END:STANDARD
BEGIN:DAYLIGHT
TZOFFSETFROM:+0200
TZOFFSETTO:+0300
TZNAME:EEST
DTSTART:20180325T010000
END:DAYLIGHT
BEGIN:STANDARD
TZOFFSETFROM:+0300
TZOFFSETTO:+0200
TZNAME:EET
DTSTART:20181028T010000
END:STANDARD
BEGIN:DAYLIGHT
TZOFFSETFROM:+0200
TZOFFSETTO:+0300
TZNAME:EEST
DTSTART:20190331T010000
END:DAYLIGHT
BEGIN:STANDARD
TZOFFSETFROM:+0300
TZOFFSETTO:+0200
TZNAME:EET
DTSTART:20191027T010000
END:STANDARD
END:VTIMEZONE
BEGIN:VEVENT
DTSTART;TZID=Europe/Helsinki:20180827T200000
DTEND;TZID=Europe/Helsinki:20180827T200000
DTSTAMP:20260424T132720
CREATED:20180815T045142Z
LAST-MODIFIED:20180815T045242Z
UID:28977-1535400000-1535400000@www.hamburg-city-webguide.de
SUMMARY:Youssou NDour & Le Super Etoile de Dakar
DESCRIPTION:Der senegalesische Sänger und Komponist vereint in seiner Musik Latin\, Jazz und Soul zum westafrikanischen Mbalax Stil. Basis seiner Musik ist westafrikanische Percussion. Gemeinsam mit seiner Band tritt der einflussreiche Politiker in der Elbphilharmonie auf. \n \nAUSVERKAUFT \nRelated Images:
URL:https://www.hamburg-city-webguide.de/event/yxoussou-ndour-le-super-etoile-de-dakar/
LOCATION:Elbphilharmonie Großer Saal\, Platz der Deutschen Einheit 1\, Hamburg\, 20457
CATEGORIES:Alle Events,Soul/Funk/Jazz
END:VEVENT
END:VCALENDAR