BEGIN:VCALENDAR
VERSION:2.0
PRODID:-//HAMBURG CITY WEBGUIDE - ECPv6.15.20//NONSGML v1.0//EN
CALSCALE:GREGORIAN
METHOD:PUBLISH
X-WR-CALNAME:HAMBURG CITY WEBGUIDE
X-ORIGINAL-URL:https://www.hamburg-city-webguide.de
X-WR-CALDESC:Veranstaltungen für HAMBURG CITY WEBGUIDE
REFRESH-INTERVAL;VALUE=DURATION:PT1H
X-Robots-Tag:noindex
X-PUBLISHED-TTL:PT1H
BEGIN:VTIMEZONE
TZID:Europe/Helsinki
BEGIN:DAYLIGHT
TZOFFSETFROM:+0200
TZOFFSETTO:+0300
TZNAME:EEST
DTSTART:20170326T010000
END:DAYLIGHT
BEGIN:STANDARD
TZOFFSETFROM:+0300
TZOFFSETTO:+0200
TZNAME:EET
DTSTART:20171029T010000
END:STANDARD
BEGIN:DAYLIGHT
TZOFFSETFROM:+0200
TZOFFSETTO:+0300
TZNAME:EEST
DTSTART:20180325T010000
END:DAYLIGHT
BEGIN:STANDARD
TZOFFSETFROM:+0300
TZOFFSETTO:+0200
TZNAME:EET
DTSTART:20181028T010000
END:STANDARD
BEGIN:DAYLIGHT
TZOFFSETFROM:+0200
TZOFFSETTO:+0300
TZNAME:EEST
DTSTART:20190331T010000
END:DAYLIGHT
BEGIN:STANDARD
TZOFFSETFROM:+0300
TZOFFSETTO:+0200
TZNAME:EET
DTSTART:20191027T010000
END:STANDARD
END:VTIMEZONE
BEGIN:VEVENT
DTSTART;TZID=Europe/Helsinki:20180901T080000
DTEND;TZID=Europe/Helsinki:20180901T170000
DTSTAMP:20260424T134805
CREATED:20161117T030758Z
LAST-MODIFIED:20180902T184031Z
UID:19418-1535788800-1535821200@www.hamburg-city-webguide.de
SUMMARY:Romantik-Nächte
DESCRIPTION:Bei den Romantik-Nächten im Tierpark Hagenbeck trifft Klassik trifft Exotik. Nach dem Brauch der klassischen Musikepoche\, Musik überall wo Menschen zusammenkommen zu präsentieren\, gibt es musikalische Darbietungen überall im Park. \n \nNeben dem vielfältigen Klang unterschiedlicher Tierstimmen finden sich alle Klänge eines Sinfonieorchesters in den eigens für diese Abende zusammengestellten Ensembles wieder. \nRelated Images:
URL:https://www.hamburg-city-webguide.de/event/romantik-naechte-2/
LOCATION:Tierpark Hagenbeck\, Lokstedter Grenzstraße 2\, Hamburg\, 22527
CATEGORIES:Alle Events,Feste,Klassik
END:VEVENT
BEGIN:VEVENT
DTSTART;TZID=Europe/Helsinki:20180908T170000
DTEND;TZID=Europe/Helsinki:20180908T170000
DTSTAMP:20260424T134805
CREATED:20161117T030939Z
LAST-MODIFIED:20180902T183842Z
UID:19420-1536426000-1536426000@www.hamburg-city-webguide.de
SUMMARY:Romantik-Nächte
DESCRIPTION:Bei den Romantik-Nächten im Tierpark Hagenbeck trifft Klassik trifft Exotik. Nach dem Brauch der klassischen Musikepoche\, Musik überall wo Menschen zusammenkommen zu präsentieren\, gibt es musikalische Darbietungen überall im Park. \n \nNeben dem vielfältigen Klang unterschiedlicher Tierstimmen finden sich alle Klänge eines Sinfonieorchesters in den eigens für diese Abende zusammengestellten Ensembles wieder. \nRelated Images:
URL:https://www.hamburg-city-webguide.de/event/romantik-naechte-3/
LOCATION:Tierpark Hagenbeck\, Lokstedter Grenzstraße 2\, Hamburg\, 22527
CATEGORIES:Alle Events,Feste,Klassik
END:VEVENT
END:VCALENDAR