BEGIN:VCALENDAR
VERSION:2.0
PRODID:-//HAMBURG CITY WEBGUIDE - ECPv6.15.20//NONSGML v1.0//EN
CALSCALE:GREGORIAN
METHOD:PUBLISH
X-ORIGINAL-URL:https://www.hamburg-city-webguide.de
X-WR-CALDESC:Veranstaltungen für HAMBURG CITY WEBGUIDE
REFRESH-INTERVAL;VALUE=DURATION:PT1H
X-Robots-Tag:noindex
X-PUBLISHED-TTL:PT1H
BEGIN:VTIMEZONE
TZID:Europe/Helsinki
BEGIN:DAYLIGHT
TZOFFSETFROM:+0200
TZOFFSETTO:+0300
TZNAME:EEST
DTSTART:20170326T010000
END:DAYLIGHT
BEGIN:STANDARD
TZOFFSETFROM:+0300
TZOFFSETTO:+0200
TZNAME:EET
DTSTART:20171029T010000
END:STANDARD
BEGIN:DAYLIGHT
TZOFFSETFROM:+0200
TZOFFSETTO:+0300
TZNAME:EEST
DTSTART:20180325T010000
END:DAYLIGHT
BEGIN:STANDARD
TZOFFSETFROM:+0300
TZOFFSETTO:+0200
TZNAME:EET
DTSTART:20181028T010000
END:STANDARD
BEGIN:DAYLIGHT
TZOFFSETFROM:+0200
TZOFFSETTO:+0300
TZNAME:EEST
DTSTART:20190331T010000
END:DAYLIGHT
BEGIN:STANDARD
TZOFFSETFROM:+0300
TZOFFSETTO:+0200
TZNAME:EET
DTSTART:20191027T010000
END:STANDARD
END:VTIMEZONE
BEGIN:VEVENT
DTSTART;TZID=Europe/Helsinki:20181017T200000
DTEND;TZID=Europe/Helsinki:20181017T200000
DTSTAMP:20260424T081042
CREATED:20150414T114549Z
LAST-MODIFIED:20180902T191953Z
UID:11636-1539806400-1539806400@www.hamburg-city-webguide.de
SUMMARY:Kovacs
DESCRIPTION:Ihr rauer Stil und ihre dunkle Stimme führen oft zu Vergleichen mit Portishead oder Amy Winehouse. Ihre im März veröffentlichten Single My Love war Vorbote zu dem Debütalbum. Mit regelmäßig ausverkauften Konzerten ist Sharon Kovacs inzwischen längst kein Geheimtipp mehr. \n \n„Dieser düstere Sound entsteht durch meine Stimme und die Arrangements\, aber auch durch die Tatsache\, dass wir alles in Moll komponieren. Ich mag diese Stimmungsschwankungen\, meine Musik hat Seele.“ so Kovacs. \nTickets \n  \nRelated Images:
URL:https://www.hamburg-city-webguide.de/event/kovacs/
LOCATION:Gruenspan\, Große Freiheit 58\, Hamburg\, 22767
CATEGORIES:Alle Events,Rock/Pop,Singer/Songwriter
ATTACH;FMTTYPE=image/jpeg:https://www.hamburg-city-webguide.de/wp-content/uploads/2015/05/Kovacs.jpg
ORGANIZER;CN="Karsten Jahnke":MAILTO:info@kj.de
END:VEVENT
BEGIN:VEVENT
DTSTART;TZID=Europe/Helsinki:20181018T200000
DTEND;TZID=Europe/Helsinki:20181018T200000
DTSTAMP:20260424T081042
CREATED:20181015T155630Z
LAST-MODIFIED:20181015T161826Z
UID:30297-1539892800-1539892800@www.hamburg-city-webguide.de
SUMMARY:Glenn Hughes
DESCRIPTION:Als Bassist und Sänger von Deep Purple schaffte es Glenn Hughes in die „Rock and Roll Hall of Fame“. Nach einer erfolgreichen Tour durch Australien und Neuseeland kommt er nun endlich auch nach Deutschland. \n \nIm Rahmen seiner „Glenn Hughes Performs Classic Deep Purple Live Tour 2018/19“  steht ausschließlich Material der legendären Formation auf dem Programm. \nTickets \nRelated Images:
URL:https://www.hamburg-city-webguide.de/event/glenn-hughes/
LOCATION:Fabrik Hamburg\, Barnerstraße 36\, Hamburg\, 22765
CATEGORIES:Alle Events,Rock/Pop
END:VEVENT
BEGIN:VEVENT
DTSTART;TZID=Europe/Helsinki:20181020T200000
DTEND;TZID=Europe/Helsinki:20181020T200000
DTSTAMP:20260424T081042
CREATED:20150405T162327Z
LAST-MODIFIED:20180902T192243Z
UID:10933-1540065600-1540065600@www.hamburg-city-webguide.de
SUMMARY:Jesper Munk
DESCRIPTION:Mit unter anderem fünf Gigs beim 2014er Reeperbahn Festival begeisterte der Songwriter und Gitarrist auch mit seiner außergewöhnlichen Stimme. Nachdem er mit Top-Acts wie Michael Hurley\, Willard Grand\, Eric Burdon & The Animals sowie  Sportfreunde Stiller aufgetreten ist\, besucht er einmal mehr die Hansestadt. \n \nTickets \nRelated Images:
URL:https://www.hamburg-city-webguide.de/event/jesper-munk/
LOCATION:Gruenspan\, Große Freiheit 58\, Hamburg\, 22767
CATEGORIES:Alle Events,Singer/Songwriter
ORGANIZER;CN="Karsten Jahnke":MAILTO:info@kj.de
END:VEVENT
BEGIN:VEVENT
DTSTART;TZID=Europe/Helsinki:20181021T210000
DTEND;TZID=Europe/Helsinki:20181021T210000
DTSTAMP:20260424T081042
CREATED:20181015T161529Z
LAST-MODIFIED:20181015T161808Z
UID:30299-1540155600-1540155600@www.hamburg-city-webguide.de
SUMMARY:Systema Solar
DESCRIPTION:Inspitiert von der Tradition karibischer Blockpartys (Verbena) und den Pikós (selbstgebastelte Soundsysteme) bringt Systema Solar eine Musikshow mit Tanz und afro-kubanischen Klängen auf die Bühne. \n \nDabei fließen verschiedene traditionelle Tänze aus der karibischen Heimat wie Fandango\, Cumba und Chapeta mit modernen Stömungen wie HipHop\, House und Elektro zu einem eigenen Stil zusammen\, den sie Berbenautika nennen.  \nTickets \nRelated Images:
URL:https://www.hamburg-city-webguide.de/event/systema-solar/
LOCATION:Fabrik Hamburg\, Barnerstraße 36\, Hamburg\, 22765
CATEGORIES:Alle Events,Latin/Reggae
END:VEVENT
END:VCALENDAR