BEGIN:VCALENDAR
VERSION:2.0
PRODID:-//HAMBURG CITY WEBGUIDE - ECPv6.15.20//NONSGML v1.0//EN
CALSCALE:GREGORIAN
METHOD:PUBLISH
X-ORIGINAL-URL:https://www.hamburg-city-webguide.de
X-WR-CALDESC:Veranstaltungen für HAMBURG CITY WEBGUIDE
REFRESH-INTERVAL;VALUE=DURATION:PT1H
X-Robots-Tag:noindex
X-PUBLISHED-TTL:PT1H
BEGIN:VTIMEZONE
TZID:Europe/Helsinki
BEGIN:DAYLIGHT
TZOFFSETFROM:+0200
TZOFFSETTO:+0300
TZNAME:EEST
DTSTART:20170326T010000
END:DAYLIGHT
BEGIN:STANDARD
TZOFFSETFROM:+0300
TZOFFSETTO:+0200
TZNAME:EET
DTSTART:20171029T010000
END:STANDARD
BEGIN:DAYLIGHT
TZOFFSETFROM:+0200
TZOFFSETTO:+0300
TZNAME:EEST
DTSTART:20180325T010000
END:DAYLIGHT
BEGIN:STANDARD
TZOFFSETFROM:+0300
TZOFFSETTO:+0200
TZNAME:EET
DTSTART:20181028T010000
END:STANDARD
BEGIN:DAYLIGHT
TZOFFSETFROM:+0200
TZOFFSETTO:+0300
TZNAME:EEST
DTSTART:20190331T010000
END:DAYLIGHT
BEGIN:STANDARD
TZOFFSETFROM:+0300
TZOFFSETTO:+0200
TZNAME:EET
DTSTART:20191027T010000
END:STANDARD
END:VTIMEZONE
BEGIN:VEVENT
DTSTART;TZID=Europe/Helsinki:20181202T200000
DTEND;TZID=Europe/Helsinki:20181202T200000
DTSTAMP:20260424T023059
CREATED:20181130T093643Z
LAST-MODIFIED:20181130T093643Z
UID:30898-1543780800-1543780800@www.hamburg-city-webguide.de
SUMMARY:Gizmo Varillas
DESCRIPTION:Mit melodiös fließenden Grooves sorgt der spanische Singer-Songwriter Gizmo Varillas das gesamte Jahr über für Urlaubsfeeling.  Auf seinem Debütalbum hat der in London lebende Musiker jedes Instrument selber arrangiert und gespielt. \n \nTickets \nRelated Images:
URL:https://www.hamburg-city-webguide.de/event/gizmo-varillas/
LOCATION:Jazz Cafe im mojo\, Reeperbahn 1\, Hamburg\, 20359
CATEGORIES:Alle Events,Rock/Pop,Singer/Songwriter
END:VEVENT
BEGIN:VEVENT
DTSTART;TZID=Europe/Helsinki:20181204T200000
DTEND;TZID=Europe/Helsinki:20181204T200000
DTSTAMP:20260424T023059
CREATED:20141111T204950Z
LAST-MODIFIED:20181204T094020Z
UID:9031-1543953600-1543953600@www.hamburg-city-webguide.de
SUMMARY:Nils Landgren - Christmas With My Friends
DESCRIPTION:Der Posaunist\, Sänger und Produzent Nils Landgren Feiert dieses Jahr gleich zweimal in Hamburg mit Freunden das Weihnachtsfest. Der vielseitige  Jazzmusiker präsentiert eine Auswahl aus den vielen\, ganz unterschiedlichen Weihnachtsliedern. Zu ›Christmas With My Friends‹ wird er einmal im Michel und einmal in der St. Johannis-Kirche auftreten. \n \nNils Landgren „Christmas With My Friends“\nACTMusicOfficial \n\nNils Landgren – Christmas with my Friends III \n \nTickets \n  \nRelated Images:
URL:https://www.hamburg-city-webguide.de/event/nils-landgren-christmas-with-my-friends/
LOCATION:Mehr! Theater am Großmarkt\, Banksstraße 28\, Hamburg\, 20097
CATEGORIES:Alle Events,Konzerte
ATTACH;FMTTYPE=image/jpeg:https://www.hamburg-city-webguide.de/wp-content/uploads/2012/12/Nils-Landgren-Christmas-with-my-Friends.jpg
ORGANIZER;CN="Karsten Jahnke":MAILTO:info@kj.de
END:VEVENT
BEGIN:VEVENT
DTSTART;TZID=Europe/Helsinki:20181216T200000
DTEND;TZID=Europe/Helsinki:20181216T200000
DTSTAMP:20260424T023059
CREATED:20171016T124615Z
LAST-MODIFIED:20181130T092728Z
UID:24598-1544990400-1544990400@www.hamburg-city-webguide.de
SUMMARY:Akua Naru
DESCRIPTION:Die in Köln lebende US-amerikanische HipHop-Künstlerin Akua Naru mischt ihre sozialkritischen Texte mit afrikanischer Rhythmik und Einflüssen aus Jazz Blues und Soul. Mit ihrer ausdrucksstarken Stimme hält sie Vergleichen mit anderen Vertretern des Conscious Rap ohne Probleme stand. \n \nTickets \nNils Wülker präsentiert neues Album auf ELBJAZZ Festival \n \n  \nRelated Images:
URL:https://www.hamburg-city-webguide.de/event/akua-naru/
LOCATION:Knust\, Neuer Kamp 30\, Hamburg\, 20357
CATEGORIES:Alle Events,Dance/HipHop/RnB,Soul/Funk/Jazz
ORGANIZER;CN="Karsten Jahnke":MAILTO:info@kj.de
END:VEVENT
BEGIN:VEVENT
DTSTART;TZID=Europe/Helsinki:20181218T200000
DTEND;TZID=Europe/Helsinki:20181218T200000
DTSTAMP:20260424T023059
CREATED:20181213T204138Z
LAST-MODIFIED:20181213T204138Z
UID:31061-1545163200-1545163200@www.hamburg-city-webguide.de
SUMMARY:Achim Seifert CD Release Party
DESCRIPTION:Der Arrangeur\, Komponist und Bassitst Achim Seifert bekam orientalische Rhythmen durch seine türkischen Wurzeln in die Wiege gelegt. Die integrierte er nach seinem Bass-Studium in Hannover und in Berklee in seine Musik. Einflüsse  aus Drum ’n‘ Bass\, Fusion und melodiösen Basslinien a la Jaco Pastorius werden auch auf seinem neuen Album Versus deutlich\, das er auf der CD-Release Party vorstellt. \n \nDabei begleiten ihn Heiko Fischer an der Gitarre und Konrad Ulrich an den Drums. \nTickets \nRelated Images:
URL:https://www.hamburg-city-webguide.de/event/achim-seifert-cd-release-party/
LOCATION:Stage Club\, Stresemannstraße 159a\, Hamburg\, 22769
CATEGORIES:Alle Events,Soul/Funk/Jazz
END:VEVENT
BEGIN:VEVENT
DTSTART;TZID=Europe/Helsinki:20181219T200000
DTEND;TZID=Europe/Helsinki:20181219T200000
DTSTAMP:20260424T023059
CREATED:20160930T035827Z
LAST-MODIFIED:20181030T162906Z
UID:18647-1545249600-1545249600@www.hamburg-city-webguide.de
SUMMARY:Max Giesinger
DESCRIPTION:Max Giesinger eroberte 2016 mit Der Junge\, der rennt die deutsche Musiklandschaft im Sturm. Inzwischen gehört er mit zahlreichen Shows zu den Dauerbrennern auf deutschen Bühnen.  \n \nTickets \nRelated Images:
URL:https://www.hamburg-city-webguide.de/event/max-giesinger/
LOCATION:mojo club\, Reeperbahn 1\, Hamburg\, 20359
CATEGORIES:Alle Events,Rock/Pop
ORGANIZER;CN="Karsten Jahnke":MAILTO:info@kj.de
END:VEVENT
END:VCALENDAR