BEGIN:VCALENDAR
VERSION:2.0
PRODID:-//HAMBURG CITY WEBGUIDE - ECPv6.15.20//NONSGML v1.0//EN
CALSCALE:GREGORIAN
METHOD:PUBLISH
X-ORIGINAL-URL:https://www.hamburg-city-webguide.de
X-WR-CALDESC:Veranstaltungen für HAMBURG CITY WEBGUIDE
REFRESH-INTERVAL;VALUE=DURATION:PT1H
X-Robots-Tag:noindex
X-PUBLISHED-TTL:PT1H
BEGIN:VTIMEZONE
TZID:Europe/Helsinki
BEGIN:DAYLIGHT
TZOFFSETFROM:+0200
TZOFFSETTO:+0300
TZNAME:EEST
DTSTART:20180325T010000
END:DAYLIGHT
BEGIN:STANDARD
TZOFFSETFROM:+0300
TZOFFSETTO:+0200
TZNAME:EET
DTSTART:20181028T010000
END:STANDARD
BEGIN:DAYLIGHT
TZOFFSETFROM:+0200
TZOFFSETTO:+0300
TZNAME:EEST
DTSTART:20190331T010000
END:DAYLIGHT
BEGIN:STANDARD
TZOFFSETFROM:+0300
TZOFFSETTO:+0200
TZNAME:EET
DTSTART:20191027T010000
END:STANDARD
BEGIN:DAYLIGHT
TZOFFSETFROM:+0200
TZOFFSETTO:+0300
TZNAME:EEST
DTSTART:20200329T010000
END:DAYLIGHT
BEGIN:STANDARD
TZOFFSETFROM:+0300
TZOFFSETTO:+0200
TZNAME:EET
DTSTART:20201025T010000
END:STANDARD
END:VTIMEZONE
BEGIN:VEVENT
DTSTART;TZID=Europe/Helsinki:20190305T200000
DTEND;TZID=Europe/Helsinki:20190305T200000
DTSTAMP:20260423T191615
CREATED:20190228T010623Z
LAST-MODIFIED:20190228T122855Z
UID:32305-1551816000-1551816000@www.hamburg-city-webguide.de
SUMMARY:Dan Weiss
DESCRIPTION:Mit seinem aktuellen Projekt schart der US -amerikanische Drummer Dan Weiss einige der experimentierfreudigsten Musiker der New Yorker Szene um sich. Dabei verbindet er nach eigener Aussage den Jazz mit der Kraft des Heavy Metal und den Feinheiten neuer elektronischer Musik. \n \nDer Pianist Craig Taborn brillierte erst vor kurzem im Rahmen von Lux Aeterna in der Laeiszhalle. Er wird an den Tasten unterstütz von dem Elektronikmagier Matt Mitchell und dem vielseitigen Gitarristen Ben Monder\, der unlängst noch mit David Bowie auftrat. Das Ensemble wird von Trevor Dunn am Bass vervollständigt. \nTickets \nRelated Images:
URL:https://www.hamburg-city-webguide.de/event/dan-weiss/
LOCATION:Stage Club\, Stresemannstraße 159a\, Hamburg\, 22769
CATEGORIES:Alle Events,Soul/Funk/Jazz
ATTACH;FMTTYPE=image/jpeg:https://www.hamburg-city-webguide.de/wp-content/uploads/2019/02/Dan-Weiss.jpeg
END:VEVENT
BEGIN:VEVENT
DTSTART;TZID=Europe/Helsinki:20190307T200000
DTEND;TZID=Europe/Helsinki:20190307T200000
DTSTAMP:20260423T191615
CREATED:20190305T101703Z
LAST-MODIFIED:20190305T120851Z
UID:32382-1551988800-1551988800@www.hamburg-city-webguide.de
SUMMARY:Brendan Perry
DESCRIPTION:Ger gebürtige Brite Brendan Perry hat in seiner 40-jährigen Bühnenkarriere Einflüsse verschiedenster Stilistiken aufgesogen und verarbeitet. Angefangen von einer neuseeländischen Punkband bildete er zusammen mit seiner Partnerin Lisa Gerrard mit Dead Can Dance eines der interessantesten Crossover-Projekte. \n \nIn seiner Solo-Karriere experimentierte er mit Sample-Bibliotheken\, um sich dann auch wieder anderen Einflüssen zu widmen. \n\nTickets \nRelated Images:
URL:https://www.hamburg-city-webguide.de/event/brendan-perry/
LOCATION:Terrace Hill\, Terrace Hill - Feldstraße 66\, Hamburg\, 20359
CATEGORIES:Alle Events,Singer/Songwriter
END:VEVENT
BEGIN:VEVENT
DTSTART;TZID=Europe/Helsinki:20190309T200000
DTEND;TZID=Europe/Helsinki:20190309T200000
DTSTAMP:20260423T191615
CREATED:20190305T104047Z
LAST-MODIFIED:20190305T120758Z
UID:32380-1552161600-1552161600@www.hamburg-city-webguide.de
SUMMARY:Florence + The Machine
DESCRIPTION:Gerade auf ihren Live-Auftritten versprüht Florence Welch Spaß und Energie. In ihrer Formation Florence + The Machine versammelt die britische Sängerin und Songwriterin stets in wechselnden Besetzungen Musiker aus ihrem Umfeld. Die Musik ist schnörkellos  authenthisch und vereinigt Indie\, Folk und Pop. \n \nMit dem neuen Album High As Hope fühlt sich Florence nach eigener Aussage wieder sehr nah an den Produktionen ihrer Anfangszeit aus dem Jahr 2009: „Die Arbeit an „High As Hope“ war eine Freude! Ich fühlte endlich wieder den Enthusiasmus\, den ich am Anfang der Aufnahmen meines ersten Albums gefühlt hatte. Damals hatte niemand Erwartungen\, ich konnte mich ins Studio stellen und ausprobieren“\, sagt sie in einem Interview mit dem Intro Magazin. \nFlorence + The Machine – Hunger\n﻿\nTickets \nRelated Images:
URL:https://www.hamburg-city-webguide.de/event/florence-the-machine/
LOCATION:Barclays Arena\, Hellgrundweg 44\, Hamburg\, 22525
CATEGORIES:Alle Events,Rock/Pop,Singer/Songwriter
END:VEVENT
BEGIN:VEVENT
DTSTART;TZID=Europe/Helsinki:20190310T190000
DTEND;TZID=Europe/Helsinki:20190310T190000
DTSTAMP:20260423T191615
CREATED:20140403T180217Z
LAST-MODIFIED:20190306T081001Z
UID:5628-1552244400-1552244400@www.hamburg-city-webguide.de
SUMMARY:Billy Cobham
DESCRIPTION:Billy Cobham gehörte in den frühen 70er Jahren zu den Gründungsmitgliedern des Mahavishnu Orchestras und ist damit einer bedeutendsten der Fusion-Drummer. Das unterstreicht auch seine Zusammenarbeit mit zahlreichen Größen der Musik wie Carlos Santana und Miles Davis. Nicht nur als Drummer\, auch als Komponist und Produzent vereinigt er auf einzigartige Weie Stilistiken wie Latin\, Rock und Jazz.  \n \nZu seinem 75. Geburtstag kommt Billy Cobham im Rahmen einer Europa Tour zusammen mit seinem Crosswinds Project auch nach Hamburg.  \n﻿ \nBilly Cobham [drums]\, Fareed Haque [guitar]\, Tim Landers [bass]\, Scott Tibbs [perc]\, Paul Hanson [bassoon] \n Tickets \nRelated Images:
URL:https://www.hamburg-city-webguide.de/event/5628/
LOCATION:Stage Club\, Stresemannstraße 159a\, Hamburg\, 22769
CATEGORIES:Alle Events,Soul/Funk/Jazz
ATTACH;FMTTYPE=image/jpeg:https://www.hamburg-city-webguide.de/wp-content/uploads/2014/05/billy_cobham.jpg
END:VEVENT
BEGIN:VEVENT
DTSTART;TZID=Europe/Helsinki:20190311T200000
DTEND;TZID=Europe/Helsinki:20190311T200000
DTSTAMP:20260423T191615
CREATED:20190122T102209Z
LAST-MODIFIED:20190122T102401Z
UID:31682-1552334400-1552334400@www.hamburg-city-webguide.de
SUMMARY:Dhafer Youssef
DESCRIPTION:Der tunesische Sänger Dhafer Youssef hat nicht nur mit seiner außergewöhnlichen Stimme\, sondern auch mit seinem Spiel auf der Oud einer arabischen Laute – eine ganz eigene Stilistik erfunden. In der Laeiszhalle präsenteirt der vielseitige Musiker sein aktuelles Album Sounds of Mirrors. \n \nDabei mischt er traditionelle arabische Elemente mit den Einflüssen aus dem Jazz. \nTickets \nNils Wülker präsentiert neues Album auf ELBJAZZ Festival \n \nRelated Images:
URL:https://www.hamburg-city-webguide.de/event/dhafer-youssef/
LOCATION:Laeiszhalle – Kleiner Saal\, Johannes-Brahms-Platz 1\, Hamburg
CATEGORIES:Alle Events,Singer/Songwriter,Soul/Funk/Jazz
END:VEVENT
BEGIN:VEVENT
DTSTART;TZID=Europe/Helsinki:20190312T210000
DTEND;TZID=Europe/Helsinki:20190312T210000
DTSTAMP:20260423T191615
CREATED:20150919T090311Z
LAST-MODIFIED:20190111T205307Z
UID:13645-1552424400-1552424400@www.hamburg-city-webguide.de
SUMMARY:John Mayall
DESCRIPTION:John Mayall\, der „Vater des weißen Blues“\, kommt auf seiner Tour auch in Hamburg vorbei. Mit Vorbildern wie Leadbelly\, Albert Ammons oder Eddie Lang im Gitarrenkoffer und einer Zusammenarbeit mit Alexis Korner gilt er als einer der Mitbegründer de „British Blues Boom“ in den späten 1960er Jahren. \n \nIn London gründete er die John Mayall’s Bluesbreakers\, zu denen auch Eric Clapton nach dem Ausstieg bei den Yardbirds gehörte. \nTickets \nRelated Images:
URL:https://www.hamburg-city-webguide.de/event/john-mayall/
LOCATION:Fabrik Hamburg\, Barnerstraße 36\, Hamburg\, 22765
CATEGORIES:Alle Events,Rock/Pop
ATTACH;FMTTYPE=image/jpeg:https://www.hamburg-city-webguide.de/wp-content/uploads/2015/09/johnmayall_mitgitarre.jpg
END:VEVENT
BEGIN:VEVENT
DTSTART;TZID=Europe/Helsinki:20190316T194500
DTEND;TZID=Europe/Helsinki:20190316T194500
DTSTAMP:20260423T191615
CREATED:20190305T115950Z
LAST-MODIFIED:20190305T120535Z
UID:32397-1552765500-1552765500@www.hamburg-city-webguide.de
SUMMARY:Jon and Roy
DESCRIPTION:Das kanadische Duo Jon and Roy produzierte schon zu Studienzeiten gemeinsam Songs. Mit Musik mit dem Flow eines Roadmovies nehmen der Sänger\, Songwrter und Gitarrist Jon Middleton und Percussionist Roy Vizer den Hörer in bewegten Zeiten mit auf eine Klangreise geprägt von eleganter Schlichtheit\, den Hörer in die Geborgenheit hüllt. \n \nAuf dem aktuellen Album The Road Ahead Is Golden ist das ehemalige Duo mit dem Bassist Louis Sadava zu einem Trio angewachsen. \n\nTickets \nFoto: © FKP Skorpio \nRelated Images:
URL:https://www.hamburg-city-webguide.de/event/jon-and-roy/
LOCATION:Nochtspeicher\, Bernhard-Nocht-Straße 69a\, Hamburg\, 20359
CATEGORIES:Alle Events,Rock/Pop,Singer/Songwriter
ATTACH;FMTTYPE=image/jpeg:https://www.hamburg-city-webguide.de/wp-content/uploads/2019/03/JonAndRoy_PromoShot_Ra_9813.jpg
END:VEVENT
BEGIN:VEVENT
DTSTART;TZID=Europe/Helsinki:20190319T200000
DTEND;TZID=Europe/Helsinki:20190319T200000
DTSTAMP:20260423T191615
CREATED:20190306T080033Z
LAST-MODIFIED:20190306T080840Z
UID:32420-1553025600-1553025600@www.hamburg-city-webguide.de
SUMMARY:Emile Parisien Quartet
DESCRIPTION:Der französische Saxophonist Emile Parisien gehört derzeit zu den bemerkenswertesten Erscheinungen im Jazz. Besonders seine Aufnahmen am Sopransaxophon sorgen international für Begeisterung. Die Jazz Federation konnte ihn nun zusammen mit seinem Quartett für einen Auftritt im Stage Club gewinnen. \n \nNeben Emile Parisien\, der am Soprano- und Tenorsaxophon zu sehen ist\, gehören der Band Julien Touéry am Piano\, Ivan Gélugne Bass und  Julien Loutelier an den Drums an. \nTickets \nRelated Images:
URL:https://www.hamburg-city-webguide.de/event/emile-parisien-quartet/
LOCATION:Stage Club\, Stresemannstraße 159a\, Hamburg\, 22769
CATEGORIES:Alle Events,Soul/Funk/Jazz
END:VEVENT
END:VCALENDAR