BEGIN:VCALENDAR
VERSION:2.0
PRODID:-//HAMBURG CITY WEBGUIDE - ECPv6.15.20//NONSGML v1.0//EN
CALSCALE:GREGORIAN
METHOD:PUBLISH
X-ORIGINAL-URL:https://www.hamburg-city-webguide.de
X-WR-CALDESC:Veranstaltungen für HAMBURG CITY WEBGUIDE
REFRESH-INTERVAL;VALUE=DURATION:PT1H
X-Robots-Tag:noindex
X-PUBLISHED-TTL:PT1H
BEGIN:VTIMEZONE
TZID:Europe/Helsinki
BEGIN:DAYLIGHT
TZOFFSETFROM:+0200
TZOFFSETTO:+0300
TZNAME:EEST
DTSTART:20180325T010000
END:DAYLIGHT
BEGIN:STANDARD
TZOFFSETFROM:+0300
TZOFFSETTO:+0200
TZNAME:EET
DTSTART:20181028T010000
END:STANDARD
BEGIN:DAYLIGHT
TZOFFSETFROM:+0200
TZOFFSETTO:+0300
TZNAME:EEST
DTSTART:20190331T010000
END:DAYLIGHT
BEGIN:STANDARD
TZOFFSETFROM:+0300
TZOFFSETTO:+0200
TZNAME:EET
DTSTART:20191027T010000
END:STANDARD
BEGIN:DAYLIGHT
TZOFFSETFROM:+0200
TZOFFSETTO:+0300
TZNAME:EEST
DTSTART:20200329T010000
END:DAYLIGHT
BEGIN:STANDARD
TZOFFSETFROM:+0300
TZOFFSETTO:+0200
TZNAME:EET
DTSTART:20201025T010000
END:STANDARD
END:VTIMEZONE
BEGIN:VEVENT
DTSTART;TZID=Europe/Helsinki:20190402T200000
DTEND;TZID=Europe/Helsinki:20190402T200000
DTSTAMP:20260423T191635
CREATED:20190326T162134Z
LAST-MODIFIED:20190326T162134Z
UID:32723-1554235200-1554235200@www.hamburg-city-webguide.de
SUMMARY:Norma Winstone feat. Jazzkombinat
DESCRIPTION:Nach ihrem ersten gemeinsamen Album mit Kevin Wheeler Music for Large and Small Ensemble vor 30 Jahren stand die britische Jazz-Sängerin Norma Winstone lange mit dem kanadischen Komponisten zusammen. Die 1941 geborene Grande Dame des Jazz zeigt ihre Vielseitigkeit in einem Spektrum von klassischen Britten-Interpretationen bis hin zum Freejazz. \n \nZusammen mit dem Hamburger Ensemble Jazzkombinat und dem NDR-Trompeter Claus Stötter belebt sie die immer noch aktuelle Musik aus der Arbeit mit Wheeler neu. \nBesetzung: \nGesang: Norma Winstone\nTrompete: Claus Stötter\nLeitung: Malte Schiller\nSaxophone: Max Boehm\, Anna-Lena Schnabel\, Stefan Karl Schmidt\, Marc Doffey\, Tini Thomsen\nPosaunen: Sebastian Stanko\, Lisa Stick\, Sebastian Hoffmann\, Robert Hedemann\nTrompeten: Felix Meyer\, Nicholas Boysen\, Benny Brown\, Menzel Mutzke\nGitarre: Alex Eckert\nPiano: Johannes von Ballestrem\nBass: Tilman Oberbeck\nDrums: Dominik Raab \nTickets \nRelated Images:
URL:https://www.hamburg-city-webguide.de/event/norma-winstone-feat-jazzkombinat/
LOCATION:resonanzraum\, Feldstraße 66\, Hamburg\, 20359 
CATEGORIES:Soul/Funk/Jazz
END:VEVENT
BEGIN:VEVENT
DTSTART;TZID=Europe/Helsinki:20190408T200000
DTEND;TZID=Europe/Helsinki:20190408T200000
DTSTAMP:20260423T191635
CREATED:20190305T163101Z
LAST-MODIFIED:20190305T163140Z
UID:32410-1554753600-1554753600@www.hamburg-city-webguide.de
SUMMARY:4 Wheel Drive - Landgren / Wollny / Danielsson / Haffner
DESCRIPTION:Wenn sich vier europäische Jazz-Größen wie der schwedische Posaunist Nils Landgren\, Tastenvirtuose Michael Wollny\, Bassist Lars Danielsson und Groove Maschine Wolfgang Haffner in einem Quartett zusammen finden\, muss man nicht viele Worte verlieren. Das am 15. März erscheinende Album 4 Wheel Drive ist Ergebnis der Zusammenarbeit großartiger Solisten sowie genialer Teamplayer. \n \nMit Songs wie Shadows in the Rain (Sting)\, Lady Madonna (Paul Mc Cartney) oder Trouble in Paradise (Phil Collins) begeben sich die vier Musiker auf eine Reise durch die Musikgeschichte\, die sie um eigenes Material Le chat sur toit (Nils Landgren)\,  Polygon (Michael Wollny)\, AWD (Lars Danielsson) und Lobito (Wolfgang Haffner) bereichern. In der Laeiszhalle Präsentiert das Ensemble sein Werk live. \nTickets \nRelated Images:
URL:https://www.hamburg-city-webguide.de/event/4-wheel-drive/
LOCATION:Laeiszhalle – Großer Saal\, Johannes-Brahms-Platz\, Hamburg\, 20355
CATEGORIES:Alle Events,Soul/Funk/Jazz
ATTACH;FMTTYPE=image/jpeg:https://www.hamburg-city-webguide.de/wp-content/uploads/2018/04/Michael-Wollny_03.jpg
ORGANIZER;CN="Karsten Jahnke":MAILTO:info@kj.de
END:VEVENT
BEGIN:VEVENT
DTSTART;TZID=Europe/Helsinki:20190413T190000
DTEND;TZID=Europe/Helsinki:20190413T190000
DTSTAMP:20260423T191635
CREATED:20190305T112047Z
LAST-MODIFIED:20190305T112047Z
UID:32395-1555182000-1555182000@www.hamburg-city-webguide.de
SUMMARY:Barbara Dennerlein
DESCRIPTION:Die Jazz-Organistin Barbara Dennerlein gilt als Meisterin der Register. Mit Jazz im Blut und einem Feeling für Grooves etablierte sie die Sounds der elektronischen auf die Pfeifenorgel und  bereicherte den Jazz um eine neue\, ganz eigene Klangwelt. \n \nIm Orgeljahr 2019 bespielt Barbara Dennerlein in der Kulturkirche Altona mit der romantisch-symphonischen Kuhn-Orgel ein im norddeutschen Raum einzigartiges Schmuckstück der Orgelkunst. \nTickets \nRelated Images:
URL:https://www.hamburg-city-webguide.de/event/barbara-dennerlein/
LOCATION:Kulturkirche Altona\, Bei der St. Johanniskirche 22\, Hamburg\, 22767
CATEGORIES:Alle Events,Soul/Funk/Jazz
END:VEVENT
END:VCALENDAR