BEGIN:VCALENDAR
VERSION:2.0
PRODID:-//HAMBURG CITY WEBGUIDE - ECPv6.15.20//NONSGML v1.0//EN
CALSCALE:GREGORIAN
METHOD:PUBLISH
X-WR-CALNAME:HAMBURG CITY WEBGUIDE
X-ORIGINAL-URL:https://www.hamburg-city-webguide.de
X-WR-CALDESC:Veranstaltungen für HAMBURG CITY WEBGUIDE
REFRESH-INTERVAL;VALUE=DURATION:PT1H
X-Robots-Tag:noindex
X-PUBLISHED-TTL:PT1H
BEGIN:VTIMEZONE
TZID:Europe/Helsinki
BEGIN:DAYLIGHT
TZOFFSETFROM:+0200
TZOFFSETTO:+0300
TZNAME:EEST
DTSTART:20180325T010000
END:DAYLIGHT
BEGIN:STANDARD
TZOFFSETFROM:+0300
TZOFFSETTO:+0200
TZNAME:EET
DTSTART:20181028T010000
END:STANDARD
BEGIN:DAYLIGHT
TZOFFSETFROM:+0200
TZOFFSETTO:+0300
TZNAME:EEST
DTSTART:20190331T010000
END:DAYLIGHT
BEGIN:STANDARD
TZOFFSETFROM:+0300
TZOFFSETTO:+0200
TZNAME:EET
DTSTART:20191027T010000
END:STANDARD
BEGIN:DAYLIGHT
TZOFFSETFROM:+0200
TZOFFSETTO:+0300
TZNAME:EEST
DTSTART:20200329T010000
END:DAYLIGHT
BEGIN:STANDARD
TZOFFSETFROM:+0300
TZOFFSETTO:+0200
TZNAME:EET
DTSTART:20201025T010000
END:STANDARD
END:VTIMEZONE
BEGIN:VEVENT
DTSTART;TZID=Europe/Helsinki:20190925T200000
DTEND;TZID=Europe/Helsinki:20190928T220000
DTSTAMP:20260423T064131
CREATED:20131008T044641Z
LAST-MODIFIED:20190917T140219Z
UID:3931-1569441600-1569708000@www.hamburg-city-webguide.de
SUMMARY:Jazzkantine
DESCRIPTION:Mit ihrem Mix aus Jazz und HipHop rappte sich die Jazzkantine bereits in die Herzen der Fans. FunkySounds vom Fender Rhodes-Soundsbilden die Basis der Musik. Die Jazzkantine hat mit Pee Wee Ellis und Nils Landgren musiziert. zum 25. Jubiläum gastiert die Jazzkantine in der Fabrik Hamburg. \n \nTickets \n  \nRelated Images:
URL:https://www.hamburg-city-webguide.de/event/3931/
LOCATION:Fabrik Hamburg\, Barnerstraße 36\, Hamburg\, 22765
CATEGORIES:Alle Events,Konzerte
END:VEVENT
END:VCALENDAR