BEGIN:VCALENDAR
VERSION:2.0
PRODID:-//HAMBURG CITY WEBGUIDE - ECPv6.15.20//NONSGML v1.0//EN
CALSCALE:GREGORIAN
METHOD:PUBLISH
X-ORIGINAL-URL:https://www.hamburg-city-webguide.de
X-WR-CALDESC:Veranstaltungen für HAMBURG CITY WEBGUIDE
REFRESH-INTERVAL;VALUE=DURATION:PT1H
X-Robots-Tag:noindex
X-PUBLISHED-TTL:PT1H
BEGIN:VTIMEZONE
TZID:Europe/Helsinki
BEGIN:DAYLIGHT
TZOFFSETFROM:+0200
TZOFFSETTO:+0300
TZNAME:EEST
DTSTART:20190331T010000
END:DAYLIGHT
BEGIN:STANDARD
TZOFFSETFROM:+0300
TZOFFSETTO:+0200
TZNAME:EET
DTSTART:20191027T010000
END:STANDARD
BEGIN:DAYLIGHT
TZOFFSETFROM:+0200
TZOFFSETTO:+0300
TZNAME:EEST
DTSTART:20200329T010000
END:DAYLIGHT
BEGIN:STANDARD
TZOFFSETFROM:+0300
TZOFFSETTO:+0200
TZNAME:EET
DTSTART:20201025T010000
END:STANDARD
BEGIN:DAYLIGHT
TZOFFSETFROM:+0200
TZOFFSETTO:+0300
TZNAME:EEST
DTSTART:20210328T010000
END:DAYLIGHT
BEGIN:STANDARD
TZOFFSETFROM:+0300
TZOFFSETTO:+0200
TZNAME:EET
DTSTART:20211031T010000
END:STANDARD
END:VTIMEZONE
BEGIN:VEVENT
DTSTART;TZID=Europe/Helsinki:20200302T190000
DTEND;TZID=Europe/Helsinki:20200302T200000
DTSTAMP:20260422T182059
CREATED:20200226T160229Z
LAST-MODIFIED:20200226T201502Z
UID:36351-1583175600-1583179200@www.hamburg-city-webguide.de
SUMMARY:Andreas Kümmert
DESCRIPTION:Mit viel Soul in der Stimme beeindruckte Andreas Kümmert die Jury 2013 bei Voice of Germany. Aber nicht nur die Stimme sitzt. Für sein angekündigtes Studioalbum Harlekin Dreams hat der Vollblutmusiker aus Gemünden selbst eingespielt. \n \nIm vergangenen Jahr startete Kümmert erneut durch\, als das Label Universum sowie sein komplettes Management die Zusammenarbeit mit ihm beendete. Er ist eben purer\, schnörkelloser Rock ’n‘ Roll mit viel Blues-Touch. \nTickets \nRelated Images:
URL:https://www.hamburg-city-webguide.de/event/andreas-kuemmert/
LOCATION:mojo club\, Reeperbahn 1\, Hamburg\, 20359
CATEGORIES:Alle Events,Rock/Pop,Soul/Funk/Jazz
END:VEVENT
BEGIN:VEVENT
DTSTART;TZID=Europe/Helsinki:20200305T190000
DTEND;TZID=Europe/Helsinki:20200305T190000
DTSTAMP:20260422T182059
CREATED:20200226T201245Z
LAST-MODIFIED:20200226T201610Z
UID:36355-1583434800-1583434800@www.hamburg-city-webguide.de
SUMMARY:Cavetown
DESCRIPTION:Mit Coverversionen auf der Ukulele machte Robin Skinner bei YouTube auf sich aufmerksam. Inzwischen schreibt er als Cavetown eigene Songs und ist spätestens seit der LP Lemon Boy ein Star. Mit viel Humor und feinsinnig bizarren Songtexten hat er einen festen Platz unter den großen Namen der Singer Songwriter erobert. \n \nTickets \nRelated Images:
URL:https://www.hamburg-city-webguide.de/event/cavetown/
LOCATION:mojo club\, Reeperbahn 1\, Hamburg\, 20359
CATEGORIES:Alle Events,Singer/Songwriter
END:VEVENT
BEGIN:VEVENT
DTSTART;TZID=Europe/Helsinki:20200308T190000
DTEND;TZID=Europe/Helsinki:20200308T190000
DTSTAMP:20260422T182059
CREATED:20200226T210238Z
LAST-MODIFIED:20200226T210302Z
UID:36359-1583694000-1583694000@www.hamburg-city-webguide.de
SUMMARY:The Marcus King Band
DESCRIPTION:Nach der Absage seine Europa-Tour 2019 ist Blues-Rock Star Markus King mit seinem neuen Album El Dorado wieder da. Das Album\, das er zusammen mit Black Keys-Frontmann Dan produziert hat\, weist mit einer großen Bandbreite an stilistischen Einflüssen eine hohe Dynamik aus. \n \nMit dem aktuellen Werk ist der aufstrebende Songwriter\, Sänger und Gitarrist nun auch im mojo club zu sehen. \nTickets \nRelated Images:
URL:https://www.hamburg-city-webguide.de/event/the-marcus-king-band/
LOCATION:mojo club\, Reeperbahn 1\, Hamburg\, 20359
CATEGORIES:Alle Events,Rock/Pop,Singer/Songwriter
ORGANIZER;CN="Karsten Jahnke":MAILTO:info@kj.de
END:VEVENT
BEGIN:VEVENT
DTSTART;TZID=Europe/Helsinki:20200311T200000
DTEND;TZID=Europe/Helsinki:20200311T200000
DTSTAMP:20260422T182059
CREATED:20121107T031427Z
LAST-MODIFIED:20240714T071036Z
UID:470-1583956800-1583956800@www.hamburg-city-webguide.de
SUMMARY:Max Mutzke & WDR Funkhausorchester
DESCRIPTION:Mit viel Soul in der Stimme ist Max Mutzke einer der bedeutendsten deutschen Sänger und hat eine der Mischung aus Pop- und Jazz-Elementen dem deutsche Soul ein Gesicht gegeben. Mit beeindruckender Vielseitigkeit und enormer Wandlungsfähigkeit bringt er seine diversen Projekte auf die Bühne.\n\n\n\nZusammen mit dem WDR Funkhausorchester begibt er sich in die „Königsklasse“ wie Max Mutzke selbst ehrfürchtig sagt\, verbindet seine kraftvolle Soul-Stimme mit der eleganten Kraft eines Sinfonieorchesters.\n\nTickets\n\n\n\nRelated Images:
URL:https://www.hamburg-city-webguide.de/event/max-mutzke/
CATEGORIES:Alle Events,Dance/HipHop/RnB,Soul/Funk/Jazz
ORGANIZER;CN="Karsten Jahnke":MAILTO:info@kj.de
END:VEVENT
BEGIN:VEVENT
DTSTART;TZID=Europe/Helsinki:20200311T200000
DTEND;TZID=Europe/Helsinki:20200311T200000
DTSTAMP:20260422T182059
CREATED:20200226T212127Z
LAST-MODIFIED:20200226T212247Z
UID:36362-1583956800-1583956800@www.hamburg-city-webguide.de
SUMMARY:JPson
DESCRIPTION:Psychedlic Fresh Folk nennt uns der Südafrikaner JPson seinen Mix aus frischem Folk und Downbeat-Reggae. Auf seiner aktuellen EP Children Of The Light erzählt der Südafrikaner von den Dingen die er liebt und nimmt die Zuschauer mit Guter-Laune Musik mit auf Surftour. \n \nTickets \nRelated Images:
URL:https://www.hamburg-city-webguide.de/event/jpson/
LOCATION:Jazz Cafe im mojo\, Reeperbahn 1\, Hamburg\, 20359
CATEGORIES:Alle Events,Latin/Reggae,Singer/Songwriter
END:VEVENT
BEGIN:VEVENT
DTSTART;TZID=Europe/Helsinki:20200314T200000
DTEND;TZID=Europe/Helsinki:20200314T200000
DTSTAMP:20260422T182059
CREATED:20191111T071314Z
LAST-MODIFIED:20191111T071636Z
UID:35288-1584216000-1584216000@www.hamburg-city-webguide.de
SUMMARY:Hildegard lernt fliegen
DESCRIPTION:Das sechsköpfige Ensemble rund um den Stimmakrobaten Andreas Schaerer haben die ersten Flugversuche hinter sich gelassen und sich inzwischen als wahre Himmelsstürmer etabliert. \n \nDie Schweizer Avantgarde Jazz Band beherrscht die Künste des Scatgesang und Beatboxing in Perfektion. \nBesetzung \nAndreas Schaerer voice\, human beats\nMarco Müller double bass\nBenedikt Reising saxophone\, bass clarinet\nMatthias Wenger saxophone\nAndreas Tschopp tuba\, trombone\nChristoph Steiner percussion\, marimba \nTickets \nRelated Images:
URL:https://www.hamburg-city-webguide.de/event/hildegard-lernt-fliegen/
LOCATION:Elbphilharmonie Großer Saal\, Platz der Deutschen Einheit 1\, Hamburg\, 20457
CATEGORIES:Alle Events,Soul/Funk/Jazz
END:VEVENT
BEGIN:VEVENT
DTSTART;TZID=Europe/Helsinki:20200324T193000
DTEND;TZID=Europe/Helsinki:20200324T193000
DTSTAMP:20260422T182059
CREATED:20150901T044414Z
LAST-MODIFIED:20200104T154458Z
UID:13436-1585078200-1585078200@www.hamburg-city-webguide.de
SUMMARY:Ian Shaw
DESCRIPTION:Der walisische Sänger und Pianist Ian Shaw ist in Hamburg ein gern gesehener Gast. Der vielseitige\, auch als Schauspieler und Musikproduzent tätige Künstler beeindruckt mit einem unglaublich breiten Stimm-Spektrum\, mit dem er neben eigenen Songs auch Cover-Versionen von Künstlern wie Stevie Wonder\, Ray Charles\, The Beatles oder Aretha Franklin celebriert. \n \nTickets \nBericht \nFotos: © Beate Eckert-Kraft \nRelated Images:
URL:https://www.hamburg-city-webguide.de/event/elbjazz-tracks-424-ian-shaw/
LOCATION:Elbphilharmonie Kleiner Saal\, Platz der Deutschen Einheit 1\, Hamburg\,  20457 
CATEGORIES:Alle Events,Singer/Songwriter,Soul/Funk/Jazz
ATTACH;FMTTYPE=image/jpeg:https://www.hamburg-city-webguide.de/wp-content/uploads/2015/10/IMG_9804.jpg
ORGANIZER;CN="Karsten Jahnke":MAILTO:info@kj.de
END:VEVENT
BEGIN:VEVENT
DTSTART;TZID=Europe/Helsinki:20200327T200000
DTEND;TZID=Europe/Helsinki:20200327T200000
DTSTAMP:20260422T182059
CREATED:20160106T025120Z
LAST-MODIFIED:20191111T070558Z
UID:15210-1585339200-1585339200@www.hamburg-city-webguide.de
SUMMARY:Landgren & Lundgren / Danielsson & Fresu
DESCRIPTION:Bei The Art of Duo präsentieren sich mit Nils Landgren & Jan Lundgren sowie Lars Danielsson & Paolo Fresu vier Ausnahmekönner des Jazz in der reduziertesten Form des Zusammenspiels. \n \nBesetzung \nNils Landgren trombone \nJan Lundgren piano \nPaolo Fresu trumpet \nLars Danielsson double bass \nTickets \nRelated Images:
URL:https://www.hamburg-city-webguide.de/event/landgren-lundgren-danielsson-fresu/
LOCATION:Laeiszhalle – Großer Saal\, Johannes-Brahms-Platz\, Hamburg\, 20355
CATEGORIES:Alle Events,Soul/Funk/Jazz
END:VEVENT
BEGIN:VEVENT
DTSTART;TZID=Europe/Helsinki:20200329T193000
DTEND;TZID=Europe/Helsinki:20200329T193000
DTSTAMP:20260422T182059
CREATED:20130208T065807Z
LAST-MODIFIED:20200104T160058Z
UID:1466-1585510200-1585510200@www.hamburg-city-webguide.de
SUMMARY:Pablo Held Trio
DESCRIPTION:Das Trio um Pablo Held wird von Kritikern für sein traumwandlerisches Zusammenspiel und seine innovativen\, experimentierfreudigen Programme gelobt – eine Mischung\, die auch für das Konzert im Kleinen Saal der Elbphikharmonie  einen hochkarätigen Jazz-Abend verspricht. \n \nTickets \nRelated Images:
URL:https://www.hamburg-city-webguide.de/event/jazz-piano-pablo-held-trio/
LOCATION:Elbphilharmonie Kleiner Saal\, Platz der Deutschen Einheit 1\, Hamburg\,  20457 
CATEGORIES:Alle Events,Soul/Funk/Jazz
END:VEVENT
END:VCALENDAR