BEGIN:VCALENDAR
VERSION:2.0
PRODID:-//HAMBURG CITY WEBGUIDE - ECPv6.15.20//NONSGML v1.0//EN
CALSCALE:GREGORIAN
METHOD:PUBLISH
X-WR-CALNAME:HAMBURG CITY WEBGUIDE
X-ORIGINAL-URL:https://www.hamburg-city-webguide.de
X-WR-CALDESC:Veranstaltungen für HAMBURG CITY WEBGUIDE
REFRESH-INTERVAL;VALUE=DURATION:PT1H
X-Robots-Tag:noindex
X-PUBLISHED-TTL:PT1H
BEGIN:VTIMEZONE
TZID:Europe/Helsinki
BEGIN:DAYLIGHT
TZOFFSETFROM:+0200
TZOFFSETTO:+0300
TZNAME:EEST
DTSTART:20190331T010000
END:DAYLIGHT
BEGIN:STANDARD
TZOFFSETFROM:+0300
TZOFFSETTO:+0200
TZNAME:EET
DTSTART:20191027T010000
END:STANDARD
BEGIN:DAYLIGHT
TZOFFSETFROM:+0200
TZOFFSETTO:+0300
TZNAME:EEST
DTSTART:20200329T010000
END:DAYLIGHT
BEGIN:STANDARD
TZOFFSETFROM:+0300
TZOFFSETTO:+0200
TZNAME:EET
DTSTART:20201025T010000
END:STANDARD
BEGIN:DAYLIGHT
TZOFFSETFROM:+0200
TZOFFSETTO:+0300
TZNAME:EEST
DTSTART:20210328T010000
END:DAYLIGHT
BEGIN:STANDARD
TZOFFSETFROM:+0300
TZOFFSETTO:+0200
TZNAME:EET
DTSTART:20211031T010000
END:STANDARD
END:VTIMEZONE
BEGIN:VEVENT
DTSTART;TZID=Europe/Helsinki:20200401T200000
DTEND;TZID=Europe/Helsinki:20200401T200000
DTSTAMP:20260422T164502
CREATED:20161121T234224Z
LAST-MODIFIED:20190917T140754Z
UID:19489-1585771200-1585771200@www.hamburg-city-webguide.de
SUMMARY:The Bar at Buena Vista
DESCRIPTION:Die Grandfathers of Cuban Music entführen die Besucher wieder mit viel karibischem Flair in das Havanna dervierziger und fünfziger Jahre. \n \nBekannt geworden durch die Zusammenarbeit mit Ray Cooder und den Film Buena Vista Social Club sind sie nun lebende legenden\, die die Tradition des Son in unvergleichbarer Lebendigkeit in die heutige Zeit transportieren. Eine Mischung aus Tanz\, Konzert und kubanischer Lebensfreude bildet die Grundlage für eine mitreißende Show. \nTickets \nRelated Images:
URL:https://www.hamburg-city-webguide.de/event/the-bar-at-buena-vista-5/
LOCATION:Laeiszhalle – Großer Saal\, Johannes-Brahms-Platz\, Hamburg\, 20355
CATEGORIES:Alle Events,Latin/Reggae,Shows,Tanz
ORGANIZER;CN="Collien Konzert & Theater GmbH":MAILTO:info@collien.com
END:VEVENT
BEGIN:VEVENT
DTSTART;TZID=Europe/Helsinki:20200402T200000
DTEND;TZID=Europe/Helsinki:20200402T200000
DTSTAMP:20260422T164503
CREATED:20161121T234008Z
LAST-MODIFIED:20190917T140844Z
UID:19487-1585857600-1585857600@www.hamburg-city-webguide.de
SUMMARY:The Bar at Buena Vista
DESCRIPTION:Die Grandfathers of Cuban Music entführen die Besucher wieder mit viel karibischem Flair in das Havanna dervierziger und fünfziger Jahre. \n \nBekannt geworden durch die Zusammenarbeit mit Ray Cooder und den Film Buena Vista Social Club sind sie nun lebende legenden\, die die Tradition des Son in unvergleichbarer Lebendigkeit in die heutige Zeit transportieren. Eine Mischung aus Tanz\, Konzert und kubanischer Lebensfreude bildet die Grundlage für eine mitreißende Show. \nTickets The Bar at Buena Vista \nRelated Images:
URL:https://www.hamburg-city-webguide.de/event/the-bar-at-buena-vista-4/
LOCATION:Laeiszhalle – Großer Saal\, Johannes-Brahms-Platz\, Hamburg\, 20355
CATEGORIES:Alle Events,Latin/Reggae,Shows
ORGANIZER;CN="Collien Konzert & Theater GmbH":MAILTO:info@collien.com
END:VEVENT
BEGIN:VEVENT
DTSTART;TZID=Europe/Helsinki:20200408T193000
DTEND;TZID=Europe/Helsinki:20200408T193000
DTSTAMP:20260422T164503
CREATED:20181026T023313Z
LAST-MODIFIED:20200226T212639Z
UID:30591-1586374200-1586374200@www.hamburg-city-webguide.de
SUMMARY:Lisa Bassenge Trio
DESCRIPTION:Schon während ihres Gesangsstudiums arbeitet die Berliner Sängerin Lisa Bassenge mit dem dänischen Bassisten Andreas Lang an gemeinsamen Projekten. Mit dem Pianisten Jacob Karlzon erfand sich das Trio auf dem Album Borrowed And Blue gewissermaßen neu. \n \nNachdem Bassenge auf ihren voherigen Alben vor allem mit eigenen Songs auftrat\, verarbeitet sie auf dem aktuellen Album Songs aus fremder Feder. Melodien von Bill Withers\, The Beatles\, den Allman Brothers oder Paul Simon begleiteten die Künstlerin über die Jahre. Zusammen mit ihrem Trio werden sie zu ihren eigenen. Dabei glänzen die Musiker mit künstlerische Virtuosität\, ohne den Melodien den Raum zu nehmen. \nTickets \nRelated Images:
URL:https://www.hamburg-city-webguide.de/event/lisa-bassenge-trio/
LOCATION:Elbphilharmonie Kleiner Saal\, Platz der Deutschen Einheit 1\, Hamburg\,  20457 
CATEGORIES:Alle Events,Soul/Funk/Jazz
ORGANIZER;CN="Karsten Jahnke":MAILTO:info@kj.de
END:VEVENT
BEGIN:VEVENT
DTSTART;VALUE=DATE:20200424
DTEND;VALUE=DATE:20200526
DTSTAMP:20260422T164503
CREATED:20160413T053809Z
LAST-MODIFIED:20200101T205840Z
UID:16619-1587686400-1590451199@www.hamburg-city-webguide.de
SUMMARY:5. Internationales Musikfest Hamburg
DESCRIPTION:Das 5. Internationale Musikfest Hamburg bietet unter Dem Motto „Glauben“ 42 Konzerte an verschiedenen Orten in Hamburg. Neben vielen Konzerten in der Elbphilharmonie stehen auch drei Aufführungen in der Staatsoper auf dem Programm. Das NDR Elbphilharmonie Orchester undter der Leitung von Alan Gilbert eröffnet das Fest mit zwei Konzerten. \n \nProgramm \nBericht \nRelated Images:
URL:https://www.hamburg-city-webguide.de/event/2-internationales-musikfest-hamburg/
CATEGORIES:Alle Events,Festivals,Klassik
ATTACH;FMTTYPE=image/jpeg:https://www.hamburg-city-webguide.de/wp-content/uploads/2016/05/827.-Hafengeburtstag-Taufe-8-von-110.jpg
END:VEVENT
END:VCALENDAR