BEGIN:VCALENDAR
VERSION:2.0
PRODID:-//HAMBURG CITY WEBGUIDE - ECPv6.15.20//NONSGML v1.0//EN
CALSCALE:GREGORIAN
METHOD:PUBLISH
X-WR-CALNAME:HAMBURG CITY WEBGUIDE
X-ORIGINAL-URL:https://www.hamburg-city-webguide.de
X-WR-CALDESC:Veranstaltungen für HAMBURG CITY WEBGUIDE
REFRESH-INTERVAL;VALUE=DURATION:PT1H
X-Robots-Tag:noindex
X-PUBLISHED-TTL:PT1H
BEGIN:VTIMEZONE
TZID:Europe/Helsinki
BEGIN:DAYLIGHT
TZOFFSETFROM:+0200
TZOFFSETTO:+0300
TZNAME:EEST
DTSTART:20190331T010000
END:DAYLIGHT
BEGIN:STANDARD
TZOFFSETFROM:+0300
TZOFFSETTO:+0200
TZNAME:EET
DTSTART:20191027T010000
END:STANDARD
BEGIN:DAYLIGHT
TZOFFSETFROM:+0200
TZOFFSETTO:+0300
TZNAME:EEST
DTSTART:20200329T010000
END:DAYLIGHT
BEGIN:STANDARD
TZOFFSETFROM:+0300
TZOFFSETTO:+0200
TZNAME:EET
DTSTART:20201025T010000
END:STANDARD
BEGIN:DAYLIGHT
TZOFFSETFROM:+0200
TZOFFSETTO:+0300
TZNAME:EEST
DTSTART:20210328T010000
END:DAYLIGHT
BEGIN:STANDARD
TZOFFSETFROM:+0300
TZOFFSETTO:+0200
TZNAME:EET
DTSTART:20211031T010000
END:STANDARD
END:VTIMEZONE
BEGIN:VEVENT
DTSTART;TZID=Europe/Helsinki:20200815T080000
DTEND;TZID=Europe/Helsinki:20200816T170000
DTSTAMP:20260422T093007
CREATED:20200724T093129Z
LAST-MODIFIED:20200724T093252Z
UID:37155-1597478400-1597597200@www.hamburg-city-webguide.de
SUMMARY:OBLIGAT! Festival für Kammermusik
DESCRIPTION:Zum 25. Jubiläum des Ensemble Obligat spielt das unter der Leitung von Flötistin Imme-Jeanne Klett gegründete Quintett unter dem Titel SEITENKLÄNGE Werke von Johannes Brahms\, Wolfgang Amadeus Mozart und Andreas Jakob Romberg. \n \nKonzert am Samstag\, dem 15. August 2020 um 18.00 Uhr \nOpen-Air im Jenischpark \nKonzertdauer: 2 Stunden mit 30 Min. Pause \nTickets: 30 Euro / erm. 20 Euro \nWetterfeste Kleidung wird empfohlen! \n  \nKonzert am Sonntag\, dem 16. August 2020 um 16.30 Uhr und 19.00 Uhr \nJenisch Haus\, Weißer Saal \nKonzertdauer: jeweils eine Stunde ohne Pause \nTickets: 25 Euro / 15 Euro \n  \nKartenvorverkauf \nJenisch Haus: Tel. 040 82 87 90 \nKonzertkasse Gerdes: Tel. 040 44 02 98 \nund an allen bekannten Hamburger Vorverkaufsstellen \n  \nRelated Images:
URL:https://www.hamburg-city-webguide.de/event/obligat-festival-fuer-kammermusik/
LOCATION:Jenisch Haus\, Baron-Voght-Straße 50\, Hamburg\, Germany\, 22609\, Deutschland
CATEGORIES:Alle Events,Festivals,Klassik
END:VEVENT
END:VCALENDAR