BEGIN:VCALENDAR
VERSION:2.0
PRODID:-//HAMBURG CITY WEBGUIDE - ECPv6.15.20//NONSGML v1.0//EN
CALSCALE:GREGORIAN
METHOD:PUBLISH
X-WR-CALNAME:HAMBURG CITY WEBGUIDE
X-ORIGINAL-URL:https://www.hamburg-city-webguide.de
X-WR-CALDESC:Veranstaltungen für HAMBURG CITY WEBGUIDE
REFRESH-INTERVAL;VALUE=DURATION:PT1H
X-Robots-Tag:noindex
X-PUBLISHED-TTL:PT1H
BEGIN:VTIMEZONE
TZID:Europe/Helsinki
BEGIN:DAYLIGHT
TZOFFSETFROM:+0200
TZOFFSETTO:+0300
TZNAME:EEST
DTSTART:20210328T010000
END:DAYLIGHT
BEGIN:STANDARD
TZOFFSETFROM:+0300
TZOFFSETTO:+0200
TZNAME:EET
DTSTART:20211031T010000
END:STANDARD
BEGIN:DAYLIGHT
TZOFFSETFROM:+0200
TZOFFSETTO:+0300
TZNAME:EEST
DTSTART:20220327T010000
END:DAYLIGHT
BEGIN:STANDARD
TZOFFSETFROM:+0300
TZOFFSETTO:+0200
TZNAME:EET
DTSTART:20221030T010000
END:STANDARD
BEGIN:DAYLIGHT
TZOFFSETFROM:+0200
TZOFFSETTO:+0300
TZNAME:EEST
DTSTART:20230326T010000
END:DAYLIGHT
BEGIN:STANDARD
TZOFFSETFROM:+0300
TZOFFSETTO:+0200
TZNAME:EET
DTSTART:20231029T010000
END:STANDARD
END:VTIMEZONE
BEGIN:VEVENT
DTSTART;TZID=Europe/Helsinki:20220726T200000
DTEND;TZID=Europe/Helsinki:20220726T200000
DTSTAMP:20260420T175709
CREATED:20220704T135554Z
LAST-MODIFIED:20220704T135557Z
UID:42570-1658865600-1658865600@www.hamburg-city-webguide.de
SUMMARY:Blood Red Shoes
DESCRIPTION:Der klangliche Mix von Blood Red Shoes zwischen verzerrten Gitarren und Synthesizer-Klängen führt immer wieder zu überraschenden Ergebnissen\, mit denen das britische Gründer-Duo Laura-Mary Carter  und Steven Ansell in mehr als 300 Auftritten eine große Anhängerschaft überzeugte. \n\n\n\n\n\n\n\nDie Band selbst ordnet ihre Musik dem Alternative Rock zu. Das ursprünglich für die Fabrik geplante Konzert ihrer Ghost on Tape Tour wurde ins Molotow verlegt. \n\n\n\n\nTickets\n\n\n\n\n \n\n\n\n\n\n\n\n\n\n\nRelated Images:
URL:https://www.hamburg-city-webguide.de/event/blood-red-shoes/
LOCATION:Molotow\, Spielbudenplatz 5\, Hamburg\, 20359
CATEGORIES:Alle Events,Rock/Pop
END:VEVENT
END:VCALENDAR