BEGIN:VCALENDAR
VERSION:2.0
PRODID:-//HAMBURG CITY WEBGUIDE - ECPv6.15.20//NONSGML v1.0//EN
CALSCALE:GREGORIAN
METHOD:PUBLISH
X-WR-CALNAME:HAMBURG CITY WEBGUIDE
X-ORIGINAL-URL:https://www.hamburg-city-webguide.de
X-WR-CALDESC:Veranstaltungen für HAMBURG CITY WEBGUIDE
REFRESH-INTERVAL;VALUE=DURATION:PT1H
X-Robots-Tag:noindex
X-PUBLISHED-TTL:PT1H
BEGIN:VTIMEZONE
TZID:Europe/Helsinki
BEGIN:DAYLIGHT
TZOFFSETFROM:+0200
TZOFFSETTO:+0300
TZNAME:EEST
DTSTART:20210328T010000
END:DAYLIGHT
BEGIN:STANDARD
TZOFFSETFROM:+0300
TZOFFSETTO:+0200
TZNAME:EET
DTSTART:20211031T010000
END:STANDARD
BEGIN:DAYLIGHT
TZOFFSETFROM:+0200
TZOFFSETTO:+0300
TZNAME:EEST
DTSTART:20220327T010000
END:DAYLIGHT
BEGIN:STANDARD
TZOFFSETFROM:+0300
TZOFFSETTO:+0200
TZNAME:EET
DTSTART:20221030T010000
END:STANDARD
BEGIN:DAYLIGHT
TZOFFSETFROM:+0200
TZOFFSETTO:+0300
TZNAME:EEST
DTSTART:20230326T010000
END:DAYLIGHT
BEGIN:STANDARD
TZOFFSETFROM:+0300
TZOFFSETTO:+0200
TZNAME:EET
DTSTART:20231029T010000
END:STANDARD
END:VTIMEZONE
BEGIN:VEVENT
DTSTART;TZID=Europe/Helsinki:20221102T200000
DTEND;TZID=Europe/Helsinki:20221102T200000
DTSTAMP:20260420T115129
CREATED:20220608T101829Z
LAST-MODIFIED:20220703T144758Z
UID:42343-1667419200-1667419200@www.hamburg-city-webguide.de
SUMMARY:Michael Wollny Trio
DESCRIPTION:Der mehrfach mit dem Echo Jazz ausgezeichnete Michael Wollny gehört zu den international anerkanntesten deutschen Jazz-Musikern. Im Rahmen des ELBJAZZ Festivals kommt er als erster „Artist in Residence“ in der Geschichte des ELBJAZZ mit seinem Trio gemeinsam mit Christian Weber am Bass und dem Schlagzeuger Eric Schaefer in die Elbphilharmonie.  \n\n\n\n\n\n\n\n\nTickets\n\n\n\n\nDoldinger erhält ECHO JAZZ für sein Lebenswerk \n\n\n\n\n\n\n\n\n\n\nRelated Images:
URL:https://www.hamburg-city-webguide.de/event/michael-wollny-trio/
LOCATION:Laeiszhalle\, Johannes-Brahms-Platz 1\, Hamburg\, 20355
CATEGORIES:Alle Events,Soul/Funk/Jazz
ATTACH;FMTTYPE=image/jpeg:https://www.hamburg-city-webguide.de/wp-content/uploads/2022/06/Michael-Wollny_010.jpg
END:VEVENT
BEGIN:VEVENT
DTSTART;TZID=Europe/Helsinki:20221108T200000
DTEND;TZID=Europe/Helsinki:20221108T200000
DTSTAMP:20260420T115130
CREATED:20220704T104200Z
LAST-MODIFIED:20220704T104203Z
UID:42563-1667937600-1667937600@www.hamburg-city-webguide.de
SUMMARY:Marcus Miller
DESCRIPTION:Der Grammy-Gewinner von 2001 besucht auf seiner European Fall Tour 2022 auch wieder die Fabrik Hamburg. Der 1959 in Brooklyn\, New York geborene Marcus Miller beherrschte bereits im Alter von 13 Jahren die Instrumente Klarinette\, Piano und Bass.  Er begann früh mit dem Komponieren. \n\n\n\n\n\n\n\nIn der Folgezeit arbeitete er als Studiobassist unter anderem für Aretha Franklin\, Roberta Flack\, Grover Washington Jr.\, Bob James\, Joe Sample\, McCoy Tyner\, Mariah Carey\, Bill Withers\, Elton John\, Bryan Ferry\, Frank Sinatra und LL Cool J und David Sanborn. Im Laufe der Zeit wurden es dann über 400 Produktionen. Als Musiker bei Miles Davis und Produzent vieler eigener Werke hat er sich einen Namen gemacht und kann auf eine Zusammenarbeit mit den Größten der Branche zurückblicken. \n\n\n\n\nTickets\n\n\n\n\n\n\n\n\n\n\n\nRelated Images:
URL:https://www.hamburg-city-webguide.de/event/marcus-miller-3/
CATEGORIES:Alle Events,Soul/Funk/Jazz
ATTACH;FMTTYPE=image/jpeg:https://www.hamburg-city-webguide.de/wp-content/uploads/ngg_featured/IMG_5672.jpg
END:VEVENT
BEGIN:VEVENT
DTSTART;TZID=Europe/Helsinki:20221111T200000
DTEND;TZID=Europe/Helsinki:20221111T203000
DTSTAMP:20260420T115130
CREATED:20221107T145140Z
LAST-MODIFIED:20221107T145218Z
UID:43912-1668196800-1668198600@www.hamburg-city-webguide.de
SUMMARY:TOY TOY x Giovanni Weiss
DESCRIPTION:Die vier Musiker von TOYTOY verstehen sich als kreativer Impulsgeber für die Fusion aus verschiedenen Musikrichtungen. Einflüsse von Frank Zappa und Weather Report bis zu J Dilla und Terrace Martin bilden die Basis energetische Vibes im ihren Liveshows. \n\n\n\n\n\n\n\nüber dem klassischen Sound-Teppich mit Bass\, Percussion und Drums liefern die fluffigen Gitarren-Melodien von Giovanni Weiss einen echten Kontrast. \n\n\n\n \n\n\n\n\n\n\n\n\n\n\nRelated Images:
URL:https://www.hamburg-city-webguide.de/event/toy-toy-x-giovanni-weiss/
LOCATION:JazzHall\, Harvestehuder Weg 12\, Hamburg\, 20148
CATEGORIES:Alle Events,Soul/Funk/Jazz
END:VEVENT
BEGIN:VEVENT
DTSTART;TZID=Europe/Helsinki:20221124T210000
DTEND;TZID=Europe/Helsinki:20221124T210000
DTSTAMP:20260420T115130
CREATED:20221123T122929Z
LAST-MODIFIED:20221219T084058Z
UID:44013-1669323600-1669323600@www.hamburg-city-webguide.de
SUMMARY:Stephanie Lottermoser
DESCRIPTION:Mit ihrer Synthese aus Soul\, Funk und Jazz hat die Saxophonistin Stephanie Lottermoser inzwischen ein breites Publikum erreicht. Groovende Saxophon-Linien zählen zu ihrem Markenzeichen. Im KNUST stellt sie nun ihr neues Album Dependance vor. \n\n\n\n\n\n\n\nBesetzung\n\n\n\nStephanie Lttermoser [tenor-sax\, vocals] \n\n\n\nMaik Schott [keys]  \n\n\n\nRobert Schulenburg [bass] \n\n\n\nTobias Held [drums] \n\n\n\n\nTickets\n\n\n\n\n \n\n\n\n\n\n\n\n\n\n\nRelated Images:
URL:https://www.hamburg-city-webguide.de/event/stephanie-lottermoser/
LOCATION:Knust\, Neuer Kamp 30\, Hamburg\, 20357
CATEGORIES:Alle Events,Soul/Funk/Jazz
END:VEVENT
END:VCALENDAR