BEGIN:VCALENDAR
VERSION:2.0
PRODID:-//HAMBURG CITY WEBGUIDE - ECPv6.15.20//NONSGML v1.0//EN
CALSCALE:GREGORIAN
METHOD:PUBLISH
X-ORIGINAL-URL:https://www.hamburg-city-webguide.de
X-WR-CALDESC:Veranstaltungen für HAMBURG CITY WEBGUIDE
REFRESH-INTERVAL;VALUE=DURATION:PT1H
X-Robots-Tag:noindex
X-PUBLISHED-TTL:PT1H
BEGIN:VTIMEZONE
TZID:Europe/Helsinki
BEGIN:DAYLIGHT
TZOFFSETFROM:+0200
TZOFFSETTO:+0300
TZNAME:EEST
DTSTART:20210328T010000
END:DAYLIGHT
BEGIN:STANDARD
TZOFFSETFROM:+0300
TZOFFSETTO:+0200
TZNAME:EET
DTSTART:20211031T010000
END:STANDARD
BEGIN:DAYLIGHT
TZOFFSETFROM:+0200
TZOFFSETTO:+0300
TZNAME:EEST
DTSTART:20220327T010000
END:DAYLIGHT
BEGIN:STANDARD
TZOFFSETFROM:+0300
TZOFFSETTO:+0200
TZNAME:EET
DTSTART:20221030T010000
END:STANDARD
BEGIN:DAYLIGHT
TZOFFSETFROM:+0200
TZOFFSETTO:+0300
TZNAME:EEST
DTSTART:20230326T010000
END:DAYLIGHT
BEGIN:STANDARD
TZOFFSETFROM:+0300
TZOFFSETTO:+0200
TZNAME:EET
DTSTART:20231029T010000
END:STANDARD
END:VTIMEZONE
BEGIN:VEVENT
DTSTART;TZID=Europe/Helsinki:20221217T200000
DTEND;TZID=Europe/Helsinki:20221217T200000
DTSTAMP:20260420T091300
CREATED:20130224T144214Z
LAST-MODIFIED:20221121T193745Z
UID:1668-1671307200-1671307200@www.hamburg-city-webguide.de
SUMMARY:Inga Rumpf & Friends
DESCRIPTION:Mit Universe of Dreams greift Inga Rumpf auf ihre musikalischen Wurzeln als Rocksängerin bei der Band Frumpy zurück\, die bereits auf das Jahr 1960 mit den City Preachers zurückgehen. Seit Jahrzehnten begeistert die Ikone der deutschen Rockgeschichte als Interpretin von Jazz\, Blues R&B und Soul. \n \nTickets \nRelated Images:
URL:https://www.hamburg-city-webguide.de/event/inga-rumpf-friends/
LOCATION:Fabrik Hamburg\, Barnerstraße 36\, Hamburg\, 22765
CATEGORIES:Alle Events,Rock/Pop,Singer/Songwriter,Soul/Funk/Jazz
END:VEVENT
BEGIN:VEVENT
DTSTART;TZID=Europe/Helsinki:20221220T200000
DTEND;TZID=Europe/Helsinki:20221220T200000
DTSTAMP:20260420T091300
CREATED:20221219T083839Z
LAST-MODIFIED:20221219T083900Z
UID:44218-1671566400-1671566400@www.hamburg-city-webguide.de
SUMMARY:Till Brönner & Band
DESCRIPTION:Christmas\n\n\n\n\n\n Deutschlands erfolgreichster Trompeter bringt gemeinsam mit seiner Band weihnachtliche Stimmung in die Laeiszhalle. Mit dem Titel Christmas präsentiert Till Brönner Weihnachtslieder mit persönlicher Note. \n\n\n\n\n\n\n\n\nTickets\n\n\n\n\n  \n\n\n\n\n\n\n\n\n\n\nRelated Images:
URL:https://www.hamburg-city-webguide.de/event/till-broenner-band/
LOCATION:Laeiszhalle\, Johannes-Brahms-Platz 1\, Hamburg\, 20355
CATEGORIES:Alle Events,Klassik,Soul/Funk/Jazz
END:VEVENT
END:VCALENDAR