BEGIN:VCALENDAR
VERSION:2.0
PRODID:-//HAMBURG CITY WEBGUIDE - ECPv6.15.20//NONSGML v1.0//EN
CALSCALE:GREGORIAN
METHOD:PUBLISH
X-ORIGINAL-URL:https://www.hamburg-city-webguide.de
X-WR-CALDESC:Veranstaltungen für HAMBURG CITY WEBGUIDE
REFRESH-INTERVAL;VALUE=DURATION:PT1H
X-Robots-Tag:noindex
X-PUBLISHED-TTL:PT1H
BEGIN:VTIMEZONE
TZID:Europe/Helsinki
BEGIN:DAYLIGHT
TZOFFSETFROM:+0200
TZOFFSETTO:+0300
TZNAME:EEST
DTSTART:20220327T010000
END:DAYLIGHT
BEGIN:STANDARD
TZOFFSETFROM:+0300
TZOFFSETTO:+0200
TZNAME:EET
DTSTART:20221030T010000
END:STANDARD
BEGIN:DAYLIGHT
TZOFFSETFROM:+0200
TZOFFSETTO:+0300
TZNAME:EEST
DTSTART:20230326T010000
END:DAYLIGHT
BEGIN:STANDARD
TZOFFSETFROM:+0300
TZOFFSETTO:+0200
TZNAME:EET
DTSTART:20231029T010000
END:STANDARD
BEGIN:DAYLIGHT
TZOFFSETFROM:+0200
TZOFFSETTO:+0300
TZNAME:EEST
DTSTART:20240331T010000
END:DAYLIGHT
BEGIN:STANDARD
TZOFFSETFROM:+0300
TZOFFSETTO:+0200
TZNAME:EET
DTSTART:20241027T010000
END:STANDARD
END:VTIMEZONE
BEGIN:VEVENT
DTSTART;TZID=Europe/Helsinki:20230114T203000
DTEND;TZID=Europe/Helsinki:20230114T203000
DTSTAMP:20260420T091248
CREATED:20221219T082332Z
LAST-MODIFIED:20221219T084218Z
UID:44214-1673728200-1673728200@www.hamburg-city-webguide.de
SUMMARY:Rebekka Bakken
DESCRIPTION:Die  norwegische Sängerin Rebekka Bakken schafft mit ihrer eindringlichen Stimme eine ganz besondere Atmosphäre. Stilistisch lässt sie sich dabei in keine Schublade packen. Folkloristische Einflüsse ihrer Heimat mischen sich mit Country und Western ebenso wie moderne Elemente. \n\n\n\n\n\n\n\n \n\n\n\n\nTickets\n\n\n\n\n\n\n\n\n\n\n\nRelated Images:
URL:https://www.hamburg-city-webguide.de/event/rebekka-bakken/
LOCATION:Elbphilharmonie Kleiner Saal\, Platz der Deutschen Einheit 1\, Hamburg\,  20457 
CATEGORIES:Alle Events,Singer/Songwriter
END:VEVENT
END:VCALENDAR