BEGIN:VCALENDAR
VERSION:2.0
PRODID:-//HAMBURG CITY WEBGUIDE - ECPv6.15.20//NONSGML v1.0//EN
CALSCALE:GREGORIAN
METHOD:PUBLISH
X-WR-CALNAME:HAMBURG CITY WEBGUIDE
X-ORIGINAL-URL:https://www.hamburg-city-webguide.de
X-WR-CALDESC:Veranstaltungen für HAMBURG CITY WEBGUIDE
REFRESH-INTERVAL;VALUE=DURATION:PT1H
X-Robots-Tag:noindex
X-PUBLISHED-TTL:PT1H
BEGIN:VTIMEZONE
TZID:Europe/Helsinki
BEGIN:DAYLIGHT
TZOFFSETFROM:+0200
TZOFFSETTO:+0300
TZNAME:EEST
DTSTART:20220327T010000
END:DAYLIGHT
BEGIN:STANDARD
TZOFFSETFROM:+0300
TZOFFSETTO:+0200
TZNAME:EET
DTSTART:20221030T010000
END:STANDARD
BEGIN:DAYLIGHT
TZOFFSETFROM:+0200
TZOFFSETTO:+0300
TZNAME:EEST
DTSTART:20230326T010000
END:DAYLIGHT
BEGIN:STANDARD
TZOFFSETFROM:+0300
TZOFFSETTO:+0200
TZNAME:EET
DTSTART:20231029T010000
END:STANDARD
BEGIN:DAYLIGHT
TZOFFSETFROM:+0200
TZOFFSETTO:+0300
TZNAME:EEST
DTSTART:20240331T010000
END:DAYLIGHT
BEGIN:STANDARD
TZOFFSETFROM:+0300
TZOFFSETTO:+0200
TZNAME:EET
DTSTART:20241027T010000
END:STANDARD
END:VTIMEZONE
BEGIN:VEVENT
DTSTART;TZID=Europe/Helsinki:20230303T200000
DTEND;TZID=Europe/Helsinki:20230303T200000
DTSTAMP:20260420T034243
CREATED:20230302T070742Z
LAST-MODIFIED:20230310T073738Z
UID:44748-1677873600-1677873600@www.hamburg-city-webguide.de
SUMMARY:Roz Macdonald Trio
DESCRIPTION:Das Berliner Trio um die schottische Kontrabassistin Roz Macdonald präsentiert vorwiegend Eigenkompositionen im Stil der 50er und 60er Jahre mit modernem Touch. \n\n\n\n\n\n\n\nBéla Meinberg – KlavierRoz Macdonald – BassJordan Dinsdale – Schlagzeug  \n\n\n\n\nTickets\n\n\n\n\n\n\n\n\n\n\n\nRelated Images:
URL:https://www.hamburg-city-webguide.de/event/roz-mcdonald-trio/
LOCATION:Brückenstern\, Stresemannstraße 133\, Hamburg\, 22769
CATEGORIES:Alle Events,Soul/Funk/Jazz
END:VEVENT
BEGIN:VEVENT
DTSTART;TZID=Europe/Helsinki:20230304T200000
DTEND;TZID=Europe/Helsinki:20230304T200000
DTSTAMP:20260420T034243
CREATED:20230302T065647Z
LAST-MODIFIED:20230310T073702Z
UID:44746-1677960000-1677960000@www.hamburg-city-webguide.de
SUMMARY:Neue Winde
DESCRIPTION:Hans Ulrik/Anders Mogensen Quartet und Fosterchild live in der Jazz Hall\n\n\n\n\n\nDer Konzertabend Neue Winde ins in zwei Teile aufgeteilt\, die mit den Ensembles Ulrik/Anders Mogensen Quartet und Fosterchild auf unterschiedliche Weise den europäischen Jazz 2023 repräsentieren. \n\n\n\n\n\n\n\nDer international anerkannte Saxophonist Hans Ulrik präsentiert mit dem Anders Mogensen Quartett zeitgenössischen\, expressiven Jazz. Zum Quartett gehört auch der kanadische Pianist David Braid. Die Musik der Dänisch-Deutschen Formation Frosterchild ist an die Tradition des Miles Davis Quintett mit Wayne Shorter und Herbie Hancock angelehnt. \n\n\n\nHans Ulrik/Anders Mogensen QuartettHans Ulrik – Saxophon (DK) David Braid – Klavier Andreas Lang- Kontrabass (DE) Anders Mogensen – Schlagzeug (DK) \n\n\n\nFosterchildKasper Tranberg – Trompete (DK) Sebastian Gille – Saxophon (DE) Jacob Anderskov – Klavier (DK) David Helm – Kontrabass (DE) Fabian Arends – Schlagzeug (DE) \n\n\n\n\nTickets\n\n\n\n\n\n\n\n\n\n\n\nRelated Images:
URL:https://www.hamburg-city-webguide.de/event/neue-winde/
LOCATION:JazzHall\, Harvestehuder Weg 12\, Hamburg\, 20148
CATEGORIES:Alle Events,Soul/Funk/Jazz
END:VEVENT
BEGIN:VEVENT
DTSTART;TZID=Europe/Helsinki:20230311T200000
DTEND;TZID=Europe/Helsinki:20230311T200000
DTSTAMP:20260420T034243
CREATED:20230310T085958Z
LAST-MODIFIED:20230310T090055Z
UID:44823-1678564800-1678564800@www.hamburg-city-webguide.de
SUMMARY:Nathan Ott Quartett
DESCRIPTION:Das Nathan Ott Quartett arbeitet bereits seit sechs Jahren zusammen. Mitbegründer war Miles Davis-Veteran Dave Liebman\, der sich 2019 aus gesundheitlichen Gründen vom Tourleben zurückgezogen hat. Seitdem prägt Saxophonist Christof Lauer die Band\, die mit generationsübergreifendem\, improvisatorischen Dialog auf zahlreichen Konzerten und Tonträgern überzeugt. \n\n\n\n\n\n\n\nChristoph Lauer – Tenorsaxofon & SopransaxofonSebastian Gille – Tenorsaxofon & SopransaxofonJonas Westergaard – BassNathan Ott – Schlagzeug     \n\n\n\n\nTickets\n\n\n\n\n\n\n\n\n\n\n\nRelated Images:
URL:https://www.hamburg-city-webguide.de/event/nathan-ott-quartett/
LOCATION:JazzHall\, Harvestehuder Weg 12\, Hamburg\, 20148
CATEGORIES:Alle Events,Soul/Funk/Jazz
END:VEVENT
END:VCALENDAR