BEGIN:VCALENDAR
VERSION:2.0
PRODID:-//HAMBURG CITY WEBGUIDE - ECPv6.15.20//NONSGML v1.0//EN
CALSCALE:GREGORIAN
METHOD:PUBLISH
X-ORIGINAL-URL:https://www.hamburg-city-webguide.de
X-WR-CALDESC:Veranstaltungen für HAMBURG CITY WEBGUIDE
REFRESH-INTERVAL;VALUE=DURATION:PT1H
X-Robots-Tag:noindex
X-PUBLISHED-TTL:PT1H
BEGIN:VTIMEZONE
TZID:Europe/Helsinki
BEGIN:DAYLIGHT
TZOFFSETFROM:+0200
TZOFFSETTO:+0300
TZNAME:EEST
DTSTART:20220327T010000
END:DAYLIGHT
BEGIN:STANDARD
TZOFFSETFROM:+0300
TZOFFSETTO:+0200
TZNAME:EET
DTSTART:20221030T010000
END:STANDARD
BEGIN:DAYLIGHT
TZOFFSETFROM:+0200
TZOFFSETTO:+0300
TZNAME:EEST
DTSTART:20230326T010000
END:DAYLIGHT
BEGIN:STANDARD
TZOFFSETFROM:+0300
TZOFFSETTO:+0200
TZNAME:EET
DTSTART:20231029T010000
END:STANDARD
BEGIN:DAYLIGHT
TZOFFSETFROM:+0200
TZOFFSETTO:+0300
TZNAME:EEST
DTSTART:20240331T010000
END:DAYLIGHT
BEGIN:STANDARD
TZOFFSETFROM:+0300
TZOFFSETTO:+0200
TZNAME:EET
DTSTART:20241027T010000
END:STANDARD
END:VTIMEZONE
BEGIN:VEVENT
DTSTART;TZID=Europe/Helsinki:20230601T200000
DTEND;TZID=Europe/Helsinki:20230601T200000
DTSTAMP:20260419T163734
CREATED:20220606T104400Z
LAST-MODIFIED:20230418T174613Z
UID:42567-1685649600-1685649600@www.hamburg-city-webguide.de
SUMMARY:Robert Cray
DESCRIPTION:Mit seinem Sound zwischen Soul\, Blues\, Rock und Gospel begeistert Sänger und Gitarrist Robert Cray seit mehr als 40 Jahren auf den Bühnen der Welt. Mit Songs von seinem brandneuen Album That’s What I Heard und bewährter Band kommt er auf seiner Tour auch in der Hansestadt vorbei. \n\n\n\n\n\n\n\nTerence F Clark [Drums]\, Richard Cousins [Bass] und Dover Weinberg [Keyboards[. \n\n\n\n\nTickets\n\n\n\n\n\n\n\n\n\n\n\nRelated Images:
URL:https://www.hamburg-city-webguide.de/event/robert-cray/
CATEGORIES:Alle Events,Soul/Funk/Jazz
END:VEVENT
BEGIN:VEVENT
DTSTART;TZID=Europe/Helsinki:20230609T160000
DTEND;TZID=Europe/Helsinki:20230610T233000
DTSTAMP:20260419T163735
CREATED:20220628T170156Z
LAST-MODIFIED:20230418T171859Z
UID:42473-1686326400-1686439800@www.hamburg-city-webguide.de
SUMMARY:ELBJAZZ Festival 2023
DESCRIPTION:Zum elften Mal verwandelt sich der Hafen zu einem Umschlagplatz für internationalen Jazz. Rund 50 Konzerte mit bekannten Künstlern und Newcomern auf diversen Bühnen von Schiffsbauch bis zum Werftgelände von Blohm & Voss zeigen die unterschiedlichen Spielarten des Jazz. Es sind auch wieder Reservierungen für die Elbhilharmonie möglich.  \n\n\n\n\n\n\n\nCÉCILE MCLORIN SALVANT\, TINGVALL TRIO\, DERYA YILDIRIM & GRUP ŞIMŞEK + SPECIAL GUEST DUYGU AĞAL\, JAKOB MANZ\, SALOMEA\, WENDY MCNEILL\, MICHAEL WOLLNY TRIO\, MEUTE\, HANIA RANI\, STEVE TURRE SEXTET\, TOMEKA REID QUARTET\, SARAH MCCOY\, LAMBERT\, CHERISE\, NORWEGIAN WIND ENSEMBLE WITH MARIUS NESET AND ERLEND SKOMSVOLL\, MARY HALVORSON/TOMAS FUJIWARA DUO; ALOGTE OHO & HIS SOUNDS OF JOY;  DOPE LEMON\, JAZZKANTINE\, ADI OASIS\, TOMEKA REID QUARTET\, CAMILLA GEORGE\, LISA WULFF QUATETT\, HORST HANSEN TRIO\, FABRIZIO CAMARATA\, MARKUS BECKER & LUTZ KRAJENSKI\, ERIC VAN LIER\, TILAR\, TIGRAN TATEVOSYAN TRIO\, PAUL BESKERS TRIO FEAT. PERCY PURSGLOVE\, BASTIAN MENZ QUINTETT\, VADIMS DMITRIJEVS QUINTETT FEAT. CHARLIE PORTER. \n\n\n\nKonzerte in der Elbphilharmonie müssen reserviert werden. \n\n\n\nDatumUhrzeitActFreitag\, 9. Juni 202317:00 UhrHania Rani20:00 UhrTomeka Reid Quintett23:00 UhrLambertSonnabend\, 10. Juni 202317:00 UhrNorwegian Wind Ensemble20:00 UhrSteve Turre Sextett23:00 UhrSarah McCoy\n\n\n\n\nTickets\n\n\n\n\n\n\n\n\n\n\n\nRelated Images:
URL:https://www.hamburg-city-webguide.de/event/elbjazz-festival-2023/
LOCATION:Blohm + Voss\, Hermann-Blohm-Strasse 3 \, Hamburg\, 20457 
CATEGORIES:Alle Events,Soul/Funk/Jazz
ATTACH;FMTTYPE=image/jpeg:https://www.hamburg-city-webguide.de/wp-content/uploads/2020/03/ELBJAZZ.jpg
END:VEVENT
BEGIN:VEVENT
DTSTART;TZID=Europe/Helsinki:20230621T190000
DTEND;TZID=Europe/Helsinki:20230621T190000
DTSTAMP:20260419T163735
CREATED:20230609T074346Z
LAST-MODIFIED:20230609T094111Z
UID:45634-1687374000-1687374000@www.hamburg-city-webguide.de
SUMMARY:Azymuth
DESCRIPTION:Fluffige E-Piano-Linien über einem Teppich aus Samba\, Disco\, Funk und Jazz – Azymuth feiert ihr 50-jähriges Bestehen. Nach dem plötzlichen Tod  des Schlagzeugers und Gründungsmitglied Ivan Conti hat die brasilianisch Jazz-Funk-Band mit Renato Massa einen Nachfolger gefunden und kommt auf der Jubiläumsjahr auch in Hamburg vorbei. \n\n\n\n\n\n\n\nNachdem Sie mit Deodato\, Marcos Valle oder Milton Nascimento auf Tour waren hatten Sie mit Jazz Carnival ihren größten Hit. \n\n\n\n\nTickets \n\n\n\n\n\n\n\n\n\n\n\nRelated Images:
URL:https://www.hamburg-city-webguide.de/event/azymuth/
LOCATION:Kent Club\, Stresemannstrasse 163\, Hamburg\, 22769
CATEGORIES:Alle Events,Latin/Reggae,Soul/Funk/Jazz
END:VEVENT
END:VCALENDAR