BEGIN:VCALENDAR
VERSION:2.0
PRODID:-//HAMBURG CITY WEBGUIDE - ECPv6.15.20//NONSGML v1.0//EN
CALSCALE:GREGORIAN
METHOD:PUBLISH
X-ORIGINAL-URL:https://www.hamburg-city-webguide.de
X-WR-CALDESC:Veranstaltungen für HAMBURG CITY WEBGUIDE
REFRESH-INTERVAL;VALUE=DURATION:PT1H
X-Robots-Tag:noindex
X-PUBLISHED-TTL:PT1H
BEGIN:VTIMEZONE
TZID:Europe/Helsinki
BEGIN:DAYLIGHT
TZOFFSETFROM:+0200
TZOFFSETTO:+0300
TZNAME:EEST
DTSTART:20220327T010000
END:DAYLIGHT
BEGIN:STANDARD
TZOFFSETFROM:+0300
TZOFFSETTO:+0200
TZNAME:EET
DTSTART:20221030T010000
END:STANDARD
BEGIN:DAYLIGHT
TZOFFSETFROM:+0200
TZOFFSETTO:+0300
TZNAME:EEST
DTSTART:20230326T010000
END:DAYLIGHT
BEGIN:STANDARD
TZOFFSETFROM:+0300
TZOFFSETTO:+0200
TZNAME:EET
DTSTART:20231029T010000
END:STANDARD
BEGIN:DAYLIGHT
TZOFFSETFROM:+0200
TZOFFSETTO:+0300
TZNAME:EEST
DTSTART:20240331T010000
END:DAYLIGHT
BEGIN:STANDARD
TZOFFSETFROM:+0300
TZOFFSETTO:+0200
TZNAME:EET
DTSTART:20241027T010000
END:STANDARD
END:VTIMEZONE
BEGIN:VEVENT
DTSTART;TZID=Europe/Helsinki:20230707T190000
DTEND;TZID=Europe/Helsinki:20230707T190000
DTSTAMP:20260419T151237
CREATED:20230616T095805Z
LAST-MODIFIED:20230616T100450Z
UID:45761-1688756400-1688756400@www.hamburg-city-webguide.de
SUMMARY:Philipp Poisel
DESCRIPTION:Der von Herbert Grönemeier entdeckte Musiker Philipp Poisel hat sich trotz der Erfolge auch bei seinen Auftritten seine persönliche Art bewahrt. Poisel ist als Dauergast beim Stadtpark Open Air auch in diesem Jahr wieder dabei. \n\n\n\n\n\n\n\n\nTIckets \n\n\n\n\n\n\n\n\n\n\n\nRelated Images:
URL:https://www.hamburg-city-webguide.de/event/philipp-poisel/
CATEGORIES:Alle Events,Singer/Songwriter
END:VEVENT
BEGIN:VEVENT
DTSTART;TZID=Europe/Helsinki:20230707T200000
DTEND;TZID=Europe/Helsinki:20230707T200000
DTSTAMP:20260419T151237
CREATED:20230418T173818Z
LAST-MODIFIED:20230418T174128Z
UID:45228-1688760000-1688760000@www.hamburg-city-webguide.de
SUMMARY:Tower of Power
DESCRIPTION:Tower of Power ist der Urbegriff des Funk. Die 1968 in Kalifornien von Emilio Castillo und Stephen Kupka gegründete Formation hat den Sound der Stilistik mit treibenden Grooves\, präzise eingesetzten Brass-Sätzen und funky Gitarrenlicks wie vielleicht keine andere mit geprägt. \n\n\n\n\n\n\n\nDie kalifornische Soul-Funk-Band um Emilio Castillo [sax\, voc]\, Stephen ›Doc‹ Kupka [sax] David Garibaldi [drums] Marc van Wageningen [bass]\, Jerry Cortez [guitar]\, Roger Smith [key]\, Tom Politzer [sax]\, Adolfo Acosta [tp]|\, Sal Cracchiolo [tp]|\, Marcus Scott [voc]| ist auch in ihrem 55. Bühnenjahr ein musikalischer Jungbrunnen. \n\n\n\n\nTickets\n\n\n\nBericht\n\n\n\n\n\n\n\n\n\n\n\nRelated Images:
URL:https://www.hamburg-city-webguide.de/event/tower-of-power-3/
CATEGORIES:Alle Events,Soul/Funk/Jazz
ATTACH;FMTTYPE=image/jpeg:https://www.hamburg-city-webguide.de/wp-content/uploads/2019/06/Tower-of-Power_014.jpg
END:VEVENT
BEGIN:VEVENT
DTSTART;TZID=Europe/Helsinki:20230707T200000
DTEND;TZID=Europe/Helsinki:20230707T200000
DTSTAMP:20260419T151237
CREATED:20230707T135042Z
LAST-MODIFIED:20230707T135921Z
UID:45816-1688760000-1688760000@www.hamburg-city-webguide.de
SUMMARY:Julia Langenbucher Quintett
DESCRIPTION:Die Tenorsaxofonistin Julia Langenbucher zeigt sich in ihren Eigenkompositionen stilistisch sehr offen. Die gebürtige Süddeutsche absolviert seit Kurzem ihren Masterstudiengang an der HfMT und ist damit neu in der Hamburger Jazz-Szene. \n\n\n\n\n\n\n\nBei den Leverkusener Jazztagen hat sie mit ihrer Band  schon das Finale der FUTURE SOUNDS 21 erreicht.  \n\n\n\n\nTickets \n\n\n\n\n\n\n\n\n\n\n\nRelated Images:
URL:https://www.hamburg-city-webguide.de/event/julia-langenbucher-quintett/
CATEGORIES:Alle Events,Soul/Funk/Jazz
END:VEVENT
BEGIN:VEVENT
DTSTART;TZID=Europe/Helsinki:20230708T200000
DTEND;TZID=Europe/Helsinki:20230708T203000
DTSTAMP:20260419T151237
CREATED:20230708T102752Z
LAST-MODIFIED:20230708T102756Z
UID:45845-1688846400-1688848200@www.hamburg-city-webguide.de
SUMMARY:Beth Hart
DESCRIPTION:Nach der Veröffentlichung ihres ersten Albums 1993 startete die studierte Cellistin und Sängerin steil durch. Vor allem der L. A. Song brachte Schwung in ihre Karriere als Sängerin. Nicht von ungefähr vertrat sie mit ihrer Stimme Janis Joplin im gleichnamigen Musical. Seitdem veröffentlichte Beth Hart zahlreiche Hits. 2013 trat sie in Eric Claptons Cossroads Guitar Festival auf. \n\n\n\n\n\n\n\nMit ihrer Band tritt sie nun auf der Open Air Bühne im Hamburger Stadtpark auf. \n\n\n\n\n\n\n\n\n\n\nRelated Images:
URL:https://www.hamburg-city-webguide.de/event/beth-hart/
CATEGORIES:Alle Events,Rock/Pop,Singer/Songwriter
END:VEVENT
END:VCALENDAR