BEGIN:VCALENDAR
VERSION:2.0
PRODID:-//HAMBURG CITY WEBGUIDE - ECPv6.15.20//NONSGML v1.0//EN
CALSCALE:GREGORIAN
METHOD:PUBLISH
X-WR-CALNAME:HAMBURG CITY WEBGUIDE
X-ORIGINAL-URL:https://www.hamburg-city-webguide.de
X-WR-CALDESC:Veranstaltungen für HAMBURG CITY WEBGUIDE
REFRESH-INTERVAL;VALUE=DURATION:PT1H
X-Robots-Tag:noindex
X-PUBLISHED-TTL:PT1H
BEGIN:VTIMEZONE
TZID:Europe/Helsinki
BEGIN:DAYLIGHT
TZOFFSETFROM:+0200
TZOFFSETTO:+0300
TZNAME:EEST
DTSTART:20240331T010000
END:DAYLIGHT
BEGIN:STANDARD
TZOFFSETFROM:+0300
TZOFFSETTO:+0200
TZNAME:EET
DTSTART:20241027T010000
END:STANDARD
BEGIN:DAYLIGHT
TZOFFSETFROM:+0200
TZOFFSETTO:+0300
TZNAME:EEST
DTSTART:20250330T010000
END:DAYLIGHT
BEGIN:STANDARD
TZOFFSETFROM:+0300
TZOFFSETTO:+0200
TZNAME:EET
DTSTART:20251026T010000
END:STANDARD
BEGIN:DAYLIGHT
TZOFFSETFROM:+0200
TZOFFSETTO:+0300
TZNAME:EEST
DTSTART:20260329T010000
END:DAYLIGHT
BEGIN:STANDARD
TZOFFSETFROM:+0300
TZOFFSETTO:+0200
TZNAME:EET
DTSTART:20261025T010000
END:STANDARD
END:VTIMEZONE
BEGIN:VEVENT
DTSTART;TZID=Europe/Helsinki:20250506T000000
DTEND;TZID=Europe/Helsinki:20250507T235959
DTSTAMP:20260420T051526
CREATED:20250304T093200Z
LAST-MODIFIED:20250305T163900Z
UID:50695-1746489600-1746662399@www.hamburg-city-webguide.de
SUMMARY:OMR Festival
DESCRIPTION:Fachmesse für Digitalwirtschaft\, Medien und Marketing\n\n\n\n\n\nDas OMR Festival ist die größte Fachmesse für Digitalwirtschaft\, Medien und Marketing in Europa. Im Jahr 2024 besuchten mehr als 67.000 Interessierte die Fachmesse auf dem Hamburger Messegelände. Neben einer Expo mit rund 1000 Ausstellern bietet das Event auf fünf Bühnen ein interessantes Programm aus Konferenz\, Masterclasses und Side Events. \n\n\n\n\n\n\n\nZu den Gästen aus den Bereichen Wirtschaft\, Politik und Medien zählen in diesem Jahr Dirk Nowitzki\, Sebastian Fitzek\, ChatGPT-Produktchef Nicholas Turley\, Reddit-COO Jen Wong\, Technologie-Wissenschaftlerin Amy Webb und der Musiker RAF Camora. \n\n\n\n\nTickets\n\n\n\n\n\n\n\n\n\n\n\nRelated Images:
URL:https://www.hamburg-city-webguide.de/event/omr-festival/
LOCATION:Hamburg Messe und Congress GmbH\, Messeplatz 1\, Hamburg\, 20357
CATEGORIES:Alle Events,Messen
END:VEVENT
END:VCALENDAR