BEGIN:VCALENDAR
VERSION:2.0
PRODID:-//HAMBURG CITY WEBGUIDE - ECPv6.15.20//NONSGML v1.0//EN
CALSCALE:GREGORIAN
METHOD:PUBLISH
X-WR-CALNAME:HAMBURG CITY WEBGUIDE
X-ORIGINAL-URL:https://www.hamburg-city-webguide.de
X-WR-CALDESC:Veranstaltungen für HAMBURG CITY WEBGUIDE
REFRESH-INTERVAL;VALUE=DURATION:PT1H
X-Robots-Tag:noindex
X-PUBLISHED-TTL:PT1H
BEGIN:VTIMEZONE
TZID:Europe/Helsinki
BEGIN:DAYLIGHT
TZOFFSETFROM:+0200
TZOFFSETTO:+0300
TZNAME:EEST
DTSTART:20240331T010000
END:DAYLIGHT
BEGIN:STANDARD
TZOFFSETFROM:+0300
TZOFFSETTO:+0200
TZNAME:EET
DTSTART:20241027T010000
END:STANDARD
BEGIN:DAYLIGHT
TZOFFSETFROM:+0200
TZOFFSETTO:+0300
TZNAME:EEST
DTSTART:20250330T010000
END:DAYLIGHT
BEGIN:STANDARD
TZOFFSETFROM:+0300
TZOFFSETTO:+0200
TZNAME:EET
DTSTART:20251026T010000
END:STANDARD
BEGIN:DAYLIGHT
TZOFFSETFROM:+0200
TZOFFSETTO:+0300
TZNAME:EEST
DTSTART:20260329T010000
END:DAYLIGHT
BEGIN:STANDARD
TZOFFSETFROM:+0300
TZOFFSETTO:+0200
TZNAME:EET
DTSTART:20261025T010000
END:STANDARD
END:VTIMEZONE
BEGIN:VEVENT
DTSTART;TZID=Europe/Helsinki:20251113T000000
DTEND;TZID=Europe/Helsinki:20251123T235959
DTSTAMP:20260421T212638
CREATED:20251113T101503Z
LAST-MODIFIED:20251113T105301Z
UID:52161-1762992000-1763942399@www.hamburg-city-webguide.de
SUMMARY:JAZZ MOVES Hamburg Clubfestival
DESCRIPTION:Mit 30 Konzerten in 20 Clubs feiert Hamburg das JAZZ MOVES Clubfestival. Dazu öffnen 20 Musikclubs von Volksdorf bis Wilhelmsburg\, von Altona bis Bergedorf ihre Tore für faszinierende Live-Konzerte. \n\n\n\n\n\n\n\nMit dabei sind neben der Fabrik Hamburg\, dem Mojo Jazz Cafe\, dem Nica Jazz Club\, dem Cotton Club und der Kulturkirche Altona auch die Kulturläden in den einzelnen Stadtteilen. Der Eintritt pro Konzert kostet 10€. \n\n\n\n\nProgramm und Tickets\n\n\n\n\nFoto: © Beate Eckert-Kraft – www.imajix.de \n\n\n\n\n\n\n\n\n\n\nRelated Images:
URL:https://www.hamburg-city-webguide.de/event/jazz-moves-hamburg-clubfestival/
LOCATION:Jazz Cafe im mojo\, Reeperbahn 1\, Hamburg\, 20359
CATEGORIES:Alle Events,Festivals,Soul/Funk/Jazz
ATTACH;FMTTYPE=image/jpeg:https://www.hamburg-city-webguide.de/wp-content/uploads/2014/11/Brsnford-Marsalis-Saxophon-Solo.jpg
END:VEVENT
END:VCALENDAR