BEGIN:VCALENDAR
VERSION:2.0
PRODID:-//HAMBURG CITY WEBGUIDE - ECPv6.15.20//NONSGML v1.0//EN
CALSCALE:GREGORIAN
METHOD:PUBLISH
X-WR-CALNAME:HAMBURG CITY WEBGUIDE
X-ORIGINAL-URL:https://www.hamburg-city-webguide.de
X-WR-CALDESC:Veranstaltungen für HAMBURG CITY WEBGUIDE
REFRESH-INTERVAL;VALUE=DURATION:PT1H
X-Robots-Tag:noindex
X-PUBLISHED-TTL:PT1H
BEGIN:VTIMEZONE
TZID:Europe/Helsinki
BEGIN:DAYLIGHT
TZOFFSETFROM:+0200
TZOFFSETTO:+0300
TZNAME:EEST
DTSTART:20210328T010000
END:DAYLIGHT
BEGIN:STANDARD
TZOFFSETFROM:+0300
TZOFFSETTO:+0200
TZNAME:EET
DTSTART:20211031T010000
END:STANDARD
BEGIN:DAYLIGHT
TZOFFSETFROM:+0200
TZOFFSETTO:+0300
TZNAME:EEST
DTSTART:20220327T010000
END:DAYLIGHT
BEGIN:STANDARD
TZOFFSETFROM:+0300
TZOFFSETTO:+0200
TZNAME:EET
DTSTART:20221030T010000
END:STANDARD
BEGIN:DAYLIGHT
TZOFFSETFROM:+0200
TZOFFSETTO:+0300
TZNAME:EEST
DTSTART:20230326T010000
END:DAYLIGHT
BEGIN:STANDARD
TZOFFSETFROM:+0300
TZOFFSETTO:+0200
TZNAME:EET
DTSTART:20231029T010000
END:STANDARD
BEGIN:DAYLIGHT
TZOFFSETFROM:+0200
TZOFFSETTO:+0300
TZNAME:EEST
DTSTART:20240331T010000
END:DAYLIGHT
BEGIN:STANDARD
TZOFFSETFROM:+0300
TZOFFSETTO:+0200
TZNAME:EET
DTSTART:20241027T010000
END:STANDARD
END:VTIMEZONE
BEGIN:VEVENT
DTSTART;TZID=Europe/Helsinki:20221101T000000
DTEND;TZID=Europe/Helsinki:20230731T235959
DTSTAMP:20260424T002003
CREATED:20221101T132300Z
LAST-MODIFIED:20230418T172348Z
UID:43885-1667260800-1690847999@www.hamburg-city-webguide.de
SUMMARY:Eine Stadt wird bunt
DESCRIPTION: Hamburg Graffiti History 1980-1999\n\n\n\n\n\nInspiriert von Filmen wie Beat Street zogen Angang der 1980er Jahre Graffiti-Writer mit Sprühdosen nachts auch durch Hamburgs Straßen und hinterließen bunte Bilder und ihre Schriftzüge an den Wänden. Anhand von rund 500 Exponaten erzählt die Ausstellung EINE STADT WIRD BUNT die Entstehungsgeschichte der aufkommenden Jugend- und Subkultur des Graffiti in Hamburg.  \n\n\n\n\n\n\n\nDas veränderte das durch die Nachkriegszeit geprägte Stadtbild der Hansestadt maßgeblich. Die Ausstellung wird von einer App begleitet\, die die lokale Ausstellung im Museum für Hamburgische Geschichte mit dem lokalen Raum verbindet. Das gleichnamige Buch erhielt den Buchpreis HamburgLesen. \n\n\n\n\n360 Grad Ansicht\n\n\n\nBericht\n\n\n\n\nFoto: ©Fedor Wildhardt \n\n\n\n\n\n\n\n\n\n\nRelated Images:
URL:https://www.hamburg-city-webguide.de/event/eine-stadt-wird-bunt/
LOCATION:Museum für Hamburgische Geschichte\, Holstenwall 24\, Hamburg\, 20355
CATEGORIES:Alle Events,Ausstellungen
ATTACH;FMTTYPE=image/jpeg:https://www.hamburg-city-webguide.de/wp-content/uploads/2022/12/Eine-Stadt-wird-bunt_002_c-beate_eckert-kraft.jpg
END:VEVENT
BEGIN:VEVENT
DTSTART;TZID=Europe/Helsinki:20230516T000000
DTEND;TZID=Europe/Helsinki:20230703T235959
DTSTAMP:20260424T002003
CREATED:20230509T043200Z
LAST-MODIFIED:20230509T044507Z
UID:45378-1684195200-1688428799@www.hamburg-city-webguide.de
SUMMARY:Holz bewegt. Möbel + Design + Interieur
DESCRIPTION:Ausstellung zum 8. Norddeutschen Nachwuchswettbewerb im Bereich Holzhandwerk\n\n\n\n\n\nDie Ausstellung Holz bewegt. Möbel + Design + Interieur zeigt die beeindruckende Bandbreite im handwerklichen Umgang mit dem Werkstoff Holz. Das Museum der Arbeit präsentiert seit 2011 die jeweiligen Ergebnisse des gleichnamigen norddeutschen Nachwuchswettbewerb im Bereich Holzhandwerk. \n\n\n\n\n\n\n\nBeim diesjährigen Wettbewerb haben sich Auszubildende\, Fachschülerinnen und Ehemalige mit dem Schwerpunktthema „Verbinden“ auseinandergesetzt und präsentieren ihre 50 außergewöhnlichen Exponate aus den Bereichen Möbel\, Design und Interieur. \n\n\n\n\n\n\n\n\n\n\nRelated Images:
URL:https://www.hamburg-city-webguide.de/event/holz-bewegt-moebel-design-interieur/
LOCATION:Museum der Arbeit\, Wiesendamm 3\, Hamburg\, 22305
CATEGORIES:Alle Events,Ausstellungen
END:VEVENT
END:VCALENDAR