BEGIN:VCALENDAR
VERSION:2.0
PRODID:-//HAMBURG CITY WEBGUIDE - ECPv6.15.20//NONSGML v1.0//EN
CALSCALE:GREGORIAN
METHOD:PUBLISH
X-ORIGINAL-URL:https://www.hamburg-city-webguide.de
X-WR-CALDESC:Veranstaltungen für HAMBURG CITY WEBGUIDE
REFRESH-INTERVAL;VALUE=DURATION:PT1H
X-Robots-Tag:noindex
X-PUBLISHED-TTL:PT1H
BEGIN:VTIMEZONE
TZID:Europe/Helsinki
BEGIN:DAYLIGHT
TZOFFSETFROM:+0200
TZOFFSETTO:+0300
TZNAME:EEST
DTSTART:20220327T010000
END:DAYLIGHT
BEGIN:STANDARD
TZOFFSETFROM:+0300
TZOFFSETTO:+0200
TZNAME:EET
DTSTART:20221030T010000
END:STANDARD
BEGIN:DAYLIGHT
TZOFFSETFROM:+0200
TZOFFSETTO:+0300
TZNAME:EEST
DTSTART:20230326T010000
END:DAYLIGHT
BEGIN:STANDARD
TZOFFSETFROM:+0300
TZOFFSETTO:+0200
TZNAME:EET
DTSTART:20231029T010000
END:STANDARD
BEGIN:DAYLIGHT
TZOFFSETFROM:+0200
TZOFFSETTO:+0300
TZNAME:EEST
DTSTART:20240331T010000
END:DAYLIGHT
BEGIN:STANDARD
TZOFFSETFROM:+0300
TZOFFSETTO:+0200
TZNAME:EET
DTSTART:20241027T010000
END:STANDARD
BEGIN:DAYLIGHT
TZOFFSETFROM:+0200
TZOFFSETTO:+0300
TZNAME:EEST
DTSTART:20250330T010000
END:DAYLIGHT
BEGIN:STANDARD
TZOFFSETFROM:+0300
TZOFFSETTO:+0200
TZNAME:EET
DTSTART:20251026T010000
END:STANDARD
END:VTIMEZONE
BEGIN:VEVENT
DTSTART;TZID=Europe/Helsinki:20230927T000000
DTEND;TZID=Europe/Helsinki:20240715T235959
DTSTAMP:20260423T050938
CREATED:20231109T081551Z
LAST-MODIFIED:20231109T081820Z
UID:47095-1695772800-1721087999@www.hamburg-city-webguide.de
SUMMARY:Glauben und Glauben lassen
DESCRIPTION:Ausstellung über Freiheiten und Grenzen\n\n\n\n\n\nDas Grundgesetz verankert die Glaubensfreiheit als ein wesentliches Menschenrecht. Um die Freiheit zu glauben – oder auch nicht  zu glauben wird gerade in heutigen Zeiten gerungen und sogar Kriege geführt. Sie Ausstellung Glauben und Glauben lassen beschäftigt sich mit den Chancen und Grenzen der Vielfältigen Religiosität in heutigen Stadtgesellschaften. \n\n\n\n\n\n\n\nBereits im Jahr 1601 lebte Altona die Glaubensfreiheit aus. Hier lebten im Gegensatz zum lutherischen Hamburg verschiedene Glaubensrichtungen wie Mennoniten\, Reformierte\, Juden und Katholiken gemeinsam zusammen. Das Museum Altona zeigt eine Sonderausstellung\, die aktueller nicht sein könnte und spannt einen Bogen über die Geschichte der Glaubensfreiheit vom 17. Jahrhundert bis in die Gegenwart – eine Geschichte über Freiheiten und Grenzen. \n\n\n\n\nFührungen und Workshops\n\n\n\n\n\n\n\n\n\n\n\nRelated Images:
URL:https://www.hamburg-city-webguide.de/event/glauben-und-glauben-lassen/
LOCATION:Altonaer Museum\, Museumstraße 23\, Hamburg\, 22765
CATEGORIES:Alle Events,Ausstellungen,Info,Workshops
END:VEVENT
BEGIN:VEVENT
DTSTART;TZID=Europe/Helsinki:20231011T080000
DTEND;TZID=Europe/Helsinki:20240426T170000
DTSTAMP:20260423T050938
CREATED:20231223T162543Z
LAST-MODIFIED:20231223T162603Z
UID:47367-1697011200-1714150800@www.hamburg-city-webguide.de
SUMMARY:Light My Fire
DESCRIPTION:Mensch macht Feuer\n\n\n\n\n\nBei der Ausstellung LIGHT MY FIRE – MENSCH MACHT FEUER präsentiert das Archäologische Museum Hamburg eine Reise durch die Menschheitsgeschichte. Dabei steht eine der wichtigsten Entdeckungen des Menschen im Vordergrund\, ohne die die dessen rasante Entwicklung unmöglich gewesen wäre: das Feuer. \n\n\n\n\n\n\n\nMit Rekonstruktionen altsteinzeitlicher Höhlenmalereien und Experimentierstationen wirft die Ausstellung Schlaglichter auf die technische Nutzung des Feuers sowie seine heutige Bedeutung als Grundlage des Industrie- und Informationszeitalters.  \n\n\n\n\nTickets\n\n\n\n\n\n\n\n\n\n\n\nRelated Images:
URL:https://www.hamburg-city-webguide.de/event/light-my-fire/
LOCATION:Archäologisches Museum Hamburg\, Museumsplatz 2 \, Hamburg\, 21073
CATEGORIES:Alle Events,Ausstellungen
END:VEVENT
END:VCALENDAR