BEGIN:VCALENDAR
VERSION:2.0
PRODID:-//HAMBURG CITY WEBGUIDE - ECPv6.15.20//NONSGML v1.0//EN
CALSCALE:GREGORIAN
METHOD:PUBLISH
X-ORIGINAL-URL:https://www.hamburg-city-webguide.de
X-WR-CALDESC:Veranstaltungen für HAMBURG CITY WEBGUIDE
REFRESH-INTERVAL;VALUE=DURATION:PT1H
X-Robots-Tag:noindex
X-PUBLISHED-TTL:PT1H
BEGIN:VTIMEZONE
TZID:Europe/Helsinki
BEGIN:DAYLIGHT
TZOFFSETFROM:+0200
TZOFFSETTO:+0300
TZNAME:EEST
DTSTART:20160327T010000
END:DAYLIGHT
BEGIN:STANDARD
TZOFFSETFROM:+0300
TZOFFSETTO:+0200
TZNAME:EET
DTSTART:20161030T010000
END:STANDARD
BEGIN:DAYLIGHT
TZOFFSETFROM:+0200
TZOFFSETTO:+0300
TZNAME:EEST
DTSTART:20170326T010000
END:DAYLIGHT
BEGIN:STANDARD
TZOFFSETFROM:+0300
TZOFFSETTO:+0200
TZNAME:EET
DTSTART:20171029T010000
END:STANDARD
BEGIN:DAYLIGHT
TZOFFSETFROM:+0200
TZOFFSETTO:+0300
TZNAME:EEST
DTSTART:20180325T010000
END:DAYLIGHT
BEGIN:STANDARD
TZOFFSETFROM:+0300
TZOFFSETTO:+0200
TZNAME:EET
DTSTART:20181028T010000
END:STANDARD
END:VTIMEZONE
BEGIN:VEVENT
DTSTART;TZID=Europe/Helsinki:20171003T190000
DTEND;TZID=Europe/Helsinki:20171003T200000
DTSTAMP:20260425T012913
CREATED:20170912T103653Z
LAST-MODIFIED:20171005T085722Z
UID:24005-1507057200-1507060800@www.hamburg-city-webguide.de
SUMMARY:GREASE
DESCRIPTION:Röhrenjeans\, Pettycoats und Pmade in den Haaren – mit GREASE kehrt eines der erfolgreichsten Musicals zum 45-jährigen Bühnenjubiläum nach Deutschland zurück. Für zwei Wochen ist die Liebesgeschichte vom coolen Danny und der schüchternen Sandy im Mehr! Theater am Großmarkt zu sehen. \n \nFuriose Tanzszenen und Rock ’n‘ Roll Hits machen die Show zu einer unvergesslichen Bühnen-Party. \nTickets \nBericht zur Premiere \nRelated Images:
URL:https://www.hamburg-city-webguide.de/event/grease/
LOCATION:Mehr! Theater am Großmarkt\, Banksstraße 28\, Hamburg\, 20097
CATEGORIES:Alle Events,Musicals,Shows,Tanz
ATTACH;FMTTYPE=image/jpeg:https://www.hamburg-city-webguide.de/wp-content/uploads/2017/09/Grease_0018.jpg
END:VEVENT
BEGIN:VEVENT
DTSTART;TZID=Europe/Helsinki:20171004T200000
DTEND;TZID=Europe/Helsinki:20171004T200000
DTSTAMP:20260425T012913
CREATED:20170912T104013Z
LAST-MODIFIED:20171005T085657Z
UID:24007-1507147200-1507147200@www.hamburg-city-webguide.de
SUMMARY:GREASE
DESCRIPTION:Röhrenjeans\, Pettycoats und Pmade in den Haaren – mit GREASE kehrt eines der erfolgreichsten Musicals zum 45-jährigen Bühnenjubiläum nach Deutschland zurück. Für zwei Wochen ist die Liebesgeschichte vom coolen Danny und der schüchternen Sandy im Mehr! Theater am Großmarkt zu sehen. \n \nFuriose Tanzszenen und Rock ’n‘ Roll Hits machen die Show zu einer unvergesslichen Bühnen-Party. \nTickets \nBericht zur Premiere \nRelated Images:
URL:https://www.hamburg-city-webguide.de/event/grease-2/
LOCATION:Mehr! Theater am Großmarkt\, Banksstraße 28\, Hamburg\, 20097
CATEGORIES:Alle Events,Musicals,Tanz
ATTACH;FMTTYPE=image/jpeg:https://www.hamburg-city-webguide.de/wp-content/uploads/2017/09/Grease_0018.jpg
END:VEVENT
BEGIN:VEVENT
DTSTART;TZID=Europe/Helsinki:20171005T200000
DTEND;TZID=Europe/Helsinki:20171005T200000
DTSTAMP:20260425T012913
CREATED:20170912T104113Z
LAST-MODIFIED:20171005T085632Z
UID:24010-1507233600-1507233600@www.hamburg-city-webguide.de
SUMMARY:GREASE
DESCRIPTION:Röhrenjeans\, Pettycoats und Pmade in den Haaren – mit GREASE kehrt eines der erfolgreichsten Musicals zum 45-jährigen Bühnenjubiläum nach Deutschland zurück. Für zwei Wochen ist die Liebesgeschichte vom coolen Danny und der schüchternen Sandy im Mehr! Theater am Großmarkt zu sehen. \n \nFuriose Tanzszenen und Rock ’n‘ Roll Hits machen die Show zu einer unvergesslichen Bühnen-Party. \nTickets \nBericht zur Premiere \nRelated Images:
URL:https://www.hamburg-city-webguide.de/event/grease-3/
LOCATION:Mehr! Theater am Großmarkt\, Banksstraße 28\, Hamburg\, 20097
CATEGORIES:Alle Events,Musicals,Tanz
ATTACH;FMTTYPE=image/jpeg:https://www.hamburg-city-webguide.de/wp-content/uploads/2017/09/Grease_0018.jpg
END:VEVENT
BEGIN:VEVENT
DTSTART;TZID=Europe/Helsinki:20171006T200000
DTEND;TZID=Europe/Helsinki:20171006T200000
DTSTAMP:20260425T012913
CREATED:20170912T104308Z
LAST-MODIFIED:20171005T085558Z
UID:24012-1507320000-1507320000@www.hamburg-city-webguide.de
SUMMARY:GREASE
DESCRIPTION:Röhrenjeans\, Pettycoats und Pmade in den Haaren – mit GREASE kehrt eines der erfolgreichsten Musicals zum 45-jährigen Bühnenjubiläum nach Deutschland zurück. Für zwei Wochen ist die Liebesgeschichte vom coolen Danny und der schüchternen Sandy im Mehr! Theater am Großmarkt zu sehen. \n \nFuriose Tanzszenen und Rock ’n‘ Roll Hits machen die Show zu einer unvergesslichen Bühnen-Party. \nTickets \nBericht zur Premiere \nRelated Images:
URL:https://www.hamburg-city-webguide.de/event/grease-4/
LOCATION:Mehr! Theater am Großmarkt\, Banksstraße 28\, Hamburg\, 20097
CATEGORIES:Alle Events,Musicals,Shows,Tanz
ATTACH;FMTTYPE=image/jpeg:https://www.hamburg-city-webguide.de/wp-content/uploads/2017/09/Grease_0018.jpg
END:VEVENT
BEGIN:VEVENT
DTSTART;TZID=Europe/Helsinki:20171007T150000
DTEND;TZID=Europe/Helsinki:20171007T150000
DTSTAMP:20260425T012913
CREATED:20170912T104451Z
LAST-MODIFIED:20171005T085526Z
UID:24014-1507388400-1507388400@www.hamburg-city-webguide.de
SUMMARY:GREASE
DESCRIPTION:Röhrenjeans\, Pettycoats und Pmade in den Haaren – mit GREASE kehrt eines der erfolgreichsten Musicals zum 45-jährigen Bühnenjubiläum nach Deutschland zurück. Für zwei Wochen ist die Liebesgeschichte vom coolen Danny und der schüchternen Sandy im Mehr! Theater am Großmarkt zu sehen. \n \nFuriose Tanzszenen und Rock ’n‘ Roll Hits machen die Show zu einer unvergesslichen Bühnen-Party. \nTickets \nBericht zur Premiere \nRelated Images:
URL:https://www.hamburg-city-webguide.de/event/grease-5/
LOCATION:Mehr! Theater am Großmarkt\, Banksstraße 28\, Hamburg\, 20097
CATEGORIES:Alle Events,Musicals,Shows,Tanz
ATTACH;FMTTYPE=image/jpeg:https://www.hamburg-city-webguide.de/wp-content/uploads/2017/09/Grease_0018.jpg
END:VEVENT
BEGIN:VEVENT
DTSTART;TZID=Europe/Helsinki:20171007T200000
DTEND;TZID=Europe/Helsinki:20171007T200000
DTSTAMP:20260425T012913
CREATED:20170912T104555Z
LAST-MODIFIED:20171005T085459Z
UID:24016-1507406400-1507406400@www.hamburg-city-webguide.de
SUMMARY:GREASE
DESCRIPTION:Röhrenjeans\, Pettycoats und Pmade in den Haaren – mit GREASE kehrt eines der erfolgreichsten Musicals zum 45-jährigen Bühnenjubiläum nach Deutschland zurück. Für zwei Wochen ist die Liebesgeschichte vom coolen Danny und der schüchternen Sandy im Mehr! Theater am Großmarkt zu sehen. \n \nFuriose Tanzszenen und Rock ’n‘ Roll Hits machen die Show zu einer unvergesslichen Bühnen-Party. \nTickets \nBericht zur Premiere \nRelated Images:
URL:https://www.hamburg-city-webguide.de/event/grease-6/
LOCATION:Mehr! Theater am Großmarkt\, Banksstraße 28\, Hamburg\, 20097
CATEGORIES:Alle Events,Musicals,Shows,Tanz
ATTACH;FMTTYPE=image/jpeg:https://www.hamburg-city-webguide.de/wp-content/uploads/2017/09/Grease_0018.jpg
END:VEVENT
BEGIN:VEVENT
DTSTART;TZID=Europe/Helsinki:20171008T140000
DTEND;TZID=Europe/Helsinki:20171008T140000
DTSTAMP:20260425T012913
CREATED:20170912T104727Z
LAST-MODIFIED:20171005T085435Z
UID:24018-1507471200-1507471200@www.hamburg-city-webguide.de
SUMMARY:GREASE
DESCRIPTION:Röhrenjeans\, Pettycoats und Pmade in den Haaren – mit GREASE kehrt eines der erfolgreichsten Musicals zum 45-jährigen Bühnenjubiläum nach Deutschland zurück. Für zwei Wochen ist die Liebesgeschichte vom coolen Danny und der schüchternen Sandy im Mehr! Theater am Großmarkt zu sehen. \n \nFuriose Tanzszenen und Rock ’n‘ Roll Hits machen die Show zu einer unvergesslichen Bühnen-Party. \nTickets \nBericht zur Premiere \nRelated Images:
URL:https://www.hamburg-city-webguide.de/event/grease-7/
LOCATION:Mehr! Theater am Großmarkt\, Banksstraße 28\, Hamburg\, 20097
CATEGORIES:Alle Events,Musicals,Shows,Tanz
ATTACH;FMTTYPE=image/jpeg:https://www.hamburg-city-webguide.de/wp-content/uploads/2017/09/Grease_0018.jpg
END:VEVENT
BEGIN:VEVENT
DTSTART;TZID=Europe/Helsinki:20171008T190000
DTEND;TZID=Europe/Helsinki:20171008T190000
DTSTAMP:20260425T012913
CREATED:20170912T104834Z
LAST-MODIFIED:20171005T085411Z
UID:24020-1507489200-1507489200@www.hamburg-city-webguide.de
SUMMARY:GREASE
DESCRIPTION:Röhrenjeans\, Pettycoats und Pmade in den Haaren – mit GREASE kehrt eines der erfolgreichsten Musicals zum 45-jährigen Bühnenjubiläum nach Deutschland zurück. Für zwei Wochen ist die Liebesgeschichte vom coolen Danny und der schüchternen Sandy im Mehr! Theater am Großmarkt zu sehen. \n \nFuriose Tanzszenen und Rock ’n‘ Roll Hits machen die Show zu einer unvergesslichen Bühnen-Party. \nTickets \nBericht zur Premiere \nRelated Images:
URL:https://www.hamburg-city-webguide.de/event/grease-8/
LOCATION:Mehr! Theater am Großmarkt\, Banksstraße 28\, Hamburg\, 20097
CATEGORIES:Alle Events,Musicals,Shows,Tanz
ATTACH;FMTTYPE=image/jpeg:https://www.hamburg-city-webguide.de/wp-content/uploads/2017/09/Grease_0018.jpg
END:VEVENT
BEGIN:VEVENT
DTSTART;TZID=Europe/Helsinki:20171010T200000
DTEND;TZID=Europe/Helsinki:20171010T200000
DTSTAMP:20260425T012913
CREATED:20170912T104946Z
LAST-MODIFIED:20171005T085347Z
UID:24022-1507665600-1507665600@www.hamburg-city-webguide.de
SUMMARY:GREASE
DESCRIPTION:Röhrenjeans\, Pettycoats und Pmade in den Haaren – mit GREASE kehrt eines der erfolgreichsten Musicals zum 45-jährigen Bühnenjubiläum nach Deutschland zurück. Für zwei Wochen ist die Liebesgeschichte vom coolen Danny und der schüchternen Sandy im Mehr! Theater am Großmarkt zu sehen. \n \nFuriose Tanzszenen und Rock ’n‘ Roll Hits machen die Show zu einer unvergesslichen Bühnen-Party. \nTickets \nBericht zur Premiere \nRelated Images:
URL:https://www.hamburg-city-webguide.de/event/grease-9/
LOCATION:Mehr! Theater am Großmarkt\, Banksstraße 28\, Hamburg\, 20097
CATEGORIES:Alle Events,Musicals,Shows,Tanz
ATTACH;FMTTYPE=image/jpeg:https://www.hamburg-city-webguide.de/wp-content/uploads/2017/09/Grease_0018.jpg
END:VEVENT
BEGIN:VEVENT
DTSTART;TZID=Europe/Helsinki:20171011T200000
DTEND;TZID=Europe/Helsinki:20171011T200000
DTSTAMP:20260425T012913
CREATED:20170912T105052Z
LAST-MODIFIED:20171005T085308Z
UID:24024-1507752000-1507752000@www.hamburg-city-webguide.de
SUMMARY:GREASE
DESCRIPTION:Röhrenjeans\, Pettycoats und Pmade in den Haaren – mit GREASE kehrt eines der erfolgreichsten Musicals zum 45-jährigen Bühnenjubiläum nach Deutschland zurück. Für zwei Wochen ist die Liebesgeschichte vom coolen Danny und der schüchternen Sandy im Mehr! Theater am Großmarkt zu sehen. \n \nFuriose Tanzszenen und Rock ’n‘ Roll Hits machen die Show zu einer unvergesslichen Bühnen-Party. \nTickets \nBericht zur Premiere \nRelated Images:
URL:https://www.hamburg-city-webguide.de/event/grease-10/
LOCATION:Mehr! Theater am Großmarkt\, Banksstraße 28\, Hamburg\, 20097
CATEGORIES:Alle Events,Musicals,Shows,Tanz
ATTACH;FMTTYPE=image/jpeg:https://www.hamburg-city-webguide.de/wp-content/uploads/2017/09/Grease_0018.jpg
END:VEVENT
BEGIN:VEVENT
DTSTART;TZID=Europe/Helsinki:20171012T200000
DTEND;TZID=Europe/Helsinki:20171012T200000
DTSTAMP:20260425T012913
CREATED:20170912T105202Z
LAST-MODIFIED:20171005T085238Z
UID:24026-1507838400-1507838400@www.hamburg-city-webguide.de
SUMMARY:GREASE
DESCRIPTION:Röhrenjeans\, Pettycoats und Pmade in den Haaren – mit GREASE kehrt eines der erfolgreichsten Musicals zum 45-jährigen Bühnenjubiläum nach Deutschland zurück. Für zwei Wochen ist die Liebesgeschichte vom coolen Danny und der schüchternen Sandy im Mehr! Theater am Großmarkt zu sehen. \n \nFuriose Tanzszenen und Rock ’n‘ Roll Hits machen die Show zu einer unvergesslichen Bühnen-Party. \nTickets \nBericht zur Premiere \nRelated Images:
URL:https://www.hamburg-city-webguide.de/event/grease-11/
LOCATION:Mehr! Theater am Großmarkt\, Banksstraße 28\, Hamburg\, 20097
CATEGORIES:Alle Events,Musicals,Shows,Tanz
ATTACH;FMTTYPE=image/jpeg:https://www.hamburg-city-webguide.de/wp-content/uploads/2017/09/Grease_0018.jpg
END:VEVENT
BEGIN:VEVENT
DTSTART;TZID=Europe/Helsinki:20171013T200000
DTEND;TZID=Europe/Helsinki:20171013T200000
DTSTAMP:20260425T012913
CREATED:20170912T105306Z
LAST-MODIFIED:20171005T085204Z
UID:24028-1507924800-1507924800@www.hamburg-city-webguide.de
SUMMARY:GREASE
DESCRIPTION:Röhrenjeans\, Pettycoats und Pmade in den Haaren – mit GREASE kehrt eines der erfolgreichsten Musicals zum 45-jährigen Bühnenjubiläum nach Deutschland zurück. Für zwei Wochen ist die Liebesgeschichte vom coolen Danny und der schüchternen Sandy im Mehr! Theater am Großmarkt zu sehen. \n \nFuriose Tanzszenen und Rock ’n‘ Roll Hits machen die Show zu einer unvergesslichen Bühnen-Party. \nTickets \nBericht zur Premiere \nRelated Images:
URL:https://www.hamburg-city-webguide.de/event/grease-12/
LOCATION:Mehr! Theater am Großmarkt\, Banksstraße 28\, Hamburg\, 20097
CATEGORIES:Alle Events,Musicals,Shows,Tanz
ATTACH;FMTTYPE=image/jpeg:https://www.hamburg-city-webguide.de/wp-content/uploads/2017/09/Grease_0018.jpg
END:VEVENT
BEGIN:VEVENT
DTSTART;TZID=Europe/Helsinki:20171014T150000
DTEND;TZID=Europe/Helsinki:20171014T150000
DTSTAMP:20260425T012913
CREATED:20170912T105416Z
LAST-MODIFIED:20171005T085053Z
UID:24030-1507993200-1507993200@www.hamburg-city-webguide.de
SUMMARY:GREASE
DESCRIPTION:Röhrenjeans\, Pettycoats und Pmade in den Haaren – mit GREASE kehrt eines der erfolgreichsten Musicals zum 45-jährigen Bühnenjubiläum nach Deutschland zurück. Für zwei Wochen ist die Liebesgeschichte vom coolen Danny und der schüchternen Sandy im Mehr! Theater am Großmarkt zu sehen. \n \nFuriose Tanzszenen und Rock ’n‘ Roll Hits machen die Show zu einer unvergesslichen Bühnen-Party. \nTickets \nBericht zur Premiere \nRelated Images:
URL:https://www.hamburg-city-webguide.de/event/grease-13/
LOCATION:Mehr! Theater am Großmarkt\, Banksstraße 28\, Hamburg\, 20097
CATEGORIES:Alle Events,Musicals,Shows,Tanz
ATTACH;FMTTYPE=image/jpeg:https://www.hamburg-city-webguide.de/wp-content/uploads/2017/09/Grease_0018.jpg
END:VEVENT
BEGIN:VEVENT
DTSTART;TZID=Europe/Helsinki:20171014T200000
DTEND;TZID=Europe/Helsinki:20171014T200000
DTSTAMP:20260425T012913
CREATED:20170912T105533Z
LAST-MODIFIED:20171005T085819Z
UID:24032-1508011200-1508011200@www.hamburg-city-webguide.de
SUMMARY:GREASE
DESCRIPTION:Röhrenjeans\, Pettycoats und Pmade in den Haaren – mit GREASE kehrt eines der erfolgreichsten Musicals zum 45-jährigen Bühnenjubiläum nach Deutschland zurück. Für zwei Wochen ist die Liebesgeschichte vom coolen Danny und der schüchternen Sandy im Mehr! Theater am Großmarkt zu sehen. \n \nFuriose Tanzszenen und Rock ’n‘ Roll Hits machen die Show zu einer unvergesslichen Bühnen-Party. \nTickets \nBericht zur Premiere \nRelated Images:
URL:https://www.hamburg-city-webguide.de/event/grease-14/
LOCATION:Mehr! Theater am Großmarkt\, Banksstraße 28\, Hamburg\, 20097
CATEGORIES:Alle Events,Musicals,Shows,Tanz
ATTACH;FMTTYPE=image/jpeg:https://www.hamburg-city-webguide.de/wp-content/uploads/2017/09/Grease_0018.jpg
END:VEVENT
BEGIN:VEVENT
DTSTART;TZID=Europe/Helsinki:20171015T140000
DTEND;TZID=Europe/Helsinki:20171015T140000
DTSTAMP:20260425T012913
CREATED:20170912T105644Z
LAST-MODIFIED:20171005T085803Z
UID:24034-1508076000-1508076000@www.hamburg-city-webguide.de
SUMMARY:GREASE
DESCRIPTION:Röhrenjeans\, Pettycoats und Pmade in den Haaren – mit GREASE kehrt eines der erfolgreichsten Musicals zum 45-jährigen Bühnenjubiläum nach Deutschland zurück. Für zwei Wochen ist die Liebesgeschichte vom coolen Danny und der schüchternen Sandy im Mehr! Theater am Großmarkt zu sehen. \n \nFuriose Tanzszenen und Rock ’n‘ Roll Hits machen die Show zu einer unvergesslichen Bühnen-Party. \nTickets \nBericht zur Premiere \nRelated Images:
URL:https://www.hamburg-city-webguide.de/event/grease-15/
LOCATION:Mehr! Theater am Großmarkt\, Banksstraße 28\, Hamburg\, 20097
CATEGORIES:Alle Events,Musicals,Shows,Tanz
END:VEVENT
BEGIN:VEVENT
DTSTART;TZID=Europe/Helsinki:20171015T190000
DTEND;TZID=Europe/Helsinki:20171015T190000
DTSTAMP:20260425T012913
CREATED:20170912T105751Z
LAST-MODIFIED:20171005T085745Z
UID:24036-1508094000-1508094000@www.hamburg-city-webguide.de
SUMMARY:GREASE
DESCRIPTION:Röhrenjeans\, Pettycoats und Pmade in den Haaren – mit GREASE kehrt eines der erfolgreichsten Musicals zum 45-jährigen Bühnenjubiläum nach Deutschland zurück. Für zwei Wochen ist die Liebesgeschichte vom coolen Danny und der schüchternen Sandy im Mehr! Theater am Großmarkt zu sehen. \n \nFuriose Tanzszenen und Rock ’n‘ Roll Hits machen die Show zu einer unvergesslichen Bühnen-Party. \nTickets \nBericht zur Premiere \nRelated Images:
URL:https://www.hamburg-city-webguide.de/event/grease-16/
LOCATION:Mehr! Theater am Großmarkt\, Banksstraße 28\, Hamburg\, 20097
CATEGORIES:Alle Events,Musicals,Shows,Tanz
ATTACH;FMTTYPE=image/jpeg:https://www.hamburg-city-webguide.de/wp-content/uploads/2017/09/Grease_0018.jpg
END:VEVENT
END:VCALENDAR