BEGIN:VCALENDAR
VERSION:2.0
PRODID:-//HAMBURG CITY WEBGUIDE - ECPv6.15.20//NONSGML v1.0//EN
CALSCALE:GREGORIAN
METHOD:PUBLISH
X-ORIGINAL-URL:https://www.hamburg-city-webguide.de
X-WR-CALDESC:Veranstaltungen für HAMBURG CITY WEBGUIDE
REFRESH-INTERVAL;VALUE=DURATION:PT1H
X-Robots-Tag:noindex
X-PUBLISHED-TTL:PT1H
BEGIN:VTIMEZONE
TZID:Europe/Helsinki
BEGIN:DAYLIGHT
TZOFFSETFROM:+0200
TZOFFSETTO:+0300
TZNAME:EEST
DTSTART:20170326T010000
END:DAYLIGHT
BEGIN:STANDARD
TZOFFSETFROM:+0300
TZOFFSETTO:+0200
TZNAME:EET
DTSTART:20171029T010000
END:STANDARD
BEGIN:DAYLIGHT
TZOFFSETFROM:+0200
TZOFFSETTO:+0300
TZNAME:EEST
DTSTART:20180325T010000
END:DAYLIGHT
BEGIN:STANDARD
TZOFFSETFROM:+0300
TZOFFSETTO:+0200
TZNAME:EET
DTSTART:20181028T010000
END:STANDARD
BEGIN:DAYLIGHT
TZOFFSETFROM:+0200
TZOFFSETTO:+0300
TZNAME:EEST
DTSTART:20190331T010000
END:DAYLIGHT
BEGIN:STANDARD
TZOFFSETFROM:+0300
TZOFFSETTO:+0200
TZNAME:EET
DTSTART:20191027T010000
END:STANDARD
END:VTIMEZONE
BEGIN:VEVENT
DTSTART;TZID=Europe/Helsinki:20180814T193000
DTEND;TZID=Europe/Helsinki:20180902T193000
DTSTAMP:20260423T194922
CREATED:20150817T025917Z
LAST-MODIFIED:20180828T150408Z
UID:13268-1534275000-1535916600@www.hamburg-city-webguide.de
SUMMARY:MOTOWN - The Music Show
DESCRIPTION:Das im Jahr 1959 von Berry Gordy in Detroit gegründete Musiklabel Motown brachte mit Stars wie Marvin Gaye\, Stevie Wonder\, den Temptations oder den Jackson Five\, aus denen Michael Jackson hervorging\, zahlreiche Soullegenden hervor. Damit wurde es zu einem erfolgreichsten Label überhaupt und brachte afroamerikanische Musiker in den weißen Massenmarkt zu einer Zeit\, in der in den USA noch Rassentrennung herrschte. \n \nMit Songs wie „Papa was a Rolling Stone“ oder „My Girl“ bringt Kampnagel die musikalische Legende auf die Bühne. \n  \nTickets \nMotown – die Legende lebt \n \nRelated Images:
URL:https://www.hamburg-city-webguide.de/event/motown-eine-musikalische-begegnung/
LOCATION:St. Pauli Theater\, Spielbudenplatz 29 - 30\, Hamburg\, 20359
CATEGORIES:Alle Events,Musicals,Shows
ATTACH;FMTTYPE=image/jpeg:https://www.hamburg-city-webguide.de/wp-content/uploads/2015/08/Motown_4_David-Michael-Johnson-©-Dietrich-Dettmann.jpg
ORGANIZER;CN="Collien Konzert & Theater GmbH":MAILTO:info@collien.com
END:VEVENT
BEGIN:VEVENT
DTSTART;TZID=Europe/Helsinki:20180921T200000
DTEND;TZID=Europe/Helsinki:20181007T200000
DTSTAMP:20260423T194922
CREATED:20180131T183512Z
LAST-MODIFIED:20180902T202329Z
UID:26236-1537560000-1538942400@www.hamburg-city-webguide.de
SUMMARY:FLASHDANCE - The Musical
DESCRIPTION:Der Kultfilm FLASHDANCE feierte 1983 Premiere. Der Soundtrack mit Hits wie What a Feeling\, Maniac oder Gloria wurde 20 Millionen Mal verkauft. 2Entertain bringt nun die Geschichte von der Schweißerin „Alex“\, die ihren Traum verfolgt\, klassischen Tanz zu studieren\, auf die Bühne.  \n \nGrundlage ist eine schwedische Produktion\, die mit neuesten Multimedia-Techniken und modernisierten Tanzszenen auch das junge Publikum anspricht\, ohne den Flair der 80er Jahre zu verlieren. \nWhat a Feeling! FLASHDANCE Musical-Start im Herbst \n \nTickets \nRelated Images:
URL:https://www.hamburg-city-webguide.de/event/flashdance-the-musical/
LOCATION:Mehr! Theater am Großmarkt\, Banksstraße 28\, Hamburg\, 20097
CATEGORIES:Alle Events,Musicals,Tanz
ATTACH;FMTTYPE=image/jpeg:https://www.hamburg-city-webguide.de/wp-content/uploads/2018/01/Flashdance_0002.jpg
END:VEVENT
END:VCALENDAR