BEGIN:VCALENDAR
VERSION:2.0
PRODID:-//HAMBURG CITY WEBGUIDE - ECPv6.15.20//NONSGML v1.0//EN
CALSCALE:GREGORIAN
METHOD:PUBLISH
X-WR-CALNAME:HAMBURG CITY WEBGUIDE
X-ORIGINAL-URL:https://www.hamburg-city-webguide.de
X-WR-CALDESC:Veranstaltungen für HAMBURG CITY WEBGUIDE
REFRESH-INTERVAL;VALUE=DURATION:PT1H
X-Robots-Tag:noindex
X-PUBLISHED-TTL:PT1H
BEGIN:VTIMEZONE
TZID:Europe/Helsinki
BEGIN:DAYLIGHT
TZOFFSETFROM:+0200
TZOFFSETTO:+0300
TZNAME:EEST
DTSTART:20180325T010000
END:DAYLIGHT
BEGIN:STANDARD
TZOFFSETFROM:+0300
TZOFFSETTO:+0200
TZNAME:EET
DTSTART:20181028T010000
END:STANDARD
BEGIN:DAYLIGHT
TZOFFSETFROM:+0200
TZOFFSETTO:+0300
TZNAME:EEST
DTSTART:20190331T010000
END:DAYLIGHT
BEGIN:STANDARD
TZOFFSETFROM:+0300
TZOFFSETTO:+0200
TZNAME:EET
DTSTART:20191027T010000
END:STANDARD
BEGIN:DAYLIGHT
TZOFFSETFROM:+0200
TZOFFSETTO:+0300
TZNAME:EEST
DTSTART:20200329T010000
END:DAYLIGHT
BEGIN:STANDARD
TZOFFSETFROM:+0300
TZOFFSETTO:+0200
TZNAME:EET
DTSTART:20201025T010000
END:STANDARD
END:VTIMEZONE
BEGIN:VEVENT
DTSTART;VALUE=DATE:20190115
DTEND;VALUE=DATE:20190208
DTSTAMP:20260423T050536
CREATED:20150417T113814Z
LAST-MODIFIED:20180828T150042Z
UID:13298-1547510400-1549583999@www.hamburg-city-webguide.de
SUMMARY:DIRTY DANCING
DESCRIPTION:Die neue Bühnen-Show zu DIRTY DANCING\, einem der aufregendsten Tanzfilme aller Zeiten kommt für drei Wochen Nach Hamburg ins neue Mehr! Theater am Großmarkt. Sie zeigt den Erfolgsfilm frisch und leidenschaftlich inszeniert. \n \nDie berühmte Liebesgeschichte um die naive Teenagerin Frances „Baby“ Houseman und den charismatischen Showtänzer Johnny Castle lässt den Sommer ’63 im Ferienresort Kellerman’s in Catskill \, New York wieder lebendig werden . \nTickets \nRelated Images:
URL:https://www.hamburg-city-webguide.de/event/13298/
LOCATION:Mehr! Theater am Großmarkt\, Banksstraße 28\, Hamburg\, 20097
CATEGORIES:Alle Events,Musicals,Tanz
ATTACH;FMTTYPE=image/jpeg:https://www.hamburg-city-webguide.de/wp-content/uploads/2015/04/DD_KeyVisual_180x130_2014-10-13_RGB.jpg
END:VEVENT
BEGIN:VEVENT
DTSTART;TZID=Europe/Helsinki:20190213T193000
DTEND;TZID=Europe/Helsinki:20190213T193000
DTSTAMP:20260423T050536
CREATED:20181025T021554Z
LAST-MODIFIED:20190126T172201Z
UID:30501-1550086200-1550086200@www.hamburg-city-webguide.de
SUMMARY:Sherlock Holmes - Next Generation
DESCRIPTION:In dem Musical Sherlock Holmes – Next Generation kommt der Meisterdetektiv zusammen mit seinem Assistenten Dr. Watson mit einer Reihe neuer Fälle auf die Bühne. Nach dem Musical Erfolg von Rudi Reschke aus dem Jahr 2012 kämpfen die in die Jahre gekommenen Detektive in einem neuen Musicalthriller Seite an Seite mit einer neuen Generation  gegen das Böse. \n \nDabei muss Sherlock Holmes in eigener Sache ermitteln und ein Vermächtnis seiner einzigen Liebe Irene Adle auflösen. \nTickets \nSherlock Holmes geht in die Verlängerung \n \nRelated Images:
URL:https://www.hamburg-city-webguide.de/event/sherlock-holmes-next-generation-9/
LOCATION:First Stage Theater\, Thedestraße 15\, Hamburg\, 22767
CATEGORIES:Alle Events,Musicals
ATTACH;FMTTYPE=image/jpeg:https://www.hamburg-city-webguide.de/wp-content/uploads/2018/10/ethan-freeman-sherlock-merlin-fargel-john-c-stefan-wagner.jpg
END:VEVENT
BEGIN:VEVENT
DTSTART;TZID=Europe/Helsinki:20190214T193000
DTEND;TZID=Europe/Helsinki:20190214T193000
DTSTAMP:20260423T050536
CREATED:20181025T021749Z
LAST-MODIFIED:20190126T172049Z
UID:30503-1550172600-1550172600@www.hamburg-city-webguide.de
SUMMARY:Sherlock Holmes - Next Generation
DESCRIPTION:In dem Musical Sherlock Holmes – Next Generation kommt der Meisterdetektiv zusammen mit seinem Assistenten Dr. Watson mit einer Reihe neuer Fälle auf die Bühne. Nach dem Musical Erfolg von Rudi Reschke aus dem Jahr 2012 kämpfen die in die Jahre gekommenen Detektive in einem neuen Musicalthriller Seite an Seite mit einer neuen Generation  gegen das Böse. \n \nDabei muss Sherlock Holmes in eigener Sache ermitteln und ein Vermächtnis seiner einzigen Liebe Irene Adle auflösen. \nTickets \nSherlock Holmes geht in die Verlängerung \n \nRelated Images:
URL:https://www.hamburg-city-webguide.de/event/sherlock-holmes-next-generation-10/
LOCATION:First Stage Theater\, Thedestraße 15\, Hamburg\, 22767
CATEGORIES:Alle Events,Musicals
ATTACH;FMTTYPE=image/jpeg:https://www.hamburg-city-webguide.de/wp-content/uploads/2018/10/ethan-freeman-sherlock-merlin-fargel-john-c-stefan-wagner.jpg
END:VEVENT
BEGIN:VEVENT
DTSTART;TZID=Europe/Helsinki:20190215T193000
DTEND;TZID=Europe/Helsinki:20190215T193000
DTSTAMP:20260423T050536
CREATED:20181025T021929Z
LAST-MODIFIED:20190126T172001Z
UID:30505-1550259000-1550259000@www.hamburg-city-webguide.de
SUMMARY:Sherlock Holmes - Next Generation
DESCRIPTION:In dem Musical Sherlock Holmes – Next Generation kommt der Meisterdetektiv zusammen mit seinem Assistenten Dr. Watson mit einer Reihe neuer Fälle auf die Bühne. Nach dem Musical Erfolg von Rudi Reschke aus dem Jahr 2012 kämpfen die in die Jahre gekommenen Detektive in einem neuen Musicalthriller Seite an Seite mit einer neuen Generation  gegen das Böse. \n \nDabei muss Sherlock Holmes in eigener Sache ermitteln und ein Vermächtnis seiner einzigen Liebe Irene Adle auflösen. \nTickets \nSherlock Holmes geht in die Verlängerung \n \nRelated Images:
URL:https://www.hamburg-city-webguide.de/event/sherlock-holmes-next-generation-11/
LOCATION:First Stage Theater\, Thedestraße 15\, Hamburg\, 22767
CATEGORIES:Alle Events,Musicals
ATTACH;FMTTYPE=image/jpeg:https://www.hamburg-city-webguide.de/wp-content/uploads/2018/10/ethan-freeman-sherlock-merlin-fargel-john-c-stefan-wagner.jpg
END:VEVENT
BEGIN:VEVENT
DTSTART;TZID=Europe/Helsinki:20190216T193000
DTEND;TZID=Europe/Helsinki:20190216T193000
DTSTAMP:20260423T050536
CREATED:20181025T022145Z
LAST-MODIFIED:20190126T171915Z
UID:30507-1550345400-1550345400@www.hamburg-city-webguide.de
SUMMARY:Sherlock Holmes - Next Generation
DESCRIPTION:In dem Musical Sherlock Holmes – Next Generation kommt der Meisterdetektiv zusammen mit seinem Assistenten Dr. Watson mit einer Reihe neuer Fälle auf die Bühne. Nach dem Musical Erfolg von Rudi Reschke aus dem Jahr 2012 kämpfen die in die Jahre gekommenen Detektive in einem neuen Musicalthriller Seite an Seite mit einer neuen Generation  gegen das Böse. \n \nDabei muss Sherlock Holmes in eigener Sache ermitteln und ein Vermächtnis seiner einzigen Liebe Irene Adle auflösen. \nTickets \nSherlock Holmes geht in die Verlängerung \n \nRelated Images:
URL:https://www.hamburg-city-webguide.de/event/sherlock-holmes-next-generation-12/
LOCATION:First Stage Theater\, Thedestraße 15\, Hamburg\, 22767
CATEGORIES:Alle Events,Musicals
ATTACH;FMTTYPE=image/jpeg:https://www.hamburg-city-webguide.de/wp-content/uploads/2018/10/ethan-freeman-sherlock-merlin-fargel-john-c-stefan-wagner.jpg
END:VEVENT
BEGIN:VEVENT
DTSTART;TZID=Europe/Helsinki:20190227T193000
DTEND;TZID=Europe/Helsinki:20190227T193000
DTSTAMP:20260423T050536
CREATED:20181025T022331Z
LAST-MODIFIED:20190126T171817Z
UID:30509-1551295800-1551295800@www.hamburg-city-webguide.de
SUMMARY:Sherlock Holmes - Next Generation
DESCRIPTION:In dem Musical Sherlock Holmes – Next Generation kommt der Meisterdetektiv zusammen mit seinem Assistenten Dr. Watson mit einer Reihe neuer Fälle auf die Bühne. Nach dem Musical Erfolg von Rudi Reschke aus dem Jahr 2012 kämpfen die in die Jahre gekommenen Detektive in einem neuen Musicalthriller Seite an Seite mit einer neuen Generation  gegen das Böse. \n \nDabei muss Sherlock Holmes in eigener Sache ermitteln und ein Vermächtnis seiner einzigen Liebe Irene Adle auflösen. \nTickets \nSherlock Holmes geht in die Verlängerung \n \nRelated Images:
URL:https://www.hamburg-city-webguide.de/event/sherlock-holmes-next-generation-13/
LOCATION:First Stage Theater\, Thedestraße 15\, Hamburg\, 22767
CATEGORIES:Alle Events,Musicals
ATTACH;FMTTYPE=image/jpeg:https://www.hamburg-city-webguide.de/wp-content/uploads/2018/10/ethan-freeman-sherlock-merlin-fargel-john-c-stefan-wagner.jpg
END:VEVENT
BEGIN:VEVENT
DTSTART;TZID=Europe/Helsinki:20190228T193000
DTEND;TZID=Europe/Helsinki:20190228T193000
DTSTAMP:20260423T050536
CREATED:20181025T022509Z
LAST-MODIFIED:20190126T171724Z
UID:30511-1551382200-1551382200@www.hamburg-city-webguide.de
SUMMARY:Sherlock Holmes - Next Generation
DESCRIPTION:In dem Musical Sherlock Holmes – Next Generation kommt der Meisterdetektiv zusammen mit seinem Assistenten Dr. Watson mit einer Reihe neuer Fälle auf die Bühne. Nach dem Musical Erfolg von Rudi Reschke aus dem Jahr 2012 kämpfen die in die Jahre gekommenen Detektive in einem neuen Musicalthriller Seite an Seite mit einer neuen Generation  gegen das Böse. \n \nDabei muss Sherlock Holmes in eigener Sache ermitteln und ein Vermächtnis seiner einzigen Liebe Irene Adle auflösen. \nTickets \nSherlock Holmes geht in die Verlängerung \n \nRelated Images:
URL:https://www.hamburg-city-webguide.de/event/sherlock-holmes-next-generation-14/
LOCATION:First Stage Theater\, Thedestraße 15\, Hamburg\, 22767
CATEGORIES:Alle Events,Musicals
ATTACH;FMTTYPE=image/jpeg:https://www.hamburg-city-webguide.de/wp-content/uploads/2018/10/ethan-freeman-sherlock-merlin-fargel-john-c-stefan-wagner.jpg
END:VEVENT
END:VCALENDAR