BEGIN:VCALENDAR
VERSION:2.0
PRODID:-//HAMBURG CITY WEBGUIDE - ECPv6.15.20//NONSGML v1.0//EN
CALSCALE:GREGORIAN
METHOD:PUBLISH
X-ORIGINAL-URL:https://www.hamburg-city-webguide.de
X-WR-CALDESC:Veranstaltungen für HAMBURG CITY WEBGUIDE
REFRESH-INTERVAL;VALUE=DURATION:PT1H
X-Robots-Tag:noindex
X-PUBLISHED-TTL:PT1H
BEGIN:VTIMEZONE
TZID:Europe/Helsinki
BEGIN:DAYLIGHT
TZOFFSETFROM:+0200
TZOFFSETTO:+0300
TZNAME:EEST
DTSTART:20180325T010000
END:DAYLIGHT
BEGIN:STANDARD
TZOFFSETFROM:+0300
TZOFFSETTO:+0200
TZNAME:EET
DTSTART:20181028T010000
END:STANDARD
BEGIN:DAYLIGHT
TZOFFSETFROM:+0200
TZOFFSETTO:+0300
TZNAME:EEST
DTSTART:20190331T010000
END:DAYLIGHT
BEGIN:STANDARD
TZOFFSETFROM:+0300
TZOFFSETTO:+0200
TZNAME:EET
DTSTART:20191027T010000
END:STANDARD
BEGIN:DAYLIGHT
TZOFFSETFROM:+0200
TZOFFSETTO:+0300
TZNAME:EEST
DTSTART:20200329T010000
END:DAYLIGHT
BEGIN:STANDARD
TZOFFSETFROM:+0300
TZOFFSETTO:+0200
TZNAME:EET
DTSTART:20201025T010000
END:STANDARD
END:VTIMEZONE
BEGIN:VEVENT
DTSTART;TZID=Europe/Helsinki:20190401T193000
DTEND;TZID=Europe/Helsinki:20190401T193000
DTSTAMP:20260423T033541
CREATED:20190126T170523Z
LAST-MODIFIED:20190126T170523Z
UID:31772-1554147000-1554147000@www.hamburg-city-webguide.de
SUMMARY:Sherlock Holmes - Next Generation
DESCRIPTION:In dem Musical Sherlock Holmes – Next Generation kommt der Meisterdetektiv zusammen mit seinem Assistenten Dr. Watson mit einer Reihe neuer Fälle auf die Bühne. Nach dem Musical Erfolg von Rudi Reschke aus dem Jahr 2012 kämpfen die in die Jahre gekommenen Detektive in einem neuen Musicalthriller Seite an Seite mit einer neuen Generation  gegen das Böse. \n \nDabei muss Sherlock Holmes in eigener Sache ermitteln und ein Vermächtnis seiner einzigen Liebe Irene Adle auflösen. \nTickets \nFoto: ©First Stage Theater Hamburg \nSherlock Holmes geht in die Verlängerung \n \nRelated Images:
URL:https://www.hamburg-city-webguide.de/event/sherlock-holmes-next-generation-21/
LOCATION:First Stage Theater\, Thedestraße 15\, Hamburg\, 22767
CATEGORIES:Alle Events,Musicals
ATTACH;FMTTYPE=image/jpeg:https://www.hamburg-city-webguide.de/wp-content/uploads/2018/10/ethan-freeman-sherlock-merlin-fargel-john-c-stefan-wagner.jpg
END:VEVENT
BEGIN:VEVENT
DTSTART;TZID=Europe/Helsinki:20190402T080000
DTEND;TZID=Europe/Helsinki:20190402T170000
DTSTAMP:20260423T033541
CREATED:20190126T170711Z
LAST-MODIFIED:20190126T170711Z
UID:31774-1554192000-1554224400@www.hamburg-city-webguide.de
SUMMARY:Sherlock Holmes - Next Generation
DESCRIPTION:In dem Musical Sherlock Holmes – Next Generation kommt der Meisterdetektiv zusammen mit seinem Assistenten Dr. Watson mit einer Reihe neuer Fälle auf die Bühne. Nach dem Musical Erfolg von Rudi Reschke aus dem Jahr 2012 kämpfen die in die Jahre gekommenen Detektive in einem neuen Musicalthriller Seite an Seite mit einer neuen Generation  gegen das Böse. \n \nDabei muss Sherlock Holmes in eigener Sache ermitteln und ein Vermächtnis seiner einzigen Liebe Irene Adle auflösen. \nTickets \nFoto: ©First Stage Theater Hamburg \nSherlock Holmes geht in die Verlängerung \n \nRelated Images:
URL:https://www.hamburg-city-webguide.de/event/sherlock-holmes-next-generation-22/
LOCATION:First Stage Theater\, Thedestraße 15\, Hamburg\, 22767
CATEGORIES:Alle Events,Musicals
ATTACH;FMTTYPE=image/jpeg:https://www.hamburg-city-webguide.de/wp-content/uploads/2018/10/ethan-freeman-sherlock-merlin-fargel-john-c-stefan-wagner.jpg
END:VEVENT
BEGIN:VEVENT
DTSTART;TZID=Europe/Helsinki:20190402T200000
DTEND;TZID=Europe/Helsinki:20190402T200000
DTSTAMP:20260423T033541
CREATED:20190206T124409Z
LAST-MODIFIED:20190206T124409Z
UID:31966-1554235200-1554235200@www.hamburg-city-webguide.de
SUMMARY:BEAT IT
DESCRIPTION:Rund 350 Millionen verkaufte Tonträger und über 200 restlos ausverkaufte Stadien auf seinen drei Solo-Welttourneen machten Michael Jackson zum King of Pop. BEAT IT erzählt die Geschichte des legendären Muikers vom Kinderstar bis zu seinem tragischen Ende. \n \nMit der zweistündige Hommage von Erfolgsproduzent Oliver Forster feiert das Musical\, das im August 2018 im Theater am Potsdamer Platz Weltpremiere hatte\, auch den 60. Geburtstag Michael Jacksons. \nTickets \nRelated Images:
URL:https://www.hamburg-city-webguide.de/event/beat-it/
LOCATION:Mehr! Theater am Großmarkt\, Banksstraße 28\, Hamburg\, 20097
CATEGORIES:Alle Events,Musicals
END:VEVENT
BEGIN:VEVENT
DTSTART;TZID=Europe/Helsinki:20190403T193000
DTEND;TZID=Europe/Helsinki:20190403T193000
DTSTAMP:20260423T033541
CREATED:20190126T170903Z
LAST-MODIFIED:20190126T170903Z
UID:31776-1554319800-1554319800@www.hamburg-city-webguide.de
SUMMARY:Sherlock Holmes - Next Generation
DESCRIPTION:In dem Musical Sherlock Holmes – Next Generation kommt der Meisterdetektiv zusammen mit seinem Assistenten Dr. Watson mit einer Reihe neuer Fälle auf die Bühne. Nach dem Musical Erfolg von Rudi Reschke aus dem Jahr 2012 kämpfen die in die Jahre gekommenen Detektive in einem neuen Musicalthriller Seite an Seite mit einer neuen Generation  gegen das Böse. \n \nDabei muss Sherlock Holmes in eigener Sache ermitteln und ein Vermächtnis seiner einzigen Liebe Irene Adle auflösen. \nTickets \nFoto: ©First Stage Theater Hamburg \nSherlock Holmes geht in die Verlängerung \n \nRelated Images:
URL:https://www.hamburg-city-webguide.de/event/sherlock-holmes-next-generation-23/
LOCATION:First Stage Theater\, Thedestraße 15\, Hamburg\, 22767
CATEGORIES:Alle Events,Musicals
ATTACH;FMTTYPE=image/jpeg:https://www.hamburg-city-webguide.de/wp-content/uploads/2018/10/ethan-freeman-sherlock-merlin-fargel-john-c-stefan-wagner.jpg
END:VEVENT
BEGIN:VEVENT
DTSTART;TZID=Europe/Helsinki:20190404T193000
DTEND;TZID=Europe/Helsinki:20190404T193000
DTSTAMP:20260423T033541
CREATED:20190126T171044Z
LAST-MODIFIED:20190126T171044Z
UID:31778-1554406200-1554406200@www.hamburg-city-webguide.de
SUMMARY:Sherlock Holmes - Next Generation
DESCRIPTION:In dem Musical Sherlock Holmes – Next Generation kommt der Meisterdetektiv zusammen mit seinem Assistenten Dr. Watson mit einer Reihe neuer Fälle auf die Bühne. Nach dem Musical Erfolg von Rudi Reschke aus dem Jahr 2012 kämpfen die in die Jahre gekommenen Detektive in einem neuen Musicalthriller Seite an Seite mit einer neuen Generation  gegen das Böse. \n \nDabei muss Sherlock Holmes in eigener Sache ermitteln und ein Vermächtnis seiner einzigen Liebe Irene Adle auflösen. \nTickets \nFoto: ©First Stage Theater Hamburg \nSherlock Holmes geht in die Verlängerung \n \nRelated Images:
URL:https://www.hamburg-city-webguide.de/event/sherlock-holmes-next-generation-24/
LOCATION:First Stage Theater\, Thedestraße 15\, Hamburg\, 22767
CATEGORIES:Alle Events,Musicals
ATTACH;FMTTYPE=image/jpeg:https://www.hamburg-city-webguide.de/wp-content/uploads/2018/10/ethan-freeman-sherlock-merlin-fargel-john-c-stefan-wagner.jpg
END:VEVENT
BEGIN:VEVENT
DTSTART;TZID=Europe/Helsinki:20190405T193000
DTEND;TZID=Europe/Helsinki:20190405T193000
DTSTAMP:20260423T033541
CREATED:20190126T171245Z
LAST-MODIFIED:20221126T162639Z
UID:31780-1554492600-1554492600@www.hamburg-city-webguide.de
SUMMARY:Sherlock Holmes - Next Generation
DESCRIPTION:In dem Musical Sherlock Holmes – Next Generation kommt der Meisterdetektiv zusammen mit seinem Assistenten Dr. Watson mit einer Reihe neuer Fälle auf die Bühne. Nach dem Musical Erfolg von Rudi Reschke aus dem Jahr 2012 kämpfen die in die Jahre gekommenen Detektive in einem neuen Musicalthriller Seite an Seite mit einer neuen Generation  gegen das Böse.\n\n\n\nDabei muss Sherlock Holmes in eigener Sache ermitteln und ein Vermächtnis seiner einzigen Liebe Irene Adle auflösen.\n\nTickets\n\nFoto: ©First Stage Theater Hamburg\n\nSherlock Holmes geht in die Verlängerung\n\n\n\nRelated Images:
URL:https://www.hamburg-city-webguide.de/event/sherlock-holmes-next-generation-25/
LOCATION:First Stage Theater\, Thedestraße 15\, Hamburg\, 22767
CATEGORIES:Alle Events,Musicals
ATTACH;FMTTYPE=image/jpeg:https://www.hamburg-city-webguide.de/wp-content/uploads/2018/10/ethan-freeman-sherlock-merlin-fargel-john-c-stefan-wagner.jpg
END:VEVENT
BEGIN:VEVENT
DTSTART;TZID=Europe/Helsinki:20190412T200000
DTEND;TZID=Europe/Helsinki:20190412T200000
DTSTAMP:20260423T033541
CREATED:20190206T121425Z
LAST-MODIFIED:20190206T175513Z
UID:31956-1555099200-1555099200@www.hamburg-city-webguide.de
SUMMARY:Soy de Cuba
DESCRIPTION:Soy de Cuba entführt die Besucher mit einer Bühnenshow mitten ins pulsierende Leben Havannas.Vor der Kulisse der Stadt erzählt es die Geschichte der Tänzerin Ayala\, die von einer Karriere als Tänzerin träumt. \n \nGefühlvolle Gesangspassagen und feurige Tänze vor kubanischer Rhythmik bringen die Lebensfreude Cubas direkt auf die Bühne. \nTickets \nFoto: ©Frank Wiesen \nRelated Images:
URL:https://www.hamburg-city-webguide.de/event/soy-de-cuba/
CATEGORIES:Alle Events,Musicals,Tanz
ATTACH;FMTTYPE=image/jpeg:https://www.hamburg-city-webguide.de/wp-content/uploads/2019/02/soy-de-cuba-foto-04-credit-frank-wiesen-e1549475545355.jpg
END:VEVENT
END:VCALENDAR