BEGIN:VCALENDAR
VERSION:2.0
PRODID:-//HAMBURG CITY WEBGUIDE - ECPv6.15.20//NONSGML v1.0//EN
CALSCALE:GREGORIAN
METHOD:PUBLISH
X-WR-CALNAME:HAMBURG CITY WEBGUIDE
X-ORIGINAL-URL:https://www.hamburg-city-webguide.de
X-WR-CALDESC:Veranstaltungen für HAMBURG CITY WEBGUIDE
REFRESH-INTERVAL;VALUE=DURATION:PT1H
X-Robots-Tag:noindex
X-PUBLISHED-TTL:PT1H
BEGIN:VTIMEZONE
TZID:Europe/Helsinki
BEGIN:DAYLIGHT
TZOFFSETFROM:+0200
TZOFFSETTO:+0300
TZNAME:EEST
DTSTART:20220327T010000
END:DAYLIGHT
BEGIN:STANDARD
TZOFFSETFROM:+0300
TZOFFSETTO:+0200
TZNAME:EET
DTSTART:20221030T010000
END:STANDARD
BEGIN:DAYLIGHT
TZOFFSETFROM:+0200
TZOFFSETTO:+0300
TZNAME:EEST
DTSTART:20230326T010000
END:DAYLIGHT
BEGIN:STANDARD
TZOFFSETFROM:+0300
TZOFFSETTO:+0200
TZNAME:EET
DTSTART:20231029T010000
END:STANDARD
BEGIN:DAYLIGHT
TZOFFSETFROM:+0200
TZOFFSETTO:+0300
TZNAME:EEST
DTSTART:20240331T010000
END:DAYLIGHT
BEGIN:STANDARD
TZOFFSETFROM:+0300
TZOFFSETTO:+0200
TZNAME:EET
DTSTART:20241027T010000
END:STANDARD
END:VTIMEZONE
BEGIN:VEVENT
DTSTART;TZID=Europe/Helsinki:20230901T190000
DTEND;TZID=Europe/Helsinki:20230901T190000
DTSTAMP:20260423T152052
CREATED:20230828T000228Z
LAST-MODIFIED:20230828T000804Z
UID:46185-1693594800-1693594800@www.hamburg-city-webguide.de
SUMMARY:Helge Schneider
DESCRIPTION:Mit 65 Jahren er für die Rente viel zu jung. So zieht es den Komiker und genialen Musiker aus seinem „windschiefen Campingzelt“ in der Sierra Nevada wieder auf die Bühnen der Welt. Auch in diesem Jahr ist Helge Schneider auf dem Stadtpark Open Air zu sehen. \n\n\n\n\n\n\n\n\nTickets\n\n\n\n\n\n\n\n\n\n\n\nRelated Images:
URL:https://www.hamburg-city-webguide.de/event/46185/
CATEGORIES:Alle Events,Soul/Funk/Jazz
ORGANIZER;CN="Karsten Jahnke":MAILTO:info@kj.de
END:VEVENT
BEGIN:VEVENT
DTSTART;TZID=Europe/Helsinki:20230902T190000
DTEND;TZID=Europe/Helsinki:20230902T190000
DTSTAMP:20260423T152052
CREATED:20230828T000610Z
LAST-MODIFIED:20230828T000949Z
UID:46189-1693681200-1693681200@www.hamburg-city-webguide.de
SUMMARY:Helge Schneider
DESCRIPTION:Der letzte Torero\n\n\n\n\n\nMit 65 Jahren er für die Rente viel zu jung. So zieht es den Komiker und genialen Musiker aus seinem „windschiefen Campingzelt“ in der Sierra Nevada wieder auf die Bühnen der Welt. Auch in diesem Jahr ist Helge Schneider auf dem Stadtpark Open Air zu sehen. \n\n\n\n\n\n\n\n\nTickets\n\n\n\n\n\n\n\n\n\n\n\nRelated Images:
URL:https://www.hamburg-city-webguide.de/event/46189/
CATEGORIES:Alle Events,Soul/Funk/Jazz
ORGANIZER;CN="Karsten Jahnke":MAILTO:info@kj.de
END:VEVENT
END:VCALENDAR