BEGIN:VCALENDAR
VERSION:2.0
PRODID:-//HAMBURG CITY WEBGUIDE - ECPv6.15.20//NONSGML v1.0//EN
CALSCALE:GREGORIAN
METHOD:PUBLISH
X-WR-CALNAME:HAMBURG CITY WEBGUIDE
X-ORIGINAL-URL:https://www.hamburg-city-webguide.de
X-WR-CALDESC:Veranstaltungen für HAMBURG CITY WEBGUIDE
REFRESH-INTERVAL;VALUE=DURATION:PT1H
X-Robots-Tag:noindex
X-PUBLISHED-TTL:PT1H
BEGIN:VTIMEZONE
TZID:Europe/Helsinki
BEGIN:DAYLIGHT
TZOFFSETFROM:+0200
TZOFFSETTO:+0300
TZNAME:EEST
DTSTART:20230326T010000
END:DAYLIGHT
BEGIN:STANDARD
TZOFFSETFROM:+0300
TZOFFSETTO:+0200
TZNAME:EET
DTSTART:20231029T010000
END:STANDARD
BEGIN:DAYLIGHT
TZOFFSETFROM:+0200
TZOFFSETTO:+0300
TZNAME:EEST
DTSTART:20240331T010000
END:DAYLIGHT
BEGIN:STANDARD
TZOFFSETFROM:+0300
TZOFFSETTO:+0200
TZNAME:EET
DTSTART:20241027T010000
END:STANDARD
BEGIN:DAYLIGHT
TZOFFSETFROM:+0200
TZOFFSETTO:+0300
TZNAME:EEST
DTSTART:20250330T010000
END:DAYLIGHT
BEGIN:STANDARD
TZOFFSETFROM:+0300
TZOFFSETTO:+0200
TZNAME:EET
DTSTART:20251026T010000
END:STANDARD
END:VTIMEZONE
BEGIN:VEVENT
DTSTART;TZID=Europe/Helsinki:20240526T000000
DTEND;TZID=Europe/Helsinki:20240609T235959
DTSTAMP:20260422T052907
CREATED:20230607T043653Z
LAST-MODIFIED:20240416T150401Z
UID:45616-1716681600-1717977599@www.hamburg-city-webguide.de
SUMMARY:altonale
DESCRIPTION:Kultiges Stadtteilfestival\n\n\n\n\n\nDie altonale ist das größte Hamburger Kultur- und Stadtteilfestival in Hamburg. In diesem Jahr steht das Stadtteilfest  unter dem Motto „lokal – nachhaltig – international“. Eröffnet wird die altonale am 20. Juni im Altonaer Rathaus mit Filmbeiträgen\, Lesungen\, Tanz\, Performances\, Chansons und Live-Bands. Das Grand-Opening endet mit der altonale Sommernacht. \n\n\n\n\n\n\n\nAnschließend werden über zwei Wochen lang bekannte und unbekannte\, gewöhnliche und ungewöhnliche Orte in Altona mit Literatur\, Film\, Kunst\, Theater und Musik bespielt \n\n\n\n\n\n\n\n\n\n\nRelated Images:
URL:https://www.hamburg-city-webguide.de/event/altonale-2/
LOCATION:Ottenser Hauptstraße\, Ottenser Hauptstraße\, Hamburg\, 22765
CATEGORIES:Alle Events,Feste
END:VEVENT
END:VCALENDAR